Workbook

Sheet URL Table
A1: Week | B1: URL
A2: =ROW()-1 -> 1 | B2: ="https://api.sleeper.app/v1/league/"&Parameters!C$4&"/matchups/"&A2 -> https://api.sleeper.app/v1/league//matchups/1
A3: =ROW()-1 -> 2 | B3: ="https://api.sleeper.app/v1/league/"&Parameters!C$4&"/matchups/"&A3 -> https://api.sleeper.app/v1/league//matchups/2
A4: =ROW()-1 -> 3 | B4: ="https://api.sleeper.app/v1/league/"&Parameters!C$4&"/matchups/"&A4 -> https://api.sleeper.app/v1/league//matchups/3
A5: =ROW()-1 -> 4 | B5: ="https://api.sleeper.app/v1/league/"&Parameters!C$4&"/matchups/"&A5 -> https://api.sleeper.app/v1/league//matchups/4
A6: =ROW()-1 -> 5 | B6: ="https://api.sleeper.app/v1/league/"&Parameters!C$4&"/matchups/"&A6 -> https://api.sleeper.app/v1/league//matchups/5
A7: =ROW()-1 -> 6 | B7: ="https://api.sleeper.app/v1/league/"&Parameters!C$4&"/matchups/"&A7 -> https://api.sleeper.app/v1/league//matchups/6
A8: =ROW()-1 -> 7 | B8: ="https://api.sleeper.app/v1/league/"&Parameters!C$4&"/matchups/"&A8 -> https://api.sleeper.app/v1/league//matchups/7
A9: =ROW()-1 -> 8 | B9: ="https://api.sleeper.app/v1/league/"&Parameters!C$4&"/matchups/"&A9 -> https://api.sleeper.app/v1/league//matchups/8
A10: =ROW()-1 -> 9 | B10: ="https://api.sleeper.app/v1/league/"&Parameters!C$4&"/matchups/"&A10 -> https://api.sleeper.app/v1/league//matchups/9
A11: =ROW()-1 -> 10 | B11: ="https://api.sleeper.app/v1/league/"&Parameters!C$4&"/matchups/"&A11 -> https://api.sleeper.app/v1/league//matchups/10
A12: =ROW()-1 -> 11 | B12: ="https://api.sleeper.app/v1/league/"&Parameters!C$4&"/matchups/"&A12 -> https://api.sleeper.app/v1/league//matchups/11
A13: =ROW()-1 -> 12 | B13: ="https://api.sleeper.app/v1/league/"&Parameters!C$4&"/matchups/"&A13 -> https://api.sleeper.app/v1/league//matchups/12
... A19: =ROW()-1 -> 18 | B19: ="https://api.sleeper.app/v1/league/"&Parameters!C$4&"/matchups/"&A19 -> https://api.sleeper.app/v1/league//matchups/18

Sheet Parameters
C1: Hyzermetrics Sleeper API Regular Season Payout Tracker
C3: LeagueID | D3: Step 1 | K3: Regular Season Payouts
D4: <-- Enter League ID | K4: SleeperName | L4: Total | M4: ThruWeek
C6: WinPrize | D6: Step 2
C7: 4 | D7: <-- Enter prize for weekly winners
B9: Weekly Finish | C9: HighScorePrize | D9: Step 3
B10: 1 | C10: 5 | D10: <-- Enter weekly prize for each finish
B11: 2 | C11: 5
B12: 3 | C12: 0 | D12: Step 4
B13: 4 | C13: 0 | D13: Click Refresh All in the Data tab
B14: 5 | C14: 0
B15: 6 | C15: 0
B16: 7 | C16: 0
B17: 8 | C17: 0
B18: 9 | C18: 0
B19: 10 | C19: 0
B20: 11 | C20: 0
B21: 12 | C21: 0
B22: 13 | C22: 0
B23: 14 | C23: 0
B24: 15 | C24: 0
B25: 16 | C25: 0
