Workbook

Sheet Workouts
A1: Workout Date | B1: distance | C1: pctAverageHeartRateInZone | D1: averageSpeed | E1: Hours | F1: Minutes | G1: averageWattsPerHour | H1: totalCalories | I1: avgHeartRate | J1: avgRpm | K1: avgLevel | L1: Mins | M1: DaysBetween | N1: % Minutes | O1: Weighted avgSpeed | P1: Weighted avgLevel | Q1: Weighted avgRPM | R1: MonthYear | S1: MTD Calories | T1: MTD Workouts | U1: This Month | V1: Last Month | W1: Day | X1: Two Months Ago | Y1: Month Total | AC1: This Month | AD1: Last Month | AE1: Two months ago | AF1: Top Month
L2: =MyWorkout_Archive[[#This Row],[Hours]]*60+MyWorkout_Archive[[#This Row],[Minutes]] -> 0 | M2: =IF(A3-MyWorkout_Archive[[#This Row],[Workout Date]]>0,A3-MyWorkout_Archive[[#This Row],[Workout Date]]-1,NA()) -> #N/A | N2: =MyWorkout_Archive[[#This Row],[Minutes]]/SUM(F:F) -> #DIV/0! | O2: =MyWorkout_Archive[[#This Row],[% Minutes]]*MyWorkout_Archive[[#This Row],[averageSpeed]] -> #DIV/0! | P2: =MyWorkout_Archive[[#This Row],[% Minutes]]*MyWorkout_Archive[[#This Row],[avgLevel]] -> #DIV/0! | Q2: =MyWorkout_Archive[[#This Row],[% Minutes]]*MyWorkout_Archive[[#This Row],[avgRpm]] -> #DIV/0! | R2: =TEXT(MyWorkout_Archive[[#This Row],[Workout Date]],"mmm-yyyy") -> Jan-1900 | S2: =SUMIFS(H:H,R:R,MyWorkout_Archive[[#This Row],[MonthYear]],A:A,"<="&MyWorkout_Archive[[#This Row],[Workout Date]]) -> 0 | T2: =COUNTIFS(R:R,MyWorkout_Archive[[#This Row],[MonthYear]],A:A,"<="&MyWorkout_Archive[[#This Row],[Workout Date]]) -> 0 | U2: =AND(MONTH(MAX(A:A))=MONTH(MyWorkout_Archive[[#This Row],[Workout Date]]),YEAR(MAX(A:A))=YEAR(MyWorkout_Archive[[#This Row],[Workout Date]])) -> TRUE | V2: =IF(MONTH(MAX(A:A))>1,AND(MONTH(MAX(A:A))=MONTH(MyWorkout_Archive[[#This Row],[Workout Date]])+1,YEAR(MAX(A:A))=YEAR(MyWorkout_Archive[[#This Row],[Workout Date]])),AND(MONTH(MyWorkout_Archive[[#This Row],[Workout Date]])=12,YEAR(MyWorkout_Archive[[#This Row],[Workout Date]])+1=YEAR(MAX(A:A)))) -> FALSE | W2: =DAY(MyWorkout_Archive[[#This Row],[Workout Date]]) -> 0 | X2: =IF(AND(YEAR(MyWorkout_Archive[[#This Row],[Workout Date]])=YEAR(EDATE(MAX(A:A),-2)),MONTH(MyWorkout_Archive[[#This Row],[Workout Date]])=MONTH(EDATE(MAX(A:A),-2))),TRUE(),FALSE()) -> #NUM! | Y2: =SUMIFS(H:H,R:R,MyWorkout_Archive[[#This Row],[MonthYear]],U:U,FALSE()) -> 0 | AB2: 1 | AC2: =IF(DAY(MAX(A:A))>=AB2,_xlfn.MAXIFS(S:S,U:U,TRUE(),W:W,"<="&AB2),NA()) -> #N/A | AD2: =_xlfn.MAXIFS(S:S,V:V,TRUE(),W:W,"<="&AB2) -> 0 | AE2: =_xlfn.MAXIFS(S:S,X:X,TRUE(),W:W,"<="&AB2) -> 0 | AF2: =MAX(Y:Y) -> 0
L3: =MyWorkout_Archive[[#This Row],[Hours]]*60+MyWorkout_Archive[[#This Row],[Minutes]] -> 0 | M3: =IF(A4-MyWorkout_Archive[[#This Row],[Workout Date]]>0,A4-MyWorkout_Archive[[#This Row],[Workout Date]]-1,NA()) -> #N/A | N3: =MyWorkout_Archive[[#This Row],[Minutes]]/SUM(F:F) -> #DIV/0! | O3: =MyWorkout_Archive[[#This Row],[% Minutes]]*MyWorkout_Archive[[#This Row],[averageSpeed]] -> #DIV/0! | P3: =MyWorkout_Archive[[#This Row],[% Minutes]]*MyWorkout_Archive[[#This Row],[avgLevel]] -> #DIV/0! | Q3: =MyWorkout_Archive[[#This Row],[% Minutes]]*MyWorkout_Archive[[#This Row],[avgRpm]] -> #DIV/0! | R3: =TEXT(MyWorkout_Archive[[#This Row],[Workout Date]],"mmm-yyyy") -> Jan-1900 | S3: =SUMIFS(H:H,R:R,MyWorkout_Archive[[#This Row],[MonthYear]],A:A,"<="&MyWorkout_Archive[[#This Row],[Workout Date]]) -> 0 | T3: =COUNTIFS(R:R,MyWorkout_Archive[[#This Row],[MonthYear]],A:A,"<="&MyWorkout_Archive[[#This Row],[Workout Date]]) -> 0 | U3: =AND(MONTH(MAX(A:A))=MONTH(MyWorkout_Archive[[#This Row],[Workout Date]]),YEAR(MAX(A:A))=YEAR(MyWorkout_Archive[[#This Row],[Workout Date]])) -> TRUE | V3: =IF(MONTH(MAX(A:A))>1,AND(MONTH(MAX(A:A))=MONTH(MyWorkout_Archive[[#This Row],[Workout Date]])+1,YEAR(MAX(A:A))=YEAR(MyWorkout_Archive[[#This Row],[Workout Date]])),AND(MONTH(MyWorkout_Archive[[#This Row],[Workout Date]])=12,YEAR(MyWorkout_Archive[[#This Row],[Workout Date]])+1=YEAR(MAX(A:A)))) -> FALSE | W3: =DAY(MyWorkout_Archive[[#This Row],[Workout Date]]) -> 0 | X3: =IF(AND(YEAR(MyWorkout_Archive[[#This Row],[Workout Date]])=YEAR(EDATE(MAX(A:A),-2)),MONTH(MyWorkout_Archive[[#This Row],[Workout Date]])=MONTH(EDATE(MAX(A:A),-2))),TRUE(),FALSE()) -> #NUM! | Y3: =SUMIFS(H:H,R:R,MyWorkout_Archive[[#This Row],[MonthYear]],U:U,FALSE()) -> 0 | AB3: 2 | AC3: =IF(DAY(MAX(A:A))>=AB3,_xlfn.MAXIFS(S:S,U:U,TRUE(),W:W,"<="&AB3),NA()) -> #N/A | AD3: =_xlfn.MAXIFS(S:S,V:V,TRUE(),W:W,"<="&AB3) -> 0 | AE3: =_xlfn.MAXIFS(S:S,X:X,TRUE(),W:W,"<="&AB3) -> 0 | AF3: =MAX(Y:Y) -> 0
L4: =MyWorkout_Archive[[#This Row],[Hours]]*60+MyWorkout_Archive[[#This Row],[Minutes]] -> 0 | M4: =IF(A5-MyWorkout_Archive[[#This Row],[Workout Date]]>0,A5-MyWorkout_Archive[[#This Row],[Workout Date]]-1,NA()) -> #N/A | N4: =MyWorkout_Archive[[#This Row],[Minutes]]/SUM(F:F) -> #DIV/0! | O4: =MyWorkout_Archive[[#This Row],[% Minutes]]*MyWorkout_Archive[[#This Row],[averageSpeed]] -> #DIV/0! | P4: =MyWorkout_Archive[[#This Row],[% Minutes]]*MyWorkout_Archive[[#This Row],[avgLevel]] -> #DIV/0! | Q4: =MyWorkout_Archive[[#This Row],[% Minutes]]*MyWorkout_Archive[[#This Row],[avgRpm]] -> #DIV/0! | R4: =TEXT(MyWorkout_Archive[[#This Row],[Workout Date]],"mmm-yyyy") -> Jan-1900 | S4: =SUMIFS(H:H,R:R,MyWorkout_Archive[[#This Row],[MonthYear]],A:A,"<="&MyWorkout_Archive[[#This Row],[Workout Date]]) -> 0 | T4: =COUNTIFS(R:R,MyWorkout_Archive[[#This Row],[MonthYear]],A:A,"<="&MyWorkout_Archive[[#This Row],[Workout Date]]) -> 0 | U4: =AND(MONTH(MAX(A:A))=MONTH(MyWorkout_Archive[[#This Row],[Workout Date]]),YEAR(MAX(A:A))=YEAR(MyWorkout_Archive[[#This Row],[Workout Date]])) -> TRUE | V4: =IF(MONTH(MAX(A:A))>1,AND(MONTH(MAX(A:A))=MONTH(MyWorkout_Archive[[#This Row],[Workout Date]])+1,YEAR(MAX(A:A))=YEAR(MyWorkout_Archive[[#This Row],[Workout Date]])),AND(MONTH(MyWorkout_Archive[[#This Row],[Workout Date]])=12,YEAR(MyWorkout_Archive[[#This Row],[Workout Date]])+1=YEAR(MAX(A:A)))) -> FALSE | W4: =DAY(MyWorkout_Archive[[#This Row],[Workout Date]]) -> 0 | X4: =IF(AND(YEAR(MyWorkout_Archive[[#This Row],[Workout Date]])=YEAR(EDATE(MAX(A:A),-2)),MONTH(MyWorkout_Archive[[#This Row],[Workout Date]])=MONTH(EDATE(MAX(A:A),-2))),TRUE(),FALSE()) -> #NUM! | Y4: =SUMIFS(H:H,R:R,MyWorkout_Archive[[#This Row],[MonthYear]],U:U,FALSE()) -> 0 | AB4: 15 | AC4: =IF(DAY(MAX(A:A))>=AB4,_xlfn.MAXIFS(S:S,U:U,TRUE(),W:W,"<="&AB4),NA()) -> #N/A | AD4: =_xlfn.MAXIFS(S:S,V:V,TRUE(),W:W,"<="&AB4) -> 0 | AE4: =_xlfn.MAXIFS(S:S,X:X,TRUE(),W:W,"<="&AB4) -> 0 | AF4: =MAX(Y:Y) -> 0
L5: =MyWorkout_Archive[[#This Row],[Hours]]*60+MyWorkout_Archive[[#This Row],[Minutes]] -> 0 | M5: =IF(A6-MyWorkout_Archive[[#This Row],[Workout Date]]>0,A6-MyWorkout_Archive[[#This Row],[Workout Date]]-1,NA()) -> #N/A | N5: =MyWorkout_Archive[[#This Row],[Minutes]]/SUM(F:F) -> #DIV/0! | O5: =MyWorkout_Archive[[#This Row],[% Minutes]]*MyWorkout_Archive[[#This Row],[averageSpeed]] -> #DIV/0! | P5: =MyWorkout_Archive[[#This Row],[% Minutes]]*MyWorkout_Archive[[#This Row],[avgLevel]] -> #DIV/0! | Q5: =MyWorkout_Archive[[#This Row],[% Minutes]]*MyWorkout_Archive[[#This Row],[avgRpm]] -> #DIV/0! | R5: =TEXT(MyWorkout_Archive[[#This Row],[Workout Date]],"mmm-yyyy") -> Jan-1900 | S5: =SUMIFS(H:H,R:R,MyWorkout_Archive[[#This Row],[MonthYear]],A:A,"<="&MyWorkout_Archive[[#This Row],[Workout Date]]) -> 0 | T5: =COUNTIFS(R:R,MyWorkout_Archive[[#This Row],[MonthYear]],A:A,"<="&MyWorkout_Archive[[#This Row],[Workout Date]]) -> 0 | U5: =AND(MONTH(MAX(A:A))=MONTH(MyWorkout_Archive[[#This Row],[Workout Date]]),YEAR(MAX(A:A))=YEAR(MyWorkout_Archive[[#This Row],[Workout Date]])) -> TRUE | V5: =IF(MONTH(MAX(A:A))>1,AND(MONTH(MAX(A:A))=MONTH(MyWorkout_Archive[[#This Row],[Workout Date]])+1,YEAR(MAX(A:A))=YEAR(MyWorkout_Archive[[#This Row],[Workout Date]])),AND(MONTH(MyWorkout_Archive[[#This Row],[Workout Date]])=12,YEAR(MyWorkout_Archive[[#This Row],[Workout Date]])+1=YEAR(MAX(A:A)))) -> FALSE | W5: =DAY(MyWorkout_Archive[[#This Row],[Workout Date]]) -> 0 | X5: =IF(AND(YEAR(MyWorkout_Archive[[#This Row],[Workout Date]])=YEAR(EDATE(MAX(A:A),-2)),MONTH(MyWorkout_Archive[[#This Row],[Workout Date]])=MONTH(EDATE(MAX(A:A),-2))),TRUE(),FALSE()) -> #NUM! | Y5: =SUMIFS(H:H,R:R,MyWorkout_Archive[[#This Row],[MonthYear]],U:U,FALSE()) -> 0
L6: =MyWorkout_Archive[[#This Row],[Hours]]*60+MyWorkout_Archive[[#This Row],[Minutes]] -> 0 | M6: =IF(A7-MyWorkout_Archive[[#This Row],[Workout Date]]>0,A7-MyWorkout_Archive[[#This Row],[Workout Date]]-1,NA()) -> #N/A | N6: =MyWorkout_Archive[[#This Row],[Minutes]]/SUM(F:F) -> #DIV/0! | O6: =MyWorkout_Archive[[#This Row],[% Minutes]]*MyWorkout_Archive[[#This Row],[averageSpeed]] -> #DIV/0! | P6: =MyWorkout_Archive[[#This Row],[% Minutes]]*MyWorkout_Archive[[#This Row],[avgLevel]] -> #DIV/0! | Q6: =MyWorkout_Archive[[#This Row],[% Minutes]]*MyWorkout_Archive[[#This Row],[avgRpm]] -> #DIV/0! | R6: =TEXT(MyWorkout_Archive[[#This Row],[Workout Date]],"mmm-yyyy") -> Jan-1900 | S6: =SUMIFS(H:H,R:R,MyWorkout_Archive[[#This Row],[MonthYear]],A:A,"<="&MyWorkout_Archive[[#This Row],[Workout Date]]) -> 0 | T6: =COUNTIFS(R:R,MyWorkout_Archive[[#This Row],[MonthYear]],A:A,"<="&MyWorkout_Archive[[#This Row],[Workout Date]]) -> 0 | U6: =AND(MONTH(MAX(A:A))=MONTH(MyWorkout_Archive[[#This Row],[Workout Date]]),YEAR(MAX(A:A))=YEAR(MyWorkout_Archive[[#This Row],[Workout Date]])) -> TRUE | V6: =IF(MONTH(MAX(A:A))>1,AND(MONTH(MAX(A:A))=MONTH(MyWorkout_Archive[[#This Row],[Workout Date]])+1,YEAR(MAX(A:A))=YEAR(MyWorkout_Archive[[#This Row],[Workout Date]])),AND(MONTH(MyWorkout_Archive[[#This Row],[Workout Date]])=12,YEAR(MyWorkout_Archive[[#This Row],[Workout Date]])+1=YEAR(MAX(A:A)))) -> FALSE | W6: =DAY(MyWorkout_Archive[[#This Row],[Workout Date]]) -> 0 | X6: =IF(AND(YEAR(MyWorkout_Archive[[#This Row],[Workout Date]])=YEAR(EDATE(MAX(A:A),-2)),MONTH(MyWorkout_Archive[[#This Row],[Workout Date]])=MONTH(EDATE(MAX(A:A),-2))),TRUE(),FALSE()) -> #NUM! | Y6: =SUMIFS(H:H,R:R,MyWorkout_Archive[[#This Row],[MonthYear]],U:U,FALSE()) -> 0
L7: =MyWorkout_Archive[[#This Row],[Hours]]*60+MyWorkout_Archive[[#This Row],[Minutes]] -> 0 | M7: =IF(A8-MyWorkout_Archive[[#This Row],[Workout Date]]>0,A8-MyWorkout_Archive[[#This Row],[Workout Date]]-1,NA()) -> #N/A | N7: =MyWorkout_Archive[[#This Row],[Minutes]]/SUM(F:F) -> #DIV/0! | O7: =MyWorkout_Archive[[#This Row],[% Minutes]]*MyWorkout_Archive[[#This Row],[averageSpeed]] -> #DIV/0! | P7: =MyWorkout_Archive[[#This Row],[% Minutes]]*MyWorkout_Archive[[#This Row],[avgLevel]] -> #DIV/0! | Q7: =MyWorkout_Archive[[#This Row],[% Minutes]]*MyWorkout_Archive[[#This Row],[avgRpm]] -> #DIV/0! | R7: =TEXT(MyWorkout_Archive[[#This Row],[Workout Date]],"mmm-yyyy") -> Jan-1900 | S7: =SUMIFS(H:H,R:R,MyWorkout_Archive[[#This Row],[MonthYear]],A:A,"<="&MyWorkout_Archive[[#This Row],[Workout Date]]) -> 0 | T7: =COUNTIFS(R:R,MyWorkout_Archive[[#This Row],[MonthYear]],A:A,"<="&MyWorkout_Archive[[#This Row],[Workout Date]]) -> 0 | U7: =AND(MONTH(MAX(A:A))=MONTH(MyWorkout_Archive[[#This Row],[Workout Date]]),YEAR(MAX(A:A))=YEAR(MyWorkout_Archive[[#This Row],[Workout Date]])) -> TRUE | V7: =IF(MONTH(MAX(A:A))>1,AND(MONTH(MAX(A:A))=MONTH(MyWorkout_Archive[[#This Row],[Workout Date]])+1,YEAR(MAX(A:A))=YEAR(MyWorkout_Archive[[#This Row],[Workout Date]])),AND(MONTH(MyWorkout_Archive[[#This Row],[Workout Date]])=12,YEAR(MyWorkout_Archive[[#This Row],[Workout Date]])+1=YEAR(MAX(A:A)))) -> FALSE | W7: =DAY(MyWorkout_Archive[[#This Row],[Workout Date]]) -> 0 | X7: =IF(AND(YEAR(MyWorkout_Archive[[#This Row],[Workout Date]])=YEAR(EDATE(MAX(A:A),-2)),MONTH(MyWorkout_Archive[[#This Row],[Workout Date]])=MONTH(EDATE(MAX(A:A),-2))),TRUE(),FALSE()) -> #NUM! | Y7: =SUMIFS(H:H,R:R,MyWorkout_Archive[[#This Row],[MonthYear]],U:U,FALSE()) -> 0
L8: =MyWorkout_Archive[[#This Row],[Hours]]*60+MyWorkout_Archive[[#This Row],[Minutes]] -> 0 | M8: =IF(A9-MyWorkout_Archive[[#This Row],[Workout Date]]>0,A9-MyWorkout_Archive[[#This Row],[Workout Date]]-1,NA()) -> #N/A | N8: =MyWorkout_Archive[[#This Row],[Minutes]]/SUM(F:F) -> #DIV/0! | O8: =MyWorkout_Archive[[#This Row],[% Minutes]]*MyWorkout_Archive[[#This Row],[averageSpeed]] -> #DIV/0! | P8: =MyWorkout_Archive[[#This Row],[% Minutes]]*MyWorkout_Archive[[#This Row],[avgLevel]] -> #DIV/0! | Q8: =MyWorkout_Archive[[#This Row],[% Minutes]]*MyWorkout_Archive[[#This Row],[avgRpm]] -> #DIV/0! | R8: =TEXT(MyWorkout_Archive[[#This Row],[Workout Date]],"mmm-yyyy") -> Jan-1900 | S8: =SUMIFS(H:H,R:R,MyWorkout_Archive[[#This Row],[MonthYear]],A:A,"<="&MyWorkout_Archive[[#This Row],[Workout Date]]) -> 0 | T8: =COUNTIFS(R:R,MyWorkout_Archive[[#This Row],[MonthYear]],A:A,"<="&MyWorkout_Archive[[#This Row],[Workout Date]]) -> 0 | U8: =AND(MONTH(MAX(A:A))=MONTH(MyWorkout_Archive[[#This Row],[Workout Date]]),YEAR(MAX(A:A))=YEAR(MyWorkout_Archive[[#This Row],[Workout Date]])) -> TRUE | V8: =IF(MONTH(MAX(A:A))>1,AND(MONTH(MAX(A:A))=MONTH(MyWorkout_Archive[[#This Row],[Workout Date]])+1,YEAR(MAX(A:A))=YEAR(MyWorkout_Archive[[#This Row],[Workout Date]])),AND(MONTH(MyWorkout_Archive[[#This Row],[Workout Date]])=12,YEAR(MyWorkout_Archive[[#This Row],[Workout Date]])+1=YEAR(MAX(A:A)))) -> FALSE | W8: =DAY(MyWorkout_Archive[[#This Row],[Workout Date]]) -> 0 | X8: =IF(AND(YEAR(MyWorkout_Archive[[#This Row],[Workout Date]])=YEAR(EDATE(MAX(A:A),-2)),MONTH(MyWorkout_Archive[[#This Row],[Workout Date]])=MONTH(EDATE(MAX(A:A),-2))),TRUE(),FALSE()) -> #NUM! | Y8: =SUMIFS(H:H,R:R,MyWorkout_Archive[[#This Row],[MonthYear]],U:U,FALSE()) -> 0
L9: =MyWorkout_Archive[[#This Row],[Hours]]*60+MyWorkout_Archive[[#This Row],[Minutes]] -> 0 | M9: =IF(A10-MyWorkout_Archive[[#This Row],[Workout Date]]>0,A10-MyWorkout_Archive[[#This Row],[Workout Date]]-1,NA()) -> #N/A | N9: =MyWorkout_Archive[[#This Row],[Minutes]]/SUM(F:F) -> #DIV/0! | O9: =MyWorkout_Archive[[#This Row],[% Minutes]]*MyWorkout_Archive[[#This Row],[averageSpeed]] -> #DIV/0! | P9: =MyWorkout_Archive[[#This Row],[% Minutes]]*MyWorkout_Archive[[#This Row],[avgLevel]] -> #DIV/0! | Q9: =MyWorkout_Archive[[#This Row],[% Minutes]]*MyWorkout_Archive[[#This Row],[avgRpm]] -> #DIV/0! | R9: =TEXT(MyWorkout_Archive[[#This Row],[Workout Date]],"mmm-yyyy") -> Jan-1900 | S9: =SUMIFS(H:H,R:R,MyWorkout_Archive[[#This Row],[MonthYear]],A:A,"<="&MyWorkout_Archive[[#This Row],[Workout Date]]) -> 0 | T9: =COUNTIFS(R:R,MyWorkout_Archive[[#This Row],[MonthYear]],A:A,"<="&MyWorkout_Archive[[#This Row],[Workout Date]]) -> 0 | U9: =AND(MONTH(MAX(A:A))=MONTH(MyWorkout_Archive[[#This Row],[Workout Date]]),YEAR(MAX(A:A))=YEAR(MyWorkout_Archive[[#This Row],[Workout Date]])) -> TRUE | V9: =IF(MONTH(MAX(A:A))>1,AND(MONTH(MAX(A:A))=MONTH(MyWorkout_Archive[[#This Row],[Workout Date]])+1,YEAR(MAX(A:A))=YEAR(MyWorkout_Archive[[#This Row],[Workout Date]])),AND(MONTH(MyWorkout_Archive[[#This Row],[Workout Date]])=12,YEAR(MyWorkout_Archive[[#This Row],[Workout Date]])+1=YEAR(MAX(A:A)))) -> FALSE | W9: =DAY(MyWorkout_Archive[[#This Row],[Workout Date]]) -> 0 | X9: =IF(AND(YEAR(MyWorkout_Archive[[#This Row],[Workout Date]])=YEAR(EDATE(MAX(A:A),-2)),MONTH(MyWorkout_Archive[[#This Row],[Workout Date]])=MONTH(EDATE(MAX(A:A),-2))),TRUE(),FALSE()) -> #NUM! | Y9: =SUMIFS(H:H,R:R,MyWorkout_Archive[[#This Row],[MonthYear]],U:U,FALSE()) -> 0
L10: =MyWorkout_Archive[[#This Row],[Hours]]*60+MyWorkout_Archive[[#This Row],[Minutes]] -> 0 | M10: =IF(A11-MyWorkout_Archive[[#This Row],[Workout Date]]>0,A11-MyWorkout_Archive[[#This Row],[Workout Date]]-1,NA()) -> #N/A | N10: =MyWorkout_Archive[[#This Row],[Minutes]]/SUM(F:F) -> #DIV/0! | O10: =MyWorkout_Archive[[#This Row],[% Minutes]]*MyWorkout_Archive[[#This Row],[averageSpeed]] -> #DIV/0! | P10: =MyWorkout_Archive[[#This Row],[% Minutes]]*MyWorkout_Archive[[#This Row],[avgLevel]] -> #DIV/0! | Q10: =MyWorkout_Archive[[#This Row],[% Minutes]]*MyWorkout_Archive[[#This Row],[avgRpm]] -> #DIV/0! | R10: =TEXT(MyWorkout_Archive[[#This Row],[Workout Date]],"mmm-yyyy") -> Jan-1900 | S10: =SUMIFS(H:H,R:R,MyWorkout_Archive[[#This Row],[MonthYear]],A:A,"<="&MyWorkout_Archive[[#This Row],[Workout Date]]) -> 0 | T10: =COUNTIFS(R:R,MyWorkout_Archive[[#This Row],[MonthYear]],A:A,"<="&MyWorkout_Archive[[#This Row],[Workout Date]]) -> 0 | U10: =AND(MONTH(MAX(A:A))=MONTH(MyWorkout_Archive[[#This Row],[Workout Date]]),YEAR(MAX(A:A))=YEAR(MyWorkout_Archive[[#This Row],[Workout Date]])) -> TRUE | V10: =IF(MONTH(MAX(A:A))>1,AND(MONTH(MAX(A:A))=MONTH(MyWorkout_Archive[[#This Row],[Workout Date]])+1,YEAR(MAX(A:A))=YEAR(MyWorkout_Archive[[#This Row],[Workout Date]])),AND(MONTH(MyWorkout_Archive[[#This Row],[Workout Date]])=12,YEAR(MyWorkout_Archive[[#This Row],[Workout Date]])+1=YEAR(MAX(A:A)))) -> FALSE | W10: =DAY(MyWorkout_Archive[[#This Row],[Workout Date]]) -> 0 | X10: =IF(AND(YEAR(MyWorkout_Archive[[#This Row],[Workout Date]])=YEAR(EDATE(MAX(A:A),-2)),MONTH(MyWorkout_Archive[[#This Row],[Workout Date]])=MONTH(EDATE(MAX(A:A),-2))),TRUE(),FALSE()) -> #NUM! | Y10: =SUMIFS(H:H,R:R,MyWorkout_Archive[[#This Row],[MonthYear]],U:U,FALSE()) -> 0
L11: =MyWorkout_Archive[[#This Row],[Hours]]*60+MyWorkout_Archive[[#This Row],[Minutes]] -> 0 | M11: =IF(A12-MyWorkout_Archive[[#This Row],[Workout Date]]>0,A12-MyWorkout_Archive[[#This Row],[Workout Date]]-1,NA()) -> #N/A | N11: =MyWorkout_Archive[[#This Row],[Minutes]]/SUM(F:F) -> #DIV/0! | O11: =MyWorkout_Archive[[#This Row],[% Minutes]]*MyWorkout_Archive[[#This Row],[averageSpeed]] -> #DIV/0! | P11: =MyWorkout_Archive[[#This Row],[% Minutes]]*MyWorkout_Archive[[#This Row],[avgLevel]] -> #DIV/0! | Q11: =MyWorkout_Archive[[#This Row],[% Minutes]]*MyWorkout_Archive[[#This Row],[avgRpm]] -> #DIV/0! | R11: =TEXT(MyWorkout_Archive[[#This Row],[Workout Date]],"mmm-yyyy") -> Jan-1900 | S11: =SUMIFS(H:H,R:R,MyWorkout_Archive[[#This Row],[MonthYear]],A:A,"<="&MyWorkout_Archive[[#This Row],[Workout Date]]) -> 0 | T11: =COUNTIFS(R:R,MyWorkout_Archive[[#This Row],[MonthYear]],A:A,"<="&MyWorkout_Archive[[#This Row],[Workout Date]]) -> 0 | U11: =AND(MONTH(MAX(A:A))=MONTH(MyWorkout_Archive[[#This Row],[Workout Date]]),YEAR(MAX(A:A))=YEAR(MyWorkout_Archive[[#This Row],[Workout Date]])) -> TRUE | V11: =IF(MONTH(MAX(A:A))>1,AND(MONTH(MAX(A:A))=MONTH(MyWorkout_Archive[[#This Row],[Workout Date]])+1,YEAR(MAX(A:A))=YEAR(MyWorkout_Archive[[#This Row],[Workout Date]])),AND(MONTH(MyWorkout_Archive[[#This Row],[Workout Date]])=12,YEAR(MyWorkout_Archive[[#This Row],[Workout Date]])+1=YEAR(MAX(A:A)))) -> FALSE | W11: =DAY(MyWorkout_Archive[[#This Row],[Workout Date]]) -> 0 | X11: =IF(AND(YEAR(MyWorkout_Archive[[#This Row],[Workout Date]])=YEAR(EDATE(MAX(A:A),-2)),MONTH(MyWorkout_Archive[[#This Row],[Workout Date]])=MONTH(EDATE(MAX(A:A),-2))),TRUE(),FALSE()) -> #NUM! | Y11: =SUMIFS(H:H,R:R,MyWorkout_Archive[[#This Row],[MonthYear]],U:U,FALSE()) -> 0
L12: =MyWorkout_Archive[[#This Row],[Hours]]*60+MyWorkout_Archive[[#This Row],[Minutes]] -> 0 | M12: =IF(A13-MyWorkout_Archive[[#This Row],[Workout Date]]>0,A13-MyWorkout_Archive[[#This Row],[Workout Date]]-1,NA()) -> #N/A | N12: =MyWorkout_Archive[[#This Row],[Minutes]]/SUM(F:F) -> #DIV/0! | O12: =MyWorkout_Archive[[#This Row],[% Minutes]]*MyWorkout_Archive[[#This Row],[averageSpeed]] -> #DIV/0! | P12: =MyWorkout_Archive[[#This Row],[% Minutes]]*MyWorkout_Archive[[#This Row],[avgLevel]] -> #DIV/0! | Q12: =MyWorkout_Archive[[#This Row],[% Minutes]]*MyWorkout_Archive[[#This Row],[avgRpm]] -> #DIV/0! | R12: =TEXT(MyWorkout_Archive[[#This Row],[Workout Date]],"mmm-yyyy") -> Jan-1900 | S12: =SUMIFS(H:H,R:R,MyWorkout_Archive[[#This Row],[MonthYear]],A:A,"<="&MyWorkout_Archive[[#This Row],[Workout Date]]) -> 0 | T12: =COUNTIFS(R:R,MyWorkout_Archive[[#This Row],[MonthYear]],A:A,"<="&MyWorkout_Archive[[#This Row],[Workout Date]]) -> 0 | U12: =AND(MONTH(MAX(A:A))=MONTH(MyWorkout_Archive[[#This Row],[Workout Date]]),YEAR(MAX(A:A))=YEAR(MyWorkout_Archive[[#This Row],[Workout Date]])) -> TRUE | V12: =IF(MONTH(MAX(A:A))>1,AND(MONTH(MAX(A:A))=MONTH(MyWorkout_Archive[[#This Row],[Workout Date]])+1,YEAR(MAX(A:A))=YEAR(MyWorkout_Archive[[#This Row],[Workout Date]])),AND(MONTH(MyWorkout_Archive[[#This Row],[Workout Date]])=12,YEAR(MyWorkout_Archive[[#This Row],[Workout Date]])+1=YEAR(MAX(A:A)))) -> FALSE | W12: =DAY(MyWorkout_Archive[[#This Row],[Workout Date]]) -> 0 | X12: =IF(AND(YEAR(MyWorkout_Archive[[#This Row],[Workout Date]])=YEAR(EDATE(MAX(A:A),-2)),MONTH(MyWorkout_Archive[[#This Row],[Workout Date]])=MONTH(EDATE(MAX(A:A),-2))),TRUE(),FALSE()) -> #NUM! | Y12: =SUMIFS(H:H,R:R,MyWorkout_Archive[[#This Row],[MonthYear]],U:U,FALSE()) -> 0
L13: =MyWorkout_Archive[[#This Row],[Hours]]*60+MyWorkout_Archive[[#This Row],[Minutes]] -> 0 | M13: =IF(A14-MyWorkout_Archive[[#This Row],[Workout Date]]>0,A14-MyWorkout_Archive[[#This Row],[Workout Date]]-1,NA()) -> #N/A | N13: =MyWorkout_Archive[[#This Row],[Minutes]]/SUM(F:F) -> #DIV/0! | O13: =MyWorkout_Archive[[#This Row],[% Minutes]]*MyWorkout_Archive[[#This Row],[averageSpeed]] -> #DIV/0! | P13: =MyWorkout_Archive[[#This Row],[% Minutes]]*MyWorkout_Archive[[#This Row],[avgLevel]] -> #DIV/0! | Q13: =MyWorkout_Archive[[#This Row],[% Minutes]]*MyWorkout_Archive[[#This Row],[avgRpm]] -> #DIV/0! | R13: =TEXT(MyWorkout_Archive[[#This Row],[Workout Date]],"mmm-yyyy") -> Jan-1900 | S13: =SUMIFS(H:H,R:R,MyWorkout_Archive[[#This Row],[MonthYear]],A:A,"<="&MyWorkout_Archive[[#This Row],[Workout Date]]) -> 0 | T13: =COUNTIFS(R:R,MyWorkout_Archive[[#This Row],[MonthYear]],A:A,"<="&MyWorkout_Archive[[#This Row],[Workout Date]]) -> 0 | U13: =AND(MONTH(MAX(A:A))=MONTH(MyWorkout_Archive[[#This Row],[Workout Date]]),YEAR(MAX(A:A))=YEAR(MyWorkout_Archive[[#This Row],[Workout Date]])) -> TRUE | V13: =IF(MONTH(MAX(A:A))>1,AND(MONTH(MAX(A:A))=MONTH(MyWorkout_Archive[[#This Row],[Workout Date]])+1,YEAR(MAX(A:A))=YEAR(MyWorkout_Archive[[#This Row],[Workout Date]])),AND(MONTH(MyWorkout_Archive[[#This Row],[Workout Date]])=12,YEAR(MyWorkout_Archive[[#This Row],[Workout Date]])+1=YEAR(MAX(A:A)))) -> FALSE | W13: =DAY(MyWorkout_Archive[[#This Row],[Workout Date]]) -> 0 | X13: =IF(AND(YEAR(MyWorkout_Archive[[#This Row],[Workout Date]])=YEAR(EDATE(MAX(A:A),-2)),MONTH(MyWorkout_Archive[[#This Row],[Workout Date]])=MONTH(EDATE(MAX(A:A),-2))),TRUE(),FALSE()) -> #NUM! | Y13: =SUMIFS(H:H,R:R,MyWorkout_Archive[[#This Row],[MonthYear]],U:U,FALSE()) -> 0
L14: =MyWorkout_Archive[[#This Row],[Hours]]*60+MyWorkout_Archive[[#This Row],[Minutes]] -> 0 | M14: =IF(A15-MyWorkout_Archive[[#This Row],[Workout Date]]>0,A15-MyWorkout_Archive[[#This Row],[Workout Date]]-1,NA()) -> #N/A | N14: =MyWorkout_Archive[[#This Row],[Minutes]]/SUM(F:F) -> #DIV/0! | O14: =MyWorkout_Archive[[#This Row],[% Minutes]]*MyWorkout_Archive[[#This Row],[averageSpeed]] -> #DIV/0! | P14: =MyWorkout_Archive[[#This Row],[% Minutes]]*MyWorkout_Archive[[#This Row],[avgLevel]] -> #DIV/0! | Q14: =MyWorkout_Archive[[#This Row],[% Minutes]]*MyWorkout_Archive[[#This Row],[avgRpm]] -> #DIV/0! | R14: =TEXT(MyWorkout_Archive[[#This Row],[Workout Date]],"mmm-yyyy") -> Jan-1900 | S14: =SUMIFS(H:H,R:R,MyWorkout_Archive[[#This Row],[MonthYear]],A:A,"<="&MyWorkout_Archive[[#This Row],[Workout Date]]) -> 0 | T14: =COUNTIFS(R:R,MyWorkout_Archive[[#This Row],[MonthYear]],A:A,"<="&MyWorkout_Archive[[#This Row],[Workout Date]]) -> 0 | U14: =AND(MONTH(MAX(A:A))=MONTH(MyWorkout_Archive[[#This Row],[Workout Date]]),YEAR(MAX(A:A))=YEAR(MyWorkout_Archive[[#This Row],[Workout Date]])) -> TRUE | V14: =IF(MONTH(MAX(A:A))>1,AND(MONTH(MAX(A:A))=MONTH(MyWorkout_Archive[[#This Row],[Workout Date]])+1,YEAR(MAX(A:A))=YEAR(MyWorkout_Archive[[#This Row],[Workout Date]])),AND(MONTH(MyWorkout_Archive[[#This Row],[Workout Date]])=12,YEAR(MyWorkout_Archive[[#This Row],[Workout Date]])+1=YEAR(MAX(A:A)))) -> FALSE | W14: =DAY(MyWorkout_Archive[[#This Row],[Workout Date]]) -> 0 | X14: =IF(AND(YEAR(MyWorkout_Archive[[#This Row],[Workout Date]])=YEAR(EDATE(MAX(A:A),-2)),MONTH(MyWorkout_Archive[[#This Row],[Workout Date]])=MONTH(EDATE(MAX(A:A),-2))),TRUE(),FALSE()) -> #NUM! | Y14: =SUMIFS(H:H,R:R,MyWorkout_Archive[[#This Row],[MonthYear]],U:U,FALSE()) -> 0
L15: =MyWorkout_Archive[[#This Row],[Hours]]*60+MyWorkout_Archive[[#This Row],[Minutes]] -> 0 | M15: =IF(A16-MyWorkout_Archive[[#This Row],[Workout Date]]>0,A16-MyWorkout_Archive[[#This Row],[Workout Date]]-1,NA()) -> #N/A | N15: =MyWorkout_Archive[[#This Row],[Minutes]]/SUM(F:F) -> #DIV/0! | O15: =MyWorkout_Archive[[#This Row],[% Minutes]]*MyWorkout_Archive[[#This Row],[averageSpeed]] -> #DIV/0! | P15: =MyWorkout_Archive[[#This Row],[% Minutes]]*MyWorkout_Archive[[#This Row],[avgLevel]] -> #DIV/0! | Q15: =MyWorkout_Archive[[#This Row],[% Minutes]]*MyWorkout_Archive[[#This Row],[avgRpm]] -> #DIV/0! | R15: =TEXT(MyWorkout_Archive[[#This Row],[Workout Date]],"mmm-yyyy") -> Jan-1900 | S15: =SUMIFS(H:H,R:R,MyWorkout_Archive[[#This Row],[MonthYear]],A:A,"<="&MyWorkout_Archive[[#This Row],[Workout Date]]) -> 0 | T15: =COUNTIFS(R:R,MyWorkout_Archive[[#This Row],[MonthYear]],A:A,"<="&MyWorkout_Archive[[#This Row],[Workout Date]]) -> 0 | U15: =AND(MONTH(MAX(A:A))=MONTH(MyWorkout_Archive[[#This Row],[Workout Date]]),YEAR(MAX(A:A))=YEAR(MyWorkout_Archive[[#This Row],[Workout Date]])) -> TRUE | V15: =IF(MONTH(MAX(A:A))>1,AND(MONTH(MAX(A:A))=MONTH(MyWorkout_Archive[[#This Row],[Workout Date]])+1,YEAR(MAX(A:A))=YEAR(MyWorkout_Archive[[#This Row],[Workout Date]])),AND(MONTH(MyWorkout_Archive[[#This Row],[Workout Date]])=12,YEAR(MyWorkout_Archive[[#This Row],[Workout Date]])+1=YEAR(MAX(A:A)))) -> FALSE | W15: =DAY(MyWorkout_Archive[[#This Row],[Workout Date]]) -> 0 | X15: =IF(AND(YEAR(MyWorkout_Archive[[#This Row],[Workout Date]])=YEAR(EDATE(MAX(A:A),-2)),MONTH(MyWorkout_Archive[[#This Row],[Workout Date]])=MONTH(EDATE(MAX(A:A),-2))),TRUE(),FALSE()) -> #NUM! | Y15: =SUMIFS(H:H,R:R,MyWorkout_Archive[[#This Row],[MonthYear]],U:U,FALSE()) -> 0

Sheet Workout Dashboard
B1: Totals | E1: Averages | H1: Weighted Averages | K1: Max Workouts | L1: Max | M1: Frequency | O1: Top Month
B2: Minutes | C2: =SUM(Workouts!L:L) -> 0 | E2: Minutes | F2: =IFERROR(AVERAGE(Workouts!L:L),0) -> 0 | H2: Speed | I2: =IFERROR(SUM(Workouts!O:O),"") | K2: Time | L2: =MAX(Workouts!L:L) -> 0 | M2: =IF(L2=0,0,COUNTIFS(Workouts!L:L,'Workout Dashboard'!L2)) -> 0 | O2: =IF(L2=0,"",INDEX(Workouts!R:R,MATCH(Workouts!AF2,Workouts!Y:Y,0),1))
B3: Miles | C3: =SUM(Workouts!B:B) -> 0 | E3: Miles | F3: =IFERROR(AVERAGE(Workouts!B:B),0) -> 0 | H3: RPM | I3: =IFERROR(SUM(Workouts!Q:Q),"") | K3: Miles | L3: =MAX(MyWorkout_Archive[distance]) -> 0 | M3: =COUNTIFS(Workouts!B:B,'Workout Dashboard'!L3) -> 0
B4: Calories | C4: =SUM(Workouts!H:H) -> 0 | E4: Calories | F4: =IFERROR(C4/C5,0) -> 0 | H4: Level | I4: =IFERROR(SUM(Workouts!P:P),"") | K4: Calories | L4: =MAX(Workouts!H:H) -> 0 | M4: =COUNTIFS(Workouts!H:H,'Workout Dashboard'!L4) -> 0
B5: Workouts | C5: =COUNTA(Workouts!A:A)-1 -> 0 | E5: Days Between | F5: =IFERROR(SUMIFS(Workouts!M:M,Workouts!M:M,">"&0)/COUNTIFS(Workouts!M:M,">"&0),"")

Sheet Instructions
A1: Welcome to the Hyzermetrics Workout Dashboard!
A2: This tracker will work for the Nautilus U616 bike
A3: 1) Save this spreadsheet to your desktop. Create a Workout Archive folder on your desktop as well. Save the SAMPLE DATA as .csv into the newly created folder.
A4: 2) Go to the Workout Dashboard tab and click Data -> Refresh All. You should see sample stats and charts generated.
A11: 3) Use the Export to USB feature on the bike to export your workout data to a flash drive. The file will be a .DAT file on the USB.
A12: 4) Open the .dat file in a notebook editor or similar
A13: 5) Save into the Workout Archive folder as a .csv file with the naming convention shown in the screenshot (it's helpful to note the date at the end of the file).
A19: 6) Delete the Sample Data file from the Workout Archive Folder
A20: 7) Go to Sheet1 of this document and click Data -> Refresh All to see your workout trends!
A21: 8) Whenever you want to update the charts and stats on the Workout Dashboard simply use the Export to USB feature on the bike to override the .DAT file
A22: 9) Re-save the .csv file using a similar naming convention as the original file, adjusting the name to reflect the date. No need to delete old files.
A23: 10) Click Data -> Refresh and enjoy!

Sheet FilePath
B1: FileName
B2: =LEFT(CELL("filename",$A$1),FIND("[",CELL("filename",$A$1),1)-1) -> C:\Users\joshg\Desktop\MyWorkouts Post\
