Workbook

Sheet Head2Head
A1: Events in Common | E1: ='Player 1 Name'!A2 -> Richard Wysocki | F1: ='Player 2 Name'!A2 -> Paul McBeth
A2: Event Name | B2: Date
A3: =IF(ISNA(INDEX(INDIRECT("'Player 1 Rounds'!q1:q"&MATCH(2,'Player 1 Rounds'!E:E,0)),MATCH(TRUE(),INDIRECT("'Player 1 Rounds'!J1:J"&MATCH(2,'Player 1 Rounds'!E:E,0)),0),1))=TRUE(),"",INDEX(INDIRECT("'Player 1 Rounds'!q1:q"&MATCH(2,'Player 1 Rounds'!E:E,0)),MATCH(TRUE(),INDIRECT("'Player 1 Rounds'!J1:J"&MATCH(2,'Player 1 Rounds'!E:E,0)),0),1)) -> 2012 PDGA Professional Disc Golf World Championships | B3: =IF(ISERROR(INDEX('Player 1 Rounds'!O:O,MATCH(Head2Head!A3,'Player 1 Rounds'!Q:Q,0)))=TRUE,"",INDEX('Player 1 Rounds'!O:O,MATCH(Head2Head!A3,'Player 1 Rounds'!Q:Q,0))) -> 41104 | E3: Same Event Any Division(s)
A4: =IF(ISNA(MATCH(IF(ISNA(INDEX(INDIRECT("'Player 1 Rounds'!q"&MATCH(A3,'Player 1 Rounds'!Q:Q,0)+1&":q"&-1+MATCH(2,'Player 1 Rounds'!E:E,0)),MATCH(TRUE(),INDIRECT("'Player 1 Rounds'!J"&MATCH(A3,'Player 1 Rounds'!Q:Q,0)+1&":J"&-1+MATCH(2,'Player 1 Rounds'!E:E,0)),0),1))=TRUE(),"",INDEX(INDIRECT("'Player 1 Rounds'!q"&MATCH(A3,'Player 1 Rounds'!Q:Q,0)+1&":q"&-1+MATCH(2,'Player 1 Rounds'!E:E,0)),MATCH(TRUE(),INDIRECT("'Player 1 Rounds'!J"&MATCH(A3,'Player 1 Rounds'!Q:Q,0)+1&":J"&-1+MATCH(2,'Player 1 Rounds'!E:E,0)),0),1)),A$3:A3,0))=TRUE(),IF(ISNA(INDEX(INDIRECT("'Player 1 Rounds'!q"&MATCH(A3,'Player 1 Rounds'!Q:Q,0)+1&":q"&-1+MATCH(2,'Player 1 Rounds'!E:E,0)),MATCH(TRUE(),INDIRECT("'Player 1 Rounds'!J"&MATCH(A3,'Player 1 Rounds'!Q:Q,0)+1&":J"&-1+MATCH(2,'Player 1 Rounds'!E:E,0)),0),1))=TRUE(),"",INDEX(INDIRECT("'Player 1 Rounds'!q"&MATCH(A3,'Player 1 Rounds'!Q:Q,0)+1&":q"&-1+MATCH(2,'Player 1 Rounds'!E:E,0)),MATCH(TRUE(),INDIRECT("'Player 1 Rounds'!J"&MATCH(A3,'Player 1 Rounds'!Q:Q,0)+1&":J"&-1+MATCH(2,'Player 1 Rounds'!E:E,0)),0),1)),"") -> 2012 Scholl's Bicycle Centers Pittsburgh Flying Disc Open | B4: =IF(ISERROR(INDEX('Player 1 Rounds'!O:O,MATCH(Head2Head!A4,'Player 1 Rounds'!Q:Q,0)))=TRUE,"",INDEX('Player 1 Rounds'!O:O,MATCH(Head2Head!A4,'Player 1 Rounds'!Q:Q,0))) -> 41118 | D4: # Events in common | E4: =COUNTIFS('Player 1 Rounds'!J:J,TRUE(),'Player 1 Rounds'!E:E,1) -> 181
A5: =IF(ISNA(MATCH(IF(ISNA(INDEX(INDIRECT("'Player 1 Rounds'!q"&MATCH(A4,'Player 1 Rounds'!Q:Q,0)+1&":q"&-1+MATCH(2,'Player 1 Rounds'!E:E,0)),MATCH(TRUE(),INDIRECT("'Player 1 Rounds'!J"&MATCH(A4,'Player 1 Rounds'!Q:Q,0)+1&":J"&-1+MATCH(2,'Player 1 Rounds'!E:E,0)),0),1))=TRUE(),"",INDEX(INDIRECT("'Player 1 Rounds'!q"&MATCH(A4,'Player 1 Rounds'!Q:Q,0)+1&":q"&-1+MATCH(2,'Player 1 Rounds'!E:E,0)),MATCH(TRUE(),INDIRECT("'Player 1 Rounds'!J"&MATCH(A4,'Player 1 Rounds'!Q:Q,0)+1&":J"&-1+MATCH(2,'Player 1 Rounds'!E:E,0)),0),1)),A$3:A4,0))=TRUE(),IF(ISNA(INDEX(INDIRECT("'Player 1 Rounds'!q"&MATCH(A4,'Player 1 Rounds'!Q:Q,0)+1&":q"&-1+MATCH(2,'Player 1 Rounds'!E:E,0)),MATCH(TRUE(),INDIRECT("'Player 1 Rounds'!J"&MATCH(A4,'Player 1 Rounds'!Q:Q,0)+1&":J"&-1+MATCH(2,'Player 1 Rounds'!E:E,0)),0),1))=TRUE(),"",INDEX(INDIRECT("'Player 1 Rounds'!q"&MATCH(A4,'Player 1 Rounds'!Q:Q,0)+1&":q"&-1+MATCH(2,'Player 1 Rounds'!E:E,0)),MATCH(TRUE(),INDIRECT("'Player 1 Rounds'!J"&MATCH(A4,'Player 1 Rounds'!Q:Q,0)+1&":J"&-1+MATCH(2,'Player 1 Rounds'!E:E,0)),0),1)),"") -> 2017 DGPT - Vibram Open | B5: =IF(ISERROR(INDEX('Player 1 Rounds'!O:O,MATCH(Head2Head!A5,'Player 1 Rounds'!Q:Q,0)))=TRUE,"",INDEX('Player 1 Rounds'!O:O,MATCH(Head2Head!A5,'Player 1 Rounds'!Q:Q,0))) -> 42978 | D5: Event Commonality | E5: =COUNTIFS('Player 1 Rounds'!J:J,TRUE(),'Player 1 Rounds'!E:E,1)/COUNTIFS('Player 1 Rounds'!E:E,1) -> 0.48918919 | F5: =COUNTIFS('Player 2 Rounds'!J:J,TRUE(),'Player 2 Rounds'!E:E,1)/COUNTIFS('Player 2 Rounds'!E:E,1) -> 0.47883598
A6: =IF(ISNA(MATCH(IF(ISNA(INDEX(INDIRECT("'Player 1 Rounds'!q"&MATCH(A5,'Player 1 Rounds'!Q:Q,0)+1&":q"&-1+MATCH(2,'Player 1 Rounds'!E:E,0)),MATCH(TRUE(),INDIRECT("'Player 1 Rounds'!J"&MATCH(A5,'Player 1 Rounds'!Q:Q,0)+1&":J"&-1+MATCH(2,'Player 1 Rounds'!E:E,0)),0),1))=TRUE(),"",INDEX(INDIRECT("'Player 1 Rounds'!q"&MATCH(A5,'Player 1 Rounds'!Q:Q,0)+1&":q"&-1+MATCH(2,'Player 1 Rounds'!E:E,0)),MATCH(TRUE(),INDIRECT("'Player 1 Rounds'!J"&MATCH(A5,'Player 1 Rounds'!Q:Q,0)+1&":J"&-1+MATCH(2,'Player 1 Rounds'!E:E,0)),0),1)),A$3:A5,0))=TRUE(),IF(ISNA(INDEX(INDIRECT("'Player 1 Rounds'!q"&MATCH(A5,'Player 1 Rounds'!Q:Q,0)+1&":q"&-1+MATCH(2,'Player 1 Rounds'!E:E,0)),MATCH(TRUE(),INDIRECT("'Player 1 Rounds'!J"&MATCH(A5,'Player 1 Rounds'!Q:Q,0)+1&":J"&-1+MATCH(2,'Player 1 Rounds'!E:E,0)),0),1))=TRUE(),"",INDEX(INDIRECT("'Player 1 Rounds'!q"&MATCH(A5,'Player 1 Rounds'!Q:Q,0)+1&":q"&-1+MATCH(2,'Player 1 Rounds'!E:E,0)),MATCH(TRUE(),INDIRECT("'Player 1 Rounds'!J"&MATCH(A5,'Player 1 Rounds'!Q:Q,0)+1&":J"&-1+MATCH(2,'Player 1 Rounds'!E:E,0)),0),1)),"") -> 2017 Ed Headrick Disc Golf Hall of Fame Classic presented by ProActive Sports Disc Golf - National Tour Finale | B6: =IF(ISERROR(INDEX('Player 1 Rounds'!O:O,MATCH(Head2Head!A6,'Player 1 Rounds'!Q:Q,0)))=TRUE,"",INDEX('Player 1 Rounds'!O:O,MATCH(Head2Head!A6,'Player 1 Rounds'!Q:Q,0))) -> 43021 | D6: Common Event Avg Round Rating | E6: =IF(ISERROR(AVERAGEIFS('Player 1 Rounds'!G:G,'Player 1 Rounds'!J:J,TRUE()))=TRUE(),0,AVERAGEIFS('Player 1 Rounds'!G:G,'Player 1 Rounds'!J:J,TRUE())) -> 1044.0663 | F6: =IF(ISERROR(AVERAGEIFS('Player 2 Rounds'!G:G,'Player 2 Rounds'!J:J,TRUE()))=TRUE(),0,AVERAGEIFS('Player 2 Rounds'!G:G,'Player 2 Rounds'!J:J,TRUE())) -> 1048.2558
A7: =IF(ISNA(MATCH(IF(ISNA(INDEX(INDIRECT("'Player 1 Rounds'!q"&MATCH(A6,'Player 1 Rounds'!Q:Q,0)+1&":q"&-1+MATCH(2,'Player 1 Rounds'!E:E,0)),MATCH(TRUE(),INDIRECT("'Player 1 Rounds'!J"&MATCH(A6,'Player 1 Rounds'!Q:Q,0)+1&":J"&-1+MATCH(2,'Player 1 Rounds'!E:E,0)),0),1))=TRUE(),"",INDEX(INDIRECT("'Player 1 Rounds'!q"&MATCH(A6,'Player 1 Rounds'!Q:Q,0)+1&":q"&-1+MATCH(2,'Player 1 Rounds'!E:E,0)),MATCH(TRUE(),INDIRECT("'Player 1 Rounds'!J"&MATCH(A6,'Player 1 Rounds'!Q:Q,0)+1&":J"&-1+MATCH(2,'Player 1 Rounds'!E:E,0)),0),1)),A$3:A6,0))=TRUE(),IF(ISNA(INDEX(INDIRECT("'Player 1 Rounds'!q"&MATCH(A6,'Player 1 Rounds'!Q:Q,0)+1&":q"&-1+MATCH(2,'Player 1 Rounds'!E:E,0)),MATCH(TRUE(),INDIRECT("'Player 1 Rounds'!J"&MATCH(A6,'Player 1 Rounds'!Q:Q,0)+1&":J"&-1+MATCH(2,'Player 1 Rounds'!E:E,0)),0),1))=TRUE(),"",INDEX(INDIRECT("'Player 1 Rounds'!q"&MATCH(A6,'Player 1 Rounds'!Q:Q,0)+1&":q"&-1+MATCH(2,'Player 1 Rounds'!E:E,0)),MATCH(TRUE(),INDIRECT("'Player 1 Rounds'!J"&MATCH(A6,'Player 1 Rounds'!Q:Q,0)+1&":J"&-1+MATCH(2,'Player 1 Rounds'!E:E,0)),0),1)),"") -> 2017 Discraft's Green Mountain Championship | B7: =IF(ISERROR(INDEX('Player 1 Rounds'!O:O,MATCH(Head2Head!A7,'Player 1 Rounds'!Q:Q,0)))=TRUE,"",INDEX('Player 1 Rounds'!O:O,MATCH(Head2Head!A7,'Player 1 Rounds'!Q:Q,0))) -> 42991 | D7: First Common Event | E7: =IF(YEAR(MIN(B3:B436))>1950,MIN(B3:B436),"") -> 40457
A8: =IF(ISNA(MATCH(IF(ISNA(INDEX(INDIRECT("'Player 1 Rounds'!q"&MATCH(A7,'Player 1 Rounds'!Q:Q,0)+1&":q"&-1+MATCH(2,'Player 1 Rounds'!E:E,0)),MATCH(TRUE(),INDIRECT("'Player 1 Rounds'!J"&MATCH(A7,'Player 1 Rounds'!Q:Q,0)+1&":J"&-1+MATCH(2,'Player 1 Rounds'!E:E,0)),0),1))=TRUE(),"",INDEX(INDIRECT("'Player 1 Rounds'!q"&MATCH(A7,'Player 1 Rounds'!Q:Q,0)+1&":q"&-1+MATCH(2,'Player 1 Rounds'!E:E,0)),MATCH(TRUE(),INDIRECT("'Player 1 Rounds'!J"&MATCH(A7,'Player 1 Rounds'!Q:Q,0)+1&":J"&-1+MATCH(2,'Player 1 Rounds'!E:E,0)),0),1)),A$3:A7,0))=TRUE(),IF(ISNA(INDEX(INDIRECT("'Player 1 Rounds'!q"&MATCH(A7,'Player 1 Rounds'!Q:Q,0)+1&":q"&-1+MATCH(2,'Player 1 Rounds'!E:E,0)),MATCH(TRUE(),INDIRECT("'Player 1 Rounds'!J"&MATCH(A7,'Player 1 Rounds'!Q:Q,0)+1&":J"&-1+MATCH(2,'Player 1 Rounds'!E:E,0)),0),1))=TRUE(),"",INDEX(INDIRECT("'Player 1 Rounds'!q"&MATCH(A7,'Player 1 Rounds'!Q:Q,0)+1&":q"&-1+MATCH(2,'Player 1 Rounds'!E:E,0)),MATCH(TRUE(),INDIRECT("'Player 1 Rounds'!J"&MATCH(A7,'Player 1 Rounds'!Q:Q,0)+1&":J"&-1+MATCH(2,'Player 1 Rounds'!E:E,0)),0),1)),"") -> 2017 European Open | B8: =IF(ISERROR(INDEX('Player 1 Rounds'!O:O,MATCH(Head2Head!A8,'Player 1 Rounds'!Q:Q,0)))=TRUE,"",INDEX('Player 1 Rounds'!O:O,MATCH(Head2Head!A8,'Player 1 Rounds'!Q:Q,0))) -> 42936 | D8: Most Recent (through last ratings update) | E8: =IF(YEAR(MAX(B3:B436))>1950,MAX(B3:B436),"") -> 44826
A9: =IF(ISNA(MATCH(IF(ISNA(INDEX(INDIRECT("'Player 1 Rounds'!q"&MATCH(A8,'Player 1 Rounds'!Q:Q,0)+1&":q"&-1+MATCH(2,'Player 1 Rounds'!E:E,0)),MATCH(TRUE(),INDIRECT("'Player 1 Rounds'!J"&MATCH(A8,'Player 1 Rounds'!Q:Q,0)+1&":J"&-1+MATCH(2,'Player 1 Rounds'!E:E,0)),0),1))=TRUE(),"",INDEX(INDIRECT("'Player 1 Rounds'!q"&MATCH(A8,'Player 1 Rounds'!Q:Q,0)+1&":q"&-1+MATCH(2,'Player 1 Rounds'!E:E,0)),MATCH(TRUE(),INDIRECT("'Player 1 Rounds'!J"&MATCH(A8,'Player 1 Rounds'!Q:Q,0)+1&":J"&-1+MATCH(2,'Player 1 Rounds'!E:E,0)),0),1)),A$3:A8,0))=TRUE(),IF(ISNA(INDEX(INDIRECT("'Player 1 Rounds'!q"&MATCH(A8,'Player 1 Rounds'!Q:Q,0)+1&":q"&-1+MATCH(2,'Player 1 Rounds'!E:E,0)),MATCH(TRUE(),INDIRECT("'Player 1 Rounds'!J"&MATCH(A8,'Player 1 Rounds'!Q:Q,0)+1&":J"&-1+MATCH(2,'Player 1 Rounds'!E:E,0)),0),1))=TRUE(),"",INDEX(INDIRECT("'Player 1 Rounds'!q"&MATCH(A8,'Player 1 Rounds'!Q:Q,0)+1&":q"&-1+MATCH(2,'Player 1 Rounds'!E:E,0)),MATCH(TRUE(),INDIRECT("'Player 1 Rounds'!J"&MATCH(A8,'Player 1 Rounds'!Q:Q,0)+1&":J"&-1+MATCH(2,'Player 1 Rounds'!E:E,0)),0),1)),"") -> 2012 Vibram Open | B9: =IF(ISERROR(INDEX('Player 1 Rounds'!O:O,MATCH(Head2Head!A9,'Player 1 Rounds'!Q:Q,0)))=TRUE,"",INDEX('Player 1 Rounds'!O:O,MATCH(Head2Head!A9,'Player 1 Rounds'!Q:Q,0))) -> 41137 | E9: Same Event & Same Division
A10: =IF(ISNA(MATCH(IF(ISNA(INDEX(INDIRECT("'Player 1 Rounds'!q"&MATCH(A9,'Player 1 Rounds'!Q:Q,0)+1&":q"&-1+MATCH(2,'Player 1 Rounds'!E:E,0)),MATCH(TRUE(),INDIRECT("'Player 1 Rounds'!J"&MATCH(A9,'Player 1 Rounds'!Q:Q,0)+1&":J"&-1+MATCH(2,'Player 1 Rounds'!E:E,0)),0),1))=TRUE(),"",INDEX(INDIRECT("'Player 1 Rounds'!q"&MATCH(A9,'Player 1 Rounds'!Q:Q,0)+1&":q"&-1+MATCH(2,'Player 1 Rounds'!E:E,0)),MATCH(TRUE(),INDIRECT("'Player 1 Rounds'!J"&MATCH(A9,'Player 1 Rounds'!Q:Q,0)+1&":J"&-1+MATCH(2,'Player 1 Rounds'!E:E,0)),0),1)),A$3:A9,0))=TRUE(),IF(ISNA(INDEX(INDIRECT("'Player 1 Rounds'!q"&MATCH(A9,'Player 1 Rounds'!Q:Q,0)+1&":q"&-1+MATCH(2,'Player 1 Rounds'!E:E,0)),MATCH(TRUE(),INDIRECT("'Player 1 Rounds'!J"&MATCH(A9,'Player 1 Rounds'!Q:Q,0)+1&":J"&-1+MATCH(2,'Player 1 Rounds'!E:E,0)),0),1))=TRUE(),"",INDEX(INDIRECT("'Player 1 Rounds'!q"&MATCH(A9,'Player 1 Rounds'!Q:Q,0)+1&":q"&-1+MATCH(2,'Player 1 Rounds'!E:E,0)),MATCH(TRUE(),INDIRECT("'Player 1 Rounds'!J"&MATCH(A9,'Player 1 Rounds'!Q:Q,0)+1&":J"&-1+MATCH(2,'Player 1 Rounds'!E:E,0)),0),1)),"") -> 2017 Prodiscus Estonian Open - EPT#4 | B10: =IF(ISERROR(INDEX('Player 1 Rounds'!O:O,MATCH(Head2Head!A10,'Player 1 Rounds'!Q:Q,0)))=TRUE,"",INDEX('Player 1 Rounds'!O:O,MATCH(Head2Head!A10,'Player 1 Rounds'!Q:Q,0))) -> 42930 | D10: # Events in common | E10: =COUNTIFS('Player 1 Rounds'!J:J,TRUE(),'Player 1 Rounds'!E:E,1,'Player 1 Rounds'!K:K,TRUE()) -> 181
A11: =IF(ISNA(MATCH(IF(ISNA(INDEX(INDIRECT("'Player 1 Rounds'!q"&MATCH(A10,'Player 1 Rounds'!Q:Q,0)+1&":q"&-1+MATCH(2,'Player 1 Rounds'!E:E,0)),MATCH(TRUE(),INDIRECT("'Player 1 Rounds'!J"&MATCH(A10,'Player 1 Rounds'!Q:Q,0)+1&":J"&-1+MATCH(2,'Player 1 Rounds'!E:E,0)),0),1))=TRUE(),"",INDEX(INDIRECT("'Player 1 Rounds'!q"&MATCH(A10,'Player 1 Rounds'!Q:Q,0)+1&":q"&-1+MATCH(2,'Player 1 Rounds'!E:E,0)),MATCH(TRUE(),INDIRECT("'Player 1 Rounds'!J"&MATCH(A10,'Player 1 Rounds'!Q:Q,0)+1&":J"&-1+MATCH(2,'Player 1 Rounds'!E:E,0)),0),1)),A$3:A10,0))=TRUE(),IF(ISNA(INDEX(INDIRECT("'Player 1 Rounds'!q"&MATCH(A10,'Player 1 Rounds'!Q:Q,0)+1&":q"&-1+MATCH(2,'Player 1 Rounds'!E:E,0)),MATCH(TRUE(),INDIRECT("'Player 1 Rounds'!J"&MATCH(A10,'Player 1 Rounds'!Q:Q,0)+1&":J"&-1+MATCH(2,'Player 1 Rounds'!E:E,0)),0),1))=TRUE(),"",INDEX(INDIRECT("'Player 1 Rounds'!q"&MATCH(A10,'Player 1 Rounds'!Q:Q,0)+1&":q"&-1+MATCH(2,'Player 1 Rounds'!E:E,0)),MATCH(TRUE(),INDIRECT("'Player 1 Rounds'!J"&MATCH(A10,'Player 1 Rounds'!Q:Q,0)+1&":J"&-1+MATCH(2,'Player 1 Rounds'!E:E,0)),0),1)),"") -> 2017 Ledgestone Insurance Open presented by Discraft | B11: =IF(ISERROR(INDEX('Player 1 Rounds'!O:O,MATCH(Head2Head!A11,'Player 1 Rounds'!Q:Q,0)))=TRUE,"",INDEX('Player 1 Rounds'!O:O,MATCH(Head2Head!A11,'Player 1 Rounds'!Q:Q,0))) -> 42950 | D11: # Rounds | E11: =COUNTIFS('Player 1 Rounds'!K:K,TRUE()) -> 649
A12: =IF(ISNA(MATCH(IF(ISNA(INDEX(INDIRECT("'Player 1 Rounds'!q"&MATCH(A11,'Player 1 Rounds'!Q:Q,0)+1&":q"&-1+MATCH(2,'Player 1 Rounds'!E:E,0)),MATCH(TRUE(),INDIRECT("'Player 1 Rounds'!J"&MATCH(A11,'Player 1 Rounds'!Q:Q,0)+1&":J"&-1+MATCH(2,'Player 1 Rounds'!E:E,0)),0),1))=TRUE(),"",INDEX(INDIRECT("'Player 1 Rounds'!q"&MATCH(A11,'Player 1 Rounds'!Q:Q,0)+1&":q"&-1+MATCH(2,'Player 1 Rounds'!E:E,0)),MATCH(TRUE(),INDIRECT("'Player 1 Rounds'!J"&MATCH(A11,'Player 1 Rounds'!Q:Q,0)+1&":J"&-1+MATCH(2,'Player 1 Rounds'!E:E,0)),0),1)),A$3:A11,0))=TRUE(),IF(ISNA(INDEX(INDIRECT("'Player 1 Rounds'!q"&MATCH(A11,'Player 1 Rounds'!Q:Q,0)+1&":q"&-1+MATCH(2,'Player 1 Rounds'!E:E,0)),MATCH(TRUE(),INDIRECT("'Player 1 Rounds'!J"&MATCH(A11,'Player 1 Rounds'!Q:Q,0)+1&":J"&-1+MATCH(2,'Player 1 Rounds'!E:E,0)),0),1))=TRUE(),"",INDEX(INDIRECT("'Player 1 Rounds'!q"&MATCH(A11,'Player 1 Rounds'!Q:Q,0)+1&":q"&-1+MATCH(2,'Player 1 Rounds'!E:E,0)),MATCH(TRUE(),INDIRECT("'Player 1 Rounds'!J"&MATCH(A11,'Player 1 Rounds'!Q:Q,0)+1&":J"&-1+MATCH(2,'Player 1 Rounds'!E:E,0)),0),1)),"") -> 2017 Pittsburgh Flying Disc Open Presented by Discraft | B12: =IF(ISERROR(INDEX('Player 1 Rounds'!O:O,MATCH(Head2Head!A12,'Player 1 Rounds'!Q:Q,0)))=TRUE,"",INDEX('Player 1 Rounds'!O:O,MATCH(Head2Head!A12,'Player 1 Rounds'!Q:Q,0))) -> 42972 | D12: # Rounds Won H2H (mutually completed rounds) | E12: =SUM('Player 1 Rounds'!S:S) -> 237 | F12: =SUM('Player 2 Rounds'!S:S) -> 295
A13: =IF(ISNA(MATCH(IF(ISNA(INDEX(INDIRECT("'Player 1 Rounds'!q"&MATCH(A12,'Player 1 Rounds'!Q:Q,0)+1&":q"&-1+MATCH(2,'Player 1 Rounds'!E:E,0)),MATCH(TRUE(),INDIRECT("'Player 1 Rounds'!J"&MATCH(A12,'Player 1 Rounds'!Q:Q,0)+1&":J"&-1+MATCH(2,'Player 1 Rounds'!E:E,0)),0),1))=TRUE(),"",INDEX(INDIRECT("'Player 1 Rounds'!q"&MATCH(A12,'Player 1 Rounds'!Q:Q,0)+1&":q"&-1+MATCH(2,'Player 1 Rounds'!E:E,0)),MATCH(TRUE(),INDIRECT("'Player 1 Rounds'!J"&MATCH(A12,'Player 1 Rounds'!Q:Q,0)+1&":J"&-1+MATCH(2,'Player 1 Rounds'!E:E,0)),0),1)),A$3:A12,0))=TRUE(),IF(ISNA(INDEX(INDIRECT("'Player 1 Rounds'!q"&MATCH(A12,'Player 1 Rounds'!Q:Q,0)+1&":q"&-1+MATCH(2,'Player 1 Rounds'!E:E,0)),MATCH(TRUE(),INDIRECT("'Player 1 Rounds'!J"&MATCH(A12,'Player 1 Rounds'!Q:Q,0)+1&":J"&-1+MATCH(2,'Player 1 Rounds'!E:E,0)),0),1))=TRUE(),"",INDEX(INDIRECT("'Player 1 Rounds'!q"&MATCH(A12,'Player 1 Rounds'!Q:Q,0)+1&":q"&-1+MATCH(2,'Player 1 Rounds'!E:E,0)),MATCH(TRUE(),INDIRECT("'Player 1 Rounds'!J"&MATCH(A12,'Player 1 Rounds'!Q:Q,0)+1&":J"&-1+MATCH(2,'Player 1 Rounds'!E:E,0)),0),1)),"") -> 2012 Brent Hambrick Memorial Open | B13: =IF(ISERROR(INDEX('Player 1 Rounds'!O:O,MATCH(Head2Head!A13,'Player 1 Rounds'!Q:Q,0)))=TRUE,"",INDEX('Player 1 Rounds'!O:O,MATCH(Head2Head!A13,'Player 1 Rounds'!Q:Q,0))) -> 41125 | D13: Total # Strokes (mutually completed rounds) | E13: =SUMIFS('Player 1 Rounds'!F:F,'Player 1 Rounds'!K:K,TRUE(),'Player 1 Rounds'!F:F,"<>"&999) -> 36349 | F13: =SUMIFS('Player 2 Rounds'!F:F,'Player 2 Rounds'!K:K,TRUE(),'Player 2 Rounds'!F:F,"<>"&999) -> 35769
A14: =IF(ISNA(MATCH(IF(ISNA(INDEX(INDIRECT("'Player 1 Rounds'!q"&MATCH(A13,'Player 1 Rounds'!Q:Q,0)+1&":q"&-1+MATCH(2,'Player 1 Rounds'!E:E,0)),MATCH(TRUE(),INDIRECT("'Player 1 Rounds'!J"&MATCH(A13,'Player 1 Rounds'!Q:Q,0)+1&":J"&-1+MATCH(2,'Player 1 Rounds'!E:E,0)),0),1))=TRUE(),"",INDEX(INDIRECT("'Player 1 Rounds'!q"&MATCH(A13,'Player 1 Rounds'!Q:Q,0)+1&":q"&-1+MATCH(2,'Player 1 Rounds'!E:E,0)),MATCH(TRUE(),INDIRECT("'Player 1 Rounds'!J"&MATCH(A13,'Player 1 Rounds'!Q:Q,0)+1&":J"&-1+MATCH(2,'Player 1 Rounds'!E:E,0)),0),1)),A$3:A13,0))=TRUE(),IF(ISNA(INDEX(INDIRECT("'Player 1 Rounds'!q"&MATCH(A13,'Player 1 Rounds'!Q:Q,0)+1&":q"&-1+MATCH(2,'Player 1 Rounds'!E:E,0)),MATCH(TRUE(),INDIRECT("'Player 1 Rounds'!J"&MATCH(A13,'Player 1 Rounds'!Q:Q,0)+1&":J"&-1+MATCH(2,'Player 1 Rounds'!E:E,0)),0),1))=TRUE(),"",INDEX(INDIRECT("'Player 1 Rounds'!q"&MATCH(A13,'Player 1 Rounds'!Q:Q,0)+1&":q"&-1+MATCH(2,'Player 1 Rounds'!E:E,0)),MATCH(TRUE(),INDIRECT("'Player 1 Rounds'!J"&MATCH(A13,'Player 1 Rounds'!Q:Q,0)+1&":J"&-1+MATCH(2,'Player 1 Rounds'!E:E,0)),0),1)),"") -> 2012 38th Annual Rochester Flying Disc Open | B14: =IF(ISERROR(INDEX('Player 1 Rounds'!O:O,MATCH(Head2Head!A14,'Player 1 Rounds'!Q:Q,0)))=TRUE,"",INDEX('Player 1 Rounds'!O:O,MATCH(Head2Head!A14,'Player 1 Rounds'!Q:Q,0))) -> 41132 | D14: Total +/- | E14: =IF(E13-F13>0,"+"&E13-F13,E13-F13) -> +580 | F14: =IF(F13-E13>0,"+"&F13-E13,F13-E13) -> -580
A15: =IF(ISNA(MATCH(IF(ISNA(INDEX(INDIRECT("'Player 1 Rounds'!q"&MATCH(A14,'Player 1 Rounds'!Q:Q,0)+1&":q"&-1+MATCH(2,'Player 1 Rounds'!E:E,0)),MATCH(TRUE(),INDIRECT("'Player 1 Rounds'!J"&MATCH(A14,'Player 1 Rounds'!Q:Q,0)+1&":J"&-1+MATCH(2,'Player 1 Rounds'!E:E,0)),0),1))=TRUE(),"",INDEX(INDIRECT("'Player 1 Rounds'!q"&MATCH(A14,'Player 1 Rounds'!Q:Q,0)+1&":q"&-1+MATCH(2,'Player 1 Rounds'!E:E,0)),MATCH(TRUE(),INDIRECT("'Player 1 Rounds'!J"&MATCH(A14,'Player 1 Rounds'!Q:Q,0)+1&":J"&-1+MATCH(2,'Player 1 Rounds'!E:E,0)),0),1)),A$3:A14,0))=TRUE(),IF(ISNA(INDEX(INDIRECT("'Player 1 Rounds'!q"&MATCH(A14,'Player 1 Rounds'!Q:Q,0)+1&":q"&-1+MATCH(2,'Player 1 Rounds'!E:E,0)),MATCH(TRUE(),INDIRECT("'Player 1 Rounds'!J"&MATCH(A14,'Player 1 Rounds'!Q:Q,0)+1&":J"&-1+MATCH(2,'Player 1 Rounds'!E:E,0)),0),1))=TRUE(),"",INDEX(INDIRECT("'Player 1 Rounds'!q"&MATCH(A14,'Player 1 Rounds'!Q:Q,0)+1&":q"&-1+MATCH(2,'Player 1 Rounds'!E:E,0)),MATCH(TRUE(),INDIRECT("'Player 1 Rounds'!J"&MATCH(A14,'Player 1 Rounds'!Q:Q,0)+1&":J"&-1+MATCH(2,'Player 1 Rounds'!E:E,0)),0),1)),"") -> 2018 DGPT - Waco Annual Charity Open presented by Dynamic Discs | B15: =IF(ISERROR(INDEX('Player 1 Rounds'!O:O,MATCH(Head2Head!A15,'Player 1 Rounds'!Q:Q,0)))=TRUE,"",INDEX('Player 1 Rounds'!O:O,MATCH(Head2Head!A15,'Player 1 Rounds'!Q:Q,0))) -> 43174 | D15: ="+/- per round" -> +/- per round | E15: =IF((E13-F13)/E11>0,"+"&ROUND((E13-F13)/E11,1),(E13-F13)/E11) -> +0.9 | F15: =IF((F13-E13)/E11>0,"+"&ROUND((F13-E13)/E11,1),(F13-E13)/E11) -> -0.89368259
A16: =IF(ISNA(MATCH(IF(ISNA(INDEX(INDIRECT("'Player 1 Rounds'!q"&MATCH(A15,'Player 1 Rounds'!Q:Q,0)+1&":q"&-1+MATCH(2,'Player 1 Rounds'!E:E,0)),MATCH(TRUE(),INDIRECT("'Player 1 Rounds'!J"&MATCH(A15,'Player 1 Rounds'!Q:Q,0)+1&":J"&-1+MATCH(2,'Player 1 Rounds'!E:E,0)),0),1))=TRUE(),"",INDEX(INDIRECT("'Player 1 Rounds'!q"&MATCH(A15,'Player 1 Rounds'!Q:Q,0)+1&":q"&-1+MATCH(2,'Player 1 Rounds'!E:E,0)),MATCH(TRUE(),INDIRECT("'Player 1 Rounds'!J"&MATCH(A15,'Player 1 Rounds'!Q:Q,0)+1&":J"&-1+MATCH(2,'Player 1 Rounds'!E:E,0)),0),1)),A$3:A15,0))=TRUE(),IF(ISNA(INDEX(INDIRECT("'Player 1 Rounds'!q"&MATCH(A15,'Player 1 Rounds'!Q:Q,0)+1&":q"&-1+MATCH(2,'Player 1 Rounds'!E:E,0)),MATCH(TRUE(),INDIRECT("'Player 1 Rounds'!J"&MATCH(A15,'Player 1 Rounds'!Q:Q,0)+1&":J"&-1+MATCH(2,'Player 1 Rounds'!E:E,0)),0),1))=TRUE(),"",INDEX(INDIRECT("'Player 1 Rounds'!q"&MATCH(A15,'Player 1 Rounds'!Q:Q,0)+1&":q"&-1+MATCH(2,'Player 1 Rounds'!E:E,0)),MATCH(TRUE(),INDIRECT("'Player 1 Rounds'!J"&MATCH(A15,'Player 1 Rounds'!Q:Q,0)+1&":J"&-1+MATCH(2,'Player 1 Rounds'!E:E,0)),0),1)),"") -> 2012 Charlie Vettiner Open presented by DCD - Pro Only | B16: =IF(ISERROR(INDEX('Player 1 Rounds'!O:O,MATCH(Head2Head!A16,'Player 1 Rounds'!Q:Q,0)))=TRUE,"",INDEX('Player 1 Rounds'!O:O,MATCH(Head2Head!A16,'Player 1 Rounds'!Q:Q,0))) -> 41041 | D16: Common Division Avg Round Rating | E16: =IF(ISERROR(AVERAGEIFS('Player 1 Rounds'!G:G,'Player 1 Rounds'!J:J,TRUE(),'Player 1 Rounds'!K:K,TRUE()))=TRUE(),0,AVERAGEIFS('Player 1 Rounds'!G:G,'Player 1 Rounds'!J:J,TRUE(),'Player 1 Rounds'!K:K,TRUE())) -> 1044.0663 | F16: =IF(ISERROR(AVERAGEIFS('Player 2 Rounds'!G:G,'Player 2 Rounds'!J:J,TRUE(),'Player 2 Rounds'!K:K,TRUE()))=TRUE(),0,AVERAGEIFS('Player 2 Rounds'!G:G,'Player 2 Rounds'!J:J,TRUE(),'Player 2 Rounds'!K:K,TRUE())) -> 1048.2558
A17: =IF(ISNA(MATCH(IF(ISNA(INDEX(INDIRECT("'Player 1 Rounds'!q"&MATCH(A16,'Player 1 Rounds'!Q:Q,0)+1&":q"&-1+MATCH(2,'Player 1 Rounds'!E:E,0)),MATCH(TRUE(),INDIRECT("'Player 1 Rounds'!J"&MATCH(A16,'Player 1 Rounds'!Q:Q,0)+1&":J"&-1+MATCH(2,'Player 1 Rounds'!E:E,0)),0),1))=TRUE(),"",INDEX(INDIRECT("'Player 1 Rounds'!q"&MATCH(A16,'Player 1 Rounds'!Q:Q,0)+1&":q"&-1+MATCH(2,'Player 1 Rounds'!E:E,0)),MATCH(TRUE(),INDIRECT("'Player 1 Rounds'!J"&MATCH(A16,'Player 1 Rounds'!Q:Q,0)+1&":J"&-1+MATCH(2,'Player 1 Rounds'!E:E,0)),0),1)),A$3:A16,0))=TRUE(),IF(ISNA(INDEX(INDIRECT("'Player 1 Rounds'!q"&MATCH(A16,'Player 1 Rounds'!Q:Q,0)+1&":q"&-1+MATCH(2,'Player 1 Rounds'!E:E,0)),MATCH(TRUE(),INDIRECT("'Player 1 Rounds'!J"&MATCH(A16,'Player 1 Rounds'!Q:Q,0)+1&":J"&-1+MATCH(2,'Player 1 Rounds'!E:E,0)),0),1))=TRUE(),"",INDEX(INDIRECT("'Player 1 Rounds'!q"&MATCH(A16,'Player 1 Rounds'!Q:Q,0)+1&":q"&-1+MATCH(2,'Player 1 Rounds'!E:E,0)),MATCH(TRUE(),INDIRECT("'Player 1 Rounds'!J"&MATCH(A16,'Player 1 Rounds'!Q:Q,0)+1&":J"&-1+MATCH(2,'Player 1 Rounds'!E:E,0)),0),1)),"") -> 2018 DGPT - Memorial Championship presented by Discraft | B17: =IF(ISERROR(INDEX('Player 1 Rounds'!O:O,MATCH(Head2Head!A17,'Player 1 Rounds'!Q:Q,0)))=TRUE,"",INDEX('Player 1 Rounds'!O:O,MATCH(Head2Head!A17,'Player 1 Rounds'!Q:Q,0))) -> 43159
A18: =IF(ISNA(MATCH(IF(ISNA(INDEX(INDIRECT("'Player 1 Rounds'!q"&MATCH(A17,'Player 1 Rounds'!Q:Q,0)+1&":q"&-1+MATCH(2,'Player 1 Rounds'!E:E,0)),MATCH(TRUE(),INDIRECT("'Player 1 Rounds'!J"&MATCH(A17,'Player 1 Rounds'!Q:Q,0)+1&":J"&-1+MATCH(2,'Player 1 Rounds'!E:E,0)),0),1))=TRUE(),"",INDEX(INDIRECT("'Player 1 Rounds'!q"&MATCH(A17,'Player 1 Rounds'!Q:Q,0)+1&":q"&-1+MATCH(2,'Player 1 Rounds'!E:E,0)),MATCH(TRUE(),INDIRECT("'Player 1 Rounds'!J"&MATCH(A17,'Player 1 Rounds'!Q:Q,0)+1&":J"&-1+MATCH(2,'Player 1 Rounds'!E:E,0)),0),1)),A$3:A17,0))=TRUE(),IF(ISNA(INDEX(INDIRECT("'Player 1 Rounds'!q"&MATCH(A17,'Player 1 Rounds'!Q:Q,0)+1&":q"&-1+MATCH(2,'Player 1 Rounds'!E:E,0)),MATCH(TRUE(),INDIRECT("'Player 1 Rounds'!J"&MATCH(A17,'Player 1 Rounds'!Q:Q,0)+1&":J"&-1+MATCH(2,'Player 1 Rounds'!E:E,0)),0),1))=TRUE(),"",INDEX(INDIRECT("'Player 1 Rounds'!q"&MATCH(A17,'Player 1 Rounds'!Q:Q,0)+1&":q"&-1+MATCH(2,'Player 1 Rounds'!E:E,0)),MATCH(TRUE(),INDIRECT("'Player 1 Rounds'!J"&MATCH(A17,'Player 1 Rounds'!Q:Q,0)+1&":J"&-1+MATCH(2,'Player 1 Rounds'!E:E,0)),0),1)),"") -> 2012 Indian Hammocks Open | B18: =IF(ISERROR(INDEX('Player 1 Rounds'!O:O,MATCH(Head2Head!A18,'Player 1 Rounds'!Q:Q,0)))=TRUE,"",INDEX('Player 1 Rounds'!O:O,MATCH(Head2Head!A18,'Player 1 Rounds'!Q:Q,0))) -> 41034
A19: =IF(ISNA(MATCH(IF(ISNA(INDEX(INDIRECT("'Player 1 Rounds'!q"&MATCH(A18,'Player 1 Rounds'!Q:Q,0)+1&":q"&-1+MATCH(2,'Player 1 Rounds'!E:E,0)),MATCH(TRUE(),INDIRECT("'Player 1 Rounds'!J"&MATCH(A18,'Player 1 Rounds'!Q:Q,0)+1&":J"&-1+MATCH(2,'Player 1 Rounds'!E:E,0)),0),1))=TRUE(),"",INDEX(INDIRECT("'Player 1 Rounds'!q"&MATCH(A18,'Player 1 Rounds'!Q:Q,0)+1&":q"&-1+MATCH(2,'Player 1 Rounds'!E:E,0)),MATCH(TRUE(),INDIRECT("'Player 1 Rounds'!J"&MATCH(A18,'Player 1 Rounds'!Q:Q,0)+1&":J"&-1+MATCH(2,'Player 1 Rounds'!E:E,0)),0),1)),A$3:A18,0))=TRUE(),IF(ISNA(INDEX(INDIRECT("'Player 1 Rounds'!q"&MATCH(A18,'Player 1 Rounds'!Q:Q,0)+1&":q"&-1+MATCH(2,'Player 1 Rounds'!E:E,0)),MATCH(TRUE(),INDIRECT("'Player 1 Rounds'!J"&MATCH(A18,'Player 1 Rounds'!Q:Q,0)+1&":J"&-1+MATCH(2,'Player 1 Rounds'!E:E,0)),0),1))=TRUE(),"",INDEX(INDIRECT("'Player 1 Rounds'!q"&MATCH(A18,'Player 1 Rounds'!Q:Q,0)+1&":q"&-1+MATCH(2,'Player 1 Rounds'!E:E,0)),MATCH(TRUE(),INDIRECT("'Player 1 Rounds'!J"&MATCH(A18,'Player 1 Rounds'!Q:Q,0)+1&":J"&-1+MATCH(2,'Player 1 Rounds'!E:E,0)),0),1)),"") -> 2018 DGPT - Jonesboro Open | B19: =IF(ISERROR(INDEX('Player 1 Rounds'!O:O,MATCH(Head2Head!A19,'Player 1 Rounds'!Q:Q,0)))=TRUE,"",INDEX('Player 1 Rounds'!O:O,MATCH(Head2Head!A19,'Player 1 Rounds'!Q:Q,0))) -> 43196
A20: =IF(ISNA(MATCH(IF(ISNA(INDEX(INDIRECT("'Player 1 Rounds'!q"&MATCH(A19,'Player 1 Rounds'!Q:Q,0)+1&":q"&-1+MATCH(2,'Player 1 Rounds'!E:E,0)),MATCH(TRUE(),INDIRECT("'Player 1 Rounds'!J"&MATCH(A19,'Player 1 Rounds'!Q:Q,0)+1&":J"&-1+MATCH(2,'Player 1 Rounds'!E:E,0)),0),1))=TRUE(),"",INDEX(INDIRECT("'Player 1 Rounds'!q"&MATCH(A19,'Player 1 Rounds'!Q:Q,0)+1&":q"&-1+MATCH(2,'Player 1 Rounds'!E:E,0)),MATCH(TRUE(),INDIRECT("'Player 1 Rounds'!J"&MATCH(A19,'Player 1 Rounds'!Q:Q,0)+1&":J"&-1+MATCH(2,'Player 1 Rounds'!E:E,0)),0),1)),A$3:A19,0))=TRUE(),IF(ISNA(INDEX(INDIRECT("'Player 1 Rounds'!q"&MATCH(A19,'Player 1 Rounds'!Q:Q,0)+1&":q"&-1+MATCH(2,'Player 1 Rounds'!E:E,0)),MATCH(TRUE(),INDIRECT("'Player 1 Rounds'!J"&MATCH(A19,'Player 1 Rounds'!Q:Q,0)+1&":J"&-1+MATCH(2,'Player 1 Rounds'!E:E,0)),0),1))=TRUE(),"",INDEX(INDIRECT("'Player 1 Rounds'!q"&MATCH(A19,'Player 1 Rounds'!Q:Q,0)+1&":q"&-1+MATCH(2,'Player 1 Rounds'!E:E,0)),MATCH(TRUE(),INDIRECT("'Player 1 Rounds'!J"&MATCH(A19,'Player 1 Rounds'!Q:Q,0)+1&":J"&-1+MATCH(2,'Player 1 Rounds'!E:E,0)),0),1)),"") -> 2012 Fun N Sun | B20: =IF(ISERROR(INDEX('Player 1 Rounds'!O:O,MATCH(Head2Head!A20,'Player 1 Rounds'!Q:Q,0)))=TRUE,"",INDEX('Player 1 Rounds'!O:O,MATCH(Head2Head!A20,'Player 1 Rounds'!Q:Q,0))) -> 41027
A21: =IF(ISNA(MATCH(IF(ISNA(INDEX(INDIRECT("'Player 1 Rounds'!q"&MATCH(A20,'Player 1 Rounds'!Q:Q,0)+1&":q"&-1+MATCH(2,'Player 1 Rounds'!E:E,0)),MATCH(TRUE(),INDIRECT("'Player 1 Rounds'!J"&MATCH(A20,'Player 1 Rounds'!Q:Q,0)+1&":J"&-1+MATCH(2,'Player 1 Rounds'!E:E,0)),0),1))=TRUE(),"",INDEX(INDIRECT("'Player 1 Rounds'!q"&MATCH(A20,'Player 1 Rounds'!Q:Q,0)+1&":q"&-1+MATCH(2,'Player 1 Rounds'!E:E,0)),MATCH(TRUE(),INDIRECT("'Player 1 Rounds'!J"&MATCH(A20,'Player 1 Rounds'!Q:Q,0)+1&":J"&-1+MATCH(2,'Player 1 Rounds'!E:E,0)),0),1)),A$3:A20,0))=TRUE(),IF(ISNA(INDEX(INDIRECT("'Player 1 Rounds'!q"&MATCH(A20,'Player 1 Rounds'!Q:Q,0)+1&":q"&-1+MATCH(2,'Player 1 Rounds'!E:E,0)),MATCH(TRUE(),INDIRECT("'Player 1 Rounds'!J"&MATCH(A20,'Player 1 Rounds'!Q:Q,0)+1&":J"&-1+MATCH(2,'Player 1 Rounds'!E:E,0)),0),1))=TRUE(),"",INDEX(INDIRECT("'Player 1 Rounds'!q"&MATCH(A20,'Player 1 Rounds'!Q:Q,0)+1&":q"&-1+MATCH(2,'Player 1 Rounds'!E:E,0)),MATCH(TRUE(),INDIRECT("'Player 1 Rounds'!J"&MATCH(A20,'Player 1 Rounds'!Q:Q,0)+1&":J"&-1+MATCH(2,'Player 1 Rounds'!E:E,0)),0),1)),"") -> 2012 Beaver State Fling | B21: =IF(ISERROR(INDEX('Player 1 Rounds'!O:O,MATCH(Head2Head!A21,'Player 1 Rounds'!Q:Q,0)))=TRUE,"",INDEX('Player 1 Rounds'!O:O,MATCH(Head2Head!A21,'Player 1 Rounds'!Q:Q,0))) -> 41075
A22: =IF(ISNA(MATCH(IF(ISNA(INDEX(INDIRECT("'Player 1 Rounds'!q"&MATCH(A21,'Player 1 Rounds'!Q:Q,0)+1&":q"&-1+MATCH(2,'Player 1 Rounds'!E:E,0)),MATCH(TRUE(),INDIRECT("'Player 1 Rounds'!J"&MATCH(A21,'Player 1 Rounds'!Q:Q,0)+1&":J"&-1+MATCH(2,'Player 1 Rounds'!E:E,0)),0),1))=TRUE(),"",INDEX(INDIRECT("'Player 1 Rounds'!q"&MATCH(A21,'Player 1 Rounds'!Q:Q,0)+1&":q"&-1+MATCH(2,'Player 1 Rounds'!E:E,0)),MATCH(TRUE(),INDIRECT("'Player 1 Rounds'!J"&MATCH(A21,'Player 1 Rounds'!Q:Q,0)+1&":J"&-1+MATCH(2,'Player 1 Rounds'!E:E,0)),0),1)),A$3:A21,0))=TRUE(),IF(ISNA(INDEX(INDIRECT("'Player 1 Rounds'!q"&MATCH(A21,'Player 1 Rounds'!Q:Q,0)+1&":q"&-1+MATCH(2,'Player 1 Rounds'!E:E,0)),MATCH(TRUE(),INDIRECT("'Player 1 Rounds'!J"&MATCH(A21,'Player 1 Rounds'!Q:Q,0)+1&":J"&-1+MATCH(2,'Player 1 Rounds'!E:E,0)),0),1))=TRUE(),"",INDEX(INDIRECT("'Player 1 Rounds'!q"&MATCH(A21,'Player 1 Rounds'!Q:Q,0)+1&":q"&-1+MATCH(2,'Player 1 Rounds'!E:E,0)),MATCH(TRUE(),INDIRECT("'Player 1 Rounds'!J"&MATCH(A21,'Player 1 Rounds'!Q:Q,0)+1&":J"&-1+MATCH(2,'Player 1 Rounds'!E:E,0)),0),1)),"") -> 2018 Las Vegas Challenge presented by Innova Champion Discs - National Tour | B22: =IF(ISERROR(INDEX('Player 1 Rounds'!O:O,MATCH(Head2Head!A22,'Player 1 Rounds'!Q:Q,0)))=TRUE,"",INDEX('Player 1 Rounds'!O:O,MATCH(Head2Head!A22,'Player 1 Rounds'!Q:Q,0))) -> 43153
A23: =IF(ISNA(MATCH(IF(ISNA(INDEX(INDIRECT("'Player 1 Rounds'!q"&MATCH(A22,'Player 1 Rounds'!Q:Q,0)+1&":q"&-1+MATCH(2,'Player 1 Rounds'!E:E,0)),MATCH(TRUE(),INDIRECT("'Player 1 Rounds'!J"&MATCH(A22,'Player 1 Rounds'!Q:Q,0)+1&":J"&-1+MATCH(2,'Player 1 Rounds'!E:E,0)),0),1))=TRUE(),"",INDEX(INDIRECT("'Player 1 Rounds'!q"&MATCH(A22,'Player 1 Rounds'!Q:Q,0)+1&":q"&-1+MATCH(2,'Player 1 Rounds'!E:E,0)),MATCH(TRUE(),INDIRECT("'Player 1 Rounds'!J"&MATCH(A22,'Player 1 Rounds'!Q:Q,0)+1&":J"&-1+MATCH(2,'Player 1 Rounds'!E:E,0)),0),1)),A$3:A22,0))=TRUE(),IF(ISNA(INDEX(INDIRECT("'Player 1 Rounds'!q"&MATCH(A22,'Player 1 Rounds'!Q:Q,0)+1&":q"&-1+MATCH(2,'Player 1 Rounds'!E:E,0)),MATCH(TRUE(),INDIRECT("'Player 1 Rounds'!J"&MATCH(A22,'Player 1 Rounds'!Q:Q,0)+1&":J"&-1+MATCH(2,'Player 1 Rounds'!E:E,0)),0),1))=TRUE(),"",INDEX(INDIRECT("'Player 1 Rounds'!q"&MATCH(A22,'Player 1 Rounds'!Q:Q,0)+1&":q"&-1+MATCH(2,'Player 1 Rounds'!E:E,0)),MATCH(TRUE(),INDIRECT("'Player 1 Rounds'!J"&MATCH(A22,'Player 1 Rounds'!Q:Q,0)+1&":J"&-1+MATCH(2,'Player 1 Rounds'!E:E,0)),0),1)),"") -> 2012 27th Annual "Steady" Ed Memorial Masters Cup - presented by DGA | B23: =IF(ISERROR(INDEX('Player 1 Rounds'!O:O,MATCH(Head2Head!A23,'Player 1 Rounds'!Q:Q,0)))=TRUE,"",INDEX('Player 1 Rounds'!O:O,MATCH(Head2Head!A23,'Player 1 Rounds'!Q:Q,0))) -> 41047
A24: =IF(ISNA(MATCH(IF(ISNA(INDEX(INDIRECT("'Player 1 Rounds'!q"&MATCH(A23,'Player 1 Rounds'!Q:Q,0)+1&":q"&-1+MATCH(2,'Player 1 Rounds'!E:E,0)),MATCH(TRUE(),INDIRECT("'Player 1 Rounds'!J"&MATCH(A23,'Player 1 Rounds'!Q:Q,0)+1&":J"&-1+MATCH(2,'Player 1 Rounds'!E:E,0)),0),1))=TRUE(),"",INDEX(INDIRECT("'Player 1 Rounds'!q"&MATCH(A23,'Player 1 Rounds'!Q:Q,0)+1&":q"&-1+MATCH(2,'Player 1 Rounds'!E:E,0)),MATCH(TRUE(),INDIRECT("'Player 1 Rounds'!J"&MATCH(A23,'Player 1 Rounds'!Q:Q,0)+1&":J"&-1+MATCH(2,'Player 1 Rounds'!E:E,0)),0),1)),A$3:A23,0))=TRUE(),IF(ISNA(INDEX(INDIRECT("'Player 1 Rounds'!q"&MATCH(A23,'Player 1 Rounds'!Q:Q,0)+1&":q"&-1+MATCH(2,'Player 1 Rounds'!E:E,0)),MATCH(TRUE(),INDIRECT("'Player 1 Rounds'!J"&MATCH(A23,'Player 1 Rounds'!Q:Q,0)+1&":J"&-1+MATCH(2,'Player 1 Rounds'!E:E,0)),0),1))=TRUE(),"",INDEX(INDIRECT("'Player 1 Rounds'!q"&MATCH(A23,'Player 1 Rounds'!Q:Q,0)+1&":q"&-1+MATCH(2,'Player 1 Rounds'!E:E,0)),MATCH(TRUE(),INDIRECT("'Player 1 Rounds'!J"&MATCH(A23,'Player 1 Rounds'!Q:Q,0)+1&":J"&-1+MATCH(2,'Player 1 Rounds'!E:E,0)),0),1)),"") -> 2012 G&L Clothing Challenge | B24: =IF(ISERROR(INDEX('Player 1 Rounds'!O:O,MATCH(Head2Head!A24,'Player 1 Rounds'!Q:Q,0)))=TRUE,"",INDEX('Player 1 Rounds'!O:O,MATCH(Head2Head!A24,'Player 1 Rounds'!Q:Q,0))) -> 41055
A25: =IF(ISNA(MATCH(IF(ISNA(INDEX(INDIRECT("'Player 1 Rounds'!q"&MATCH(A24,'Player 1 Rounds'!Q:Q,0)+1&":q"&-1+MATCH(2,'Player 1 Rounds'!E:E,0)),MATCH(TRUE(),INDIRECT("'Player 1 Rounds'!J"&MATCH(A24,'Player 1 Rounds'!Q:Q,0)+1&":J"&-1+MATCH(2,'Player 1 Rounds'!E:E,0)),0),1))=TRUE(),"",INDEX(INDIRECT("'Player 1 Rounds'!q"&MATCH(A24,'Player 1 Rounds'!Q:Q,0)+1&":q"&-1+MATCH(2,'Player 1 Rounds'!E:E,0)),MATCH(TRUE(),INDIRECT("'Player 1 Rounds'!J"&MATCH(A24,'Player 1 Rounds'!Q:Q,0)+1&":J"&-1+MATCH(2,'Player 1 Rounds'!E:E,0)),0),1)),A$3:A24,0))=TRUE(),IF(ISNA(INDEX(INDIRECT("'Player 1 Rounds'!q"&MATCH(A24,'Player 1 Rounds'!Q:Q,0)+1&":q"&-1+MATCH(2,'Player 1 Rounds'!E:E,0)),MATCH(TRUE(),INDIRECT("'Player 1 Rounds'!J"&MATCH(A24,'Player 1 Rounds'!Q:Q,0)+1&":J"&-1+MATCH(2,'Player 1 Rounds'!E:E,0)),0),1))=TRUE(),"",INDEX(INDIRECT("'Player 1 Rounds'!q"&MATCH(A24,'Player 1 Rounds'!Q:Q,0)+1&":q"&-1+MATCH(2,'Player 1 Rounds'!E:E,0)),MATCH(TRUE(),INDIRECT("'Player 1 Rounds'!J"&MATCH(A24,'Player 1 Rounds'!Q:Q,0)+1&":J"&-1+MATCH(2,'Player 1 Rounds'!E:E,0)),0),1)),"") -> 2012 30th Kansas City Wide Open | B25: =IF(ISERROR(INDEX('Player 1 Rounds'!O:O,MATCH(Head2Head!A25,'Player 1 Rounds'!Q:Q,0)))=TRUE,"",INDEX('Player 1 Rounds'!O:O,MATCH(Head2Head!A25,'Player 1 Rounds'!Q:Q,0))) -> 41061
A26: =IF(ISNA(MATCH(IF(ISNA(INDEX(INDIRECT("'Player 1 Rounds'!q"&MATCH(A25,'Player 1 Rounds'!Q:Q,0)+1&":q"&-1+MATCH(2,'Player 1 Rounds'!E:E,0)),MATCH(TRUE(),INDIRECT("'Player 1 Rounds'!J"&MATCH(A25,'Player 1 Rounds'!Q:Q,0)+1&":J"&-1+MATCH(2,'Player 1 Rounds'!E:E,0)),0),1))=TRUE(),"",INDEX(INDIRECT("'Player 1 Rounds'!q"&MATCH(A25,'Player 1 Rounds'!Q:Q,0)+1&":q"&-1+MATCH(2,'Player 1 Rounds'!E:E,0)),MATCH(TRUE(),INDIRECT("'Player 1 Rounds'!J"&MATCH(A25,'Player 1 Rounds'!Q:Q,0)+1&":J"&-1+MATCH(2,'Player 1 Rounds'!E:E,0)),0),1)),A$3:A25,0))=TRUE(),IF(ISNA(INDEX(INDIRECT("'Player 1 Rounds'!q"&MATCH(A25,'Player 1 Rounds'!Q:Q,0)+1&":q"&-1+MATCH(2,'Player 1 Rounds'!E:E,0)),MATCH(TRUE(),INDIRECT("'Player 1 Rounds'!J"&MATCH(A25,'Player 1 Rounds'!Q:Q,0)+1&":J"&-1+MATCH(2,'Player 1 Rounds'!E:E,0)),0),1))=TRUE(),"",INDEX(INDIRECT("'Player 1 Rounds'!q"&MATCH(A25,'Player 1 Rounds'!Q:Q,0)+1&":q"&-1+MATCH(2,'Player 1 Rounds'!E:E,0)),MATCH(TRUE(),INDIRECT("'Player 1 Rounds'!J"&MATCH(A25,'Player 1 Rounds'!Q:Q,0)+1&":J"&-1+MATCH(2,'Player 1 Rounds'!E:E,0)),0),1)),"") -> 2017 22nd Annual Texas States Disc Golf Championship Presented By Cory's Bicycle Shop | B26: =IF(ISERROR(INDEX('Player 1 Rounds'!O:O,MATCH(Head2Head!A26,'Player 1 Rounds'!Q:Q,0)))=TRUE,"",INDEX('Player 1 Rounds'!O:O,MATCH(Head2Head!A26,'Player 1 Rounds'!Q:Q,0))) -> 42832
A27: =IF(ISNA(MATCH(IF(ISNA(INDEX(INDIRECT("'Player 1 Rounds'!q"&MATCH(A26,'Player 1 Rounds'!Q:Q,0)+1&":q"&-1+MATCH(2,'Player 1 Rounds'!E:E,0)),MATCH(TRUE(),INDIRECT("'Player 1 Rounds'!J"&MATCH(A26,'Player 1 Rounds'!Q:Q,0)+1&":J"&-1+MATCH(2,'Player 1 Rounds'!E:E,0)),0),1))=TRUE(),"",INDEX(INDIRECT("'Player 1 Rounds'!q"&MATCH(A26,'Player 1 Rounds'!Q:Q,0)+1&":q"&-1+MATCH(2,'Player 1 Rounds'!E:E,0)),MATCH(TRUE(),INDIRECT("'Player 1 Rounds'!J"&MATCH(A26,'Player 1 Rounds'!Q:Q,0)+1&":J"&-1+MATCH(2,'Player 1 Rounds'!E:E,0)),0),1)),A$3:A26,0))=TRUE(),IF(ISNA(INDEX(INDIRECT("'Player 1 Rounds'!q"&MATCH(A26,'Player 1 Rounds'!Q:Q,0)+1&":q"&-1+MATCH(2,'Player 1 Rounds'!E:E,0)),MATCH(TRUE(),INDIRECT("'Player 1 Rounds'!J"&MATCH(A26,'Player 1 Rounds'!Q:Q,0)+1&":J"&-1+MATCH(2,'Player 1 Rounds'!E:E,0)),0),1))=TRUE(),"",INDEX(INDIRECT("'Player 1 Rounds'!q"&MATCH(A26,'Player 1 Rounds'!Q:Q,0)+1&":q"&-1+MATCH(2,'Player 1 Rounds'!E:E,0)),MATCH(TRUE(),INDIRECT("'Player 1 Rounds'!J"&MATCH(A26,'Player 1 Rounds'!Q:Q,0)+1&":J"&-1+MATCH(2,'Player 1 Rounds'!E:E,0)),0),1)),"") -> 2012 MDGA Open | B27: =IF(ISERROR(INDEX('Player 1 Rounds'!O:O,MATCH(Head2Head!A27,'Player 1 Rounds'!Q:Q,0)))=TRUE,"",INDEX('Player 1 Rounds'!O:O,MATCH(Head2Head!A27,'Player 1 Rounds'!Q:Q,0))) -> 41230
A28: =IF(ISNA(MATCH(IF(ISNA(INDEX(INDIRECT("'Player 1 Rounds'!q"&MATCH(A27,'Player 1 Rounds'!Q:Q,0)+1&":q"&-1+MATCH(2,'Player 1 Rounds'!E:E,0)),MATCH(TRUE(),INDIRECT("'Player 1 Rounds'!J"&MATCH(A27,'Player 1 Rounds'!Q:Q,0)+1&":J"&-1+MATCH(2,'Player 1 Rounds'!E:E,0)),0),1))=TRUE(),"",INDEX(INDIRECT("'Player 1 Rounds'!q"&MATCH(A27,'Player 1 Rounds'!Q:Q,0)+1&":q"&-1+MATCH(2,'Player 1 Rounds'!E:E,0)),MATCH(TRUE(),INDIRECT("'Player 1 Rounds'!J"&MATCH(A27,'Player 1 Rounds'!Q:Q,0)+1&":J"&-1+MATCH(2,'Player 1 Rounds'!E:E,0)),0),1)),A$3:A27,0))=TRUE(),IF(ISNA(INDEX(INDIRECT("'Player 1 Rounds'!q"&MATCH(A27,'Player 1 Rounds'!Q:Q,0)+1&":q"&-1+MATCH(2,'Player 1 Rounds'!E:E,0)),MATCH(TRUE(),INDIRECT("'Player 1 Rounds'!J"&MATCH(A27,'Player 1 Rounds'!Q:Q,0)+1&":J"&-1+MATCH(2,'Player 1 Rounds'!E:E,0)),0),1))=TRUE(),"",INDEX(INDIRECT("'Player 1 Rounds'!q"&MATCH(A27,'Player 1 Rounds'!Q:Q,0)+1&":q"&-1+MATCH(2,'Player 1 Rounds'!E:E,0)),MATCH(TRUE(),INDIRECT("'Player 1 Rounds'!J"&MATCH(A27,'Player 1 Rounds'!Q:Q,0)+1&":J"&-1+MATCH(2,'Player 1 Rounds'!E:E,0)),0),1)),"") -> 2017 DGPT - Nick Hyde Memorial powered by Innova & Hyzerbomb | B28: =IF(ISERROR(INDEX('Player 1 Rounds'!O:O,MATCH(Head2Head!A28,'Player 1 Rounds'!Q:Q,0)))=TRUE,"",INDEX('Player 1 Rounds'!O:O,MATCH(Head2Head!A28,'Player 1 Rounds'!Q:Q,0))) -> 42825
... A277: =IF(ISNA(MATCH(IF(ISNA(INDEX(INDIRECT("'Player 1 Rounds'!q"&MATCH(A276,'Player 1 Rounds'!Q:Q,0)+1&":q"&-1+MATCH(2,'Player 1 Rounds'!E:E,0)),MATCH(TRUE(),INDIRECT("'Player 1 Rounds'!J"&MATCH(A276,'Player 1 Rounds'!Q:Q,0)+1&":J"&-1+MATCH(2,'Player 1 Rounds'!E:E,0)),0),1))=TRUE(),"",INDEX(INDIRECT("'Player 1 Rounds'!q"&MATCH(A276,'Player 1 Rounds'!Q:Q,0)+1&":q"&-1+MATCH(2,'Player 1 Rounds'!E:E,0)),MATCH(TRUE(),INDIRECT("'Player 1 Rounds'!J"&MATCH(A276,'Player 1 Rounds'!Q:Q,0)+1&":J"&-1+MATCH(2,'Player 1 Rounds'!E:E,0)),0),1)),A$3:A276,0))=TRUE(),IF(ISNA(INDEX(INDIRECT("'Player 1 Rounds'!q"&MATCH(A276,'Player 1 Rounds'!Q:Q,0)+1&":q"&-1+MATCH(2,'Player 1 Rounds'!E:E,0)),MATCH(TRUE(),INDIRECT("'Player 1 Rounds'!J"&MATCH(A276,'Player 1 Rounds'!Q:Q,0)+1&":J"&-1+MATCH(2,'Player 1 Rounds'!E:E,0)),0),1))=TRUE(),"",INDEX(INDIRECT("'Player 1 Rounds'!q"&MATCH(A276,'Player 1 Rounds'!Q:Q,0)+1&":q"&-1+MATCH(2,'Player 1 Rounds'!E:E,0)),MATCH(TRUE(),INDIRECT("'Player 1 Rounds'!J"&MATCH(A276,'Player 1 Rounds'!Q:Q,0)+1&":J"&-1+MATCH(2,'Player 1 Rounds'!E:E,0)),0),1)),"") | B277: =IF(ISERROR(INDEX('Player 1 Rounds'!O:O,MATCH(Head2Head!A277,'Player 1 Rounds'!Q:Q,0)))=TRUE,"",INDEX('Player 1 Rounds'!O:O,MATCH(Head2Head!A277,'Player 1 Rounds'!Q:Q,0)))

Sheet Player Entry
A1: Welcome to Hyzermetrics Head2Head!
A2: 1) Enter PDGA #s | B2: Enter Player 1 PDGA # -> | C2: 38008
B3: Enter Player 2 PDGA # -> | C3: 27523
A4: 2) Refresh the Data | B4: Press CTRL + Alt + F5 or go to Data -> Refresh All. It may take a minute for the data to refresh
A5: 3) Check out the Results | B5: Go over to the Head2Head tab of this spreadsheet to see data from the events the two players have played together

Sheet Common Events
A1: Tournament | B1: Date | C1: Division | D1: Player 1 | E1: Player 2 | F1: Year | G1: Day | H1: Month | I1: Column1
A2: DGPT - MVP Open at Maple Hill | B2: 22-Sep to 25-Sep-2022 | C2: MPO | D2: 1047.3333 | E2: 1052.6667 | F2: =RIGHT(Common_Events[[#This Row],[Date]],4) -> 2022 | G2: =LEFT(Common_Events[[#This Row],[Date]],FIND("-",Common_Events[[#This Row],[Date]],1)-1) -> 22 | H2: =MID(Common_Events[[#This Row],[Date]],FIND("-",Common_Events[[#This Row],[Date]],1)+1,3) -> Sep | I2: =DATEVALUE(Common_Events[[#This Row],[Month]]&" "&Common_Events[[#This Row],[Day]]&", "&Common_Events[[#This Row],[Year]]) -> 44826
A3: DGPT Playoffs - Discraft's Green Mountain Championship | B3: 15-Sep to 18-Sep-2022 | C3: MPO | D3: 1059.25 | E3: 1051.25 | F3: =RIGHT(Common_Events[[#This Row],[Date]],4) -> 2022 | G3: =LEFT(Common_Events[[#This Row],[Date]],FIND("-",Common_Events[[#This Row],[Date]],1)-1) -> 15 | H3: =MID(Common_Events[[#This Row],[Date]],FIND("-",Common_Events[[#This Row],[Date]],1)+1,3) -> Sep | I3: =DATEVALUE(Common_Events[[#This Row],[Month]]&" "&Common_Events[[#This Row],[Day]]&", "&Common_Events[[#This Row],[Year]]) -> 44819
A4: 2022 PDGA Professional Disc Golf World Championships Presented by Dynamic Discs | B4: 30-Aug to 3-Sep-2022 | C4: MPO | D4: 1042 | E4: 1058.4 | F4: =RIGHT(Common_Events[[#This Row],[Date]],4) -> 2022 | G4: =LEFT(Common_Events[[#This Row],[Date]],FIND("-",Common_Events[[#This Row],[Date]],1)-1) -> 30 | H4: =MID(Common_Events[[#This Row],[Date]],FIND("-",Common_Events[[#This Row],[Date]],1)+1,3) -> Aug | I4: =DATEVALUE(Common_Events[[#This Row],[Month]]&" "&Common_Events[[#This Row],[Day]]&", "&Common_Events[[#This Row],[Year]]) -> 44803
A5: DGPT - The TruBank Des Moines Challenge presented by Discraft | B5: 19-Aug to 21-Aug-2022 | C5: MPO | D5: 1011 | E5: 1032.3333 | F5: =RIGHT(Common_Events[[#This Row],[Date]],4) -> 2022 | G5: =LEFT(Common_Events[[#This Row],[Date]],FIND("-",Common_Events[[#This Row],[Date]],1)-1) -> 19 | H5: =MID(Common_Events[[#This Row],[Date]],FIND("-",Common_Events[[#This Row],[Date]],1)+1,3) -> Aug | I5: =DATEVALUE(Common_Events[[#This Row],[Month]]&" "&Common_Events[[#This Row],[Day]]&", "&Common_Events[[#This Row],[Year]]) -> 44792
A6: DGPT - Discraft Ledgestone Open | B6: 11-Aug to 14-Aug-2022 | C6: MPO | D6: 1055.25 | E6: 1048.75 | F6: =RIGHT(Common_Events[[#This Row],[Date]],4) -> 2022 | G6: =LEFT(Common_Events[[#This Row],[Date]],FIND("-",Common_Events[[#This Row],[Date]],1)-1) -> 11 | H6: =MID(Common_Events[[#This Row],[Date]],FIND("-",Common_Events[[#This Row],[Date]],1)+1,3) -> Aug | I6: =DATEVALUE(Common_Events[[#This Row],[Month]]&" "&Common_Events[[#This Row],[Day]]&", "&Common_Events[[#This Row],[Year]]) -> 44784
A7: DGPT - Discraft's Great Lakes Open | B7: 29-Jul to 31-Jul-2022 | C7: MPO | D7: 1049.3333 | E7: 1042.3333 | F7: =RIGHT(Common_Events[[#This Row],[Date]],4) -> 2022 | G7: =LEFT(Common_Events[[#This Row],[Date]],FIND("-",Common_Events[[#This Row],[Date]],1)-1) -> 29 | H7: =MID(Common_Events[[#This Row],[Date]],FIND("-",Common_Events[[#This Row],[Date]],1)+1,3) -> Jul | I7: =DATEVALUE(Common_Events[[#This Row],[Month]]&" "&Common_Events[[#This Row],[Day]]&", "&Common_Events[[#This Row],[Year]]) -> 44771
A8: European Open presented by Discmania | B8: 21-Jul to 24-Jul-2022 | C8: MPO | D8: 1028 | E8: 1072.25 | F8: =RIGHT(Common_Events[[#This Row],[Date]],4) -> 2022 | G8: =LEFT(Common_Events[[#This Row],[Date]],FIND("-",Common_Events[[#This Row],[Date]],1)-1) -> 21 | H8: =MID(Common_Events[[#This Row],[Date]],FIND("-",Common_Events[[#This Row],[Date]],1)+1,3) -> Jul | I8: =DATEVALUE(Common_Events[[#This Row],[Month]]&" "&Common_Events[[#This Row],[Day]]&", "&Common_Events[[#This Row],[Year]]) -> 44763
A9: DGPT - LWS Open at Idlewild presented by Dynamic Discs & The Nati | B9: 8-Jul to 10-Jul-2022 | C9: MPO | D9: 1029.6667 | E9: 1038 | F9: =RIGHT(Common_Events[[#This Row],[Date]],4) -> 2022 | G9: =LEFT(Common_Events[[#This Row],[Date]],FIND("-",Common_Events[[#This Row],[Date]],1)-1) -> 8 | H9: =MID(Common_Events[[#This Row],[Date]],FIND("-",Common_Events[[#This Row],[Date]],1)+1,3) -> Jul | I9: =DATEVALUE(Common_Events[[#This Row],[Month]]&" "&Common_Events[[#This Row],[Day]]&", "&Common_Events[[#This Row],[Year]]) -> 44750
A10: DGPT - The Preserve Championship designed by Leiviska Disc Golf | B10: 24-Jun to 26-Jun-2022 | C10: MPO | D10: 1055 | E10: 1038.6667 | F10: =RIGHT(Common_Events[[#This Row],[Date]],4) -> 2022 | G10: =LEFT(Common_Events[[#This Row],[Date]],FIND("-",Common_Events[[#This Row],[Date]],1)-1) -> 24 | H10: =MID(Common_Events[[#This Row],[Date]],FIND("-",Common_Events[[#This Row],[Date]],1)+1,3) -> Jun | I10: =DATEVALUE(Common_Events[[#This Row],[Month]]&" "&Common_Events[[#This Row],[Day]]&", "&Common_Events[[#This Row],[Year]]) -> 44736
A11: DGPT - OTB Open presented by MVP Disc Sports | B11: 20-May to 22-May-2022 | C11: MPO | D11: 1044.6667 | E11: 1031.6667 | F11: =RIGHT(Common_Events[[#This Row],[Date]],4) -> 2022 | G11: =LEFT(Common_Events[[#This Row],[Date]],FIND("-",Common_Events[[#This Row],[Date]],1)-1) -> 20 | H11: =MID(Common_Events[[#This Row],[Date]],FIND("-",Common_Events[[#This Row],[Date]],1)+1,3) -> May | I11: =DATEVALUE(Common_Events[[#This Row],[Month]]&" "&Common_Events[[#This Row],[Day]]&", "&Common_Events[[#This Row],[Year]]) -> 44701
A12: DGPT - Dynamic Discs Open | B12: 28-Apr to 1-May-2022 | C12: MPO | D12: 1045 | E12: 1010.6667 | F12: =RIGHT(Common_Events[[#This Row],[Date]],4) -> 2022 | G12: =LEFT(Common_Events[[#This Row],[Date]],FIND("-",Common_Events[[#This Row],[Date]],1)-1) -> 28 | H12: =MID(Common_Events[[#This Row],[Date]],FIND("-",Common_Events[[#This Row],[Date]],1)+1,3) -> Apr | I12: =DATEVALUE(Common_Events[[#This Row],[Month]]&" "&Common_Events[[#This Row],[Day]]&", "&Common_Events[[#This Row],[Year]]) -> 44679
A13: DGPT - Play It Again Sports Jonesboro Open powered by Prodigy | B13: 22-Apr to 24-Apr-2022 | C13: MPO | D13: 1042.6667 | E13: 1059.3333 | F13: =RIGHT(Common_Events[[#This Row],[Date]],4) -> 2022 | G13: =LEFT(Common_Events[[#This Row],[Date]],FIND("-",Common_Events[[#This Row],[Date]],1)-1) -> 22 | H13: =MID(Common_Events[[#This Row],[Date]],FIND("-",Common_Events[[#This Row],[Date]],1)+1,3) -> Apr | I13: =DATEVALUE(Common_Events[[#This Row],[Month]]&" "&Common_Events[[#This Row],[Day]]&", "&Common_Events[[#This Row],[Year]]) -> 44673
... A186: United States Disc Golf Championship | B186: 6-Oct to 9-Oct-2010 | C186: MPO | D186: 995.75 | E186: 1037.25 | F186: =RIGHT(Common_Events[[#This Row],[Date]],4) -> 2010 | G186: =LEFT(Common_Events[[#This Row],[Date]],FIND("-",Common_Events[[#This Row],[Date]],1)-1) -> 6 | H186: =MID(Common_Events[[#This Row],[Date]],FIND("-",Common_Events[[#This Row],[Date]],1)+1,3) -> Oct | I186: =DATEVALUE(Common_Events[[#This Row],[Month]]&" "&Common_Events[[#This Row],[Day]]&", "&Common_Events[[#This Row],[Year]]) -> 40457

Sheet Player 1 Rounds
A1: Tournament | B1: Tier | C1: Date | D1: Division | E1: Round | F1: Score | G1: Rating | H1: Evaluated | I1: Included | J1: Event Commonality | K1: Same Division | L1: Year | M1: Day | N1: Month | O1: Start Date | P1: Column1 | Q1: New Name | R1: Opponent Score | S1: Win Loss
A2: 2012 PDGA Professional Disc Golf World Championships | B2: M | C2: 14-Jul to 21-Jul-2012 | D2: MPO | E2: 1 | F2: 57 | G2: 1056 | H2: No | I2: No | J2: =IF(COUNTIFS('Player 2 Rounds'!A:A,Player_1[[#This Row],[Tournament]],'Player 2 Rounds'!C:C,Player_1[[#This Row],[Date]])>0,TRUE(),FALSE()) -> TRUE | K2: =IF(COUNTIFS('Player 2 Rounds'!A:A,Player_1[[#This Row],[Tournament]],'Player 2 Rounds'!C:C,Player_1[[#This Row],[Date]],'Player 2 Rounds'!D:D,Player_1[[#This Row],[Division]])>0,TRUE(),FALSE()) -> TRUE | L2: =RIGHT(Player_1[[#This Row],[Date]],4) -> 2012 | M2: =LEFT(Player_1[[#This Row],[Date]],FIND("-",Player_1[[#This Row],[Date]],1)-1) -> 14 | N2: =MID(Player_1[[#This Row],[Date]],FIND("-",Player_1[[#This Row],[Date]],1)+1,3) -> Jul | O2: =DATEVALUE(Player_1[[#This Row],[Month]]&" "&Player_1[[#This Row],[Day]]&", "&Player_1[[#This Row],[Year]]) -> 41104 | P2: =COUNTIFS(A:A,Player_1[[#This Row],[Tournament]],E:E,Player_1[[#This Row],[Round]]) -> 1 | Q2: =IF(ISERROR(FIND(L2,A2,1))=TRUE(),L2&" "&A2,A2) -> 2012 PDGA Professional Disc Golf World Championships | R2: =SUMIFS('Player 2 Rounds'!F:F,'Player 2 Rounds'!Q:Q,Q2,'Player 2 Rounds'!E:E,E2) -> 57 | S2: =IF(AND(Player_1[[#This Row],[Opponent Score]]>0,Player_1[[#This Row],[Opponent Score]]>Player_1[[#This Row],[Score]],K:K=TRUE())=TRUE(),1,0) -> 0
A3: Scholl's Bicycle Centers Pittsburgh Flying Disc Open | B3: A | C3: 28-Jul to 29-Jul-2012 | D3: MPO | E3: 1 | F3: 61 | G3: 1023 | H3: No | I3: No | J3: =IF(COUNTIFS('Player 2 Rounds'!A:A,Player_1[[#This Row],[Tournament]],'Player 2 Rounds'!C:C,Player_1[[#This Row],[Date]])>0,TRUE(),FALSE()) -> TRUE | K3: =IF(COUNTIFS('Player 2 Rounds'!A:A,Player_1[[#This Row],[Tournament]],'Player 2 Rounds'!C:C,Player_1[[#This Row],[Date]],'Player 2 Rounds'!D:D,Player_1[[#This Row],[Division]])>0,TRUE(),FALSE()) -> TRUE | L3: =RIGHT(Player_1[[#This Row],[Date]],4) -> 2012 | M3: =LEFT(Player_1[[#This Row],[Date]],FIND("-",Player_1[[#This Row],[Date]],1)-1) -> 28 | N3: =MID(Player_1[[#This Row],[Date]],FIND("-",Player_1[[#This Row],[Date]],1)+1,3) -> Jul | O3: =DATEVALUE(Player_1[[#This Row],[Month]]&" "&Player_1[[#This Row],[Day]]&", "&Player_1[[#This Row],[Year]]) -> 41118 | P3: =COUNTIFS(A:A,Player_1[[#This Row],[Tournament]],E:E,Player_1[[#This Row],[Round]]) -> 1 | Q3: =IF(ISERROR(FIND(L3,A3,1))=TRUE(),L3&" "&A3,A3) -> 2012 Scholl's Bicycle Centers Pittsburgh Flying Disc Open | R3: =SUMIFS('Player 2 Rounds'!F:F,'Player 2 Rounds'!Q:Q,Q3,'Player 2 Rounds'!E:E,E3) -> 61 | S3: =IF(AND(Player_1[[#This Row],[Opponent Score]]>0,Player_1[[#This Row],[Opponent Score]]>Player_1[[#This Row],[Score]],K:K=TRUE())=TRUE(),1,0) -> 0
A4: DGPT - Vibram Open | B4: A | C4: 31-Aug to 3-Sep-2017 | D4: MPO | E4: 1 | F4: 53 | G4: 1062 | H4: No | I4: No | J4: =IF(COUNTIFS('Player 2 Rounds'!A:A,Player_1[[#This Row],[Tournament]],'Player 2 Rounds'!C:C,Player_1[[#This Row],[Date]])>0,TRUE(),FALSE()) -> TRUE | K4: =IF(COUNTIFS('Player 2 Rounds'!A:A,Player_1[[#This Row],[Tournament]],'Player 2 Rounds'!C:C,Player_1[[#This Row],[Date]],'Player 2 Rounds'!D:D,Player_1[[#This Row],[Division]])>0,TRUE(),FALSE()) -> TRUE | L4: =RIGHT(Player_1[[#This Row],[Date]],4) -> 2017 | M4: =LEFT(Player_1[[#This Row],[Date]],FIND("-",Player_1[[#This Row],[Date]],1)-1) -> 31 | N4: =MID(Player_1[[#This Row],[Date]],FIND("-",Player_1[[#This Row],[Date]],1)+1,3) -> Aug | O4: =DATEVALUE(Player_1[[#This Row],[Month]]&" "&Player_1[[#This Row],[Day]]&", "&Player_1[[#This Row],[Year]]) -> 42978 | P4: =COUNTIFS(A:A,Player_1[[#This Row],[Tournament]],E:E,Player_1[[#This Row],[Round]]) -> 1 | Q4: =IF(ISERROR(FIND(L4,A4,1))=TRUE(),L4&" "&A4,A4) -> 2017 DGPT - Vibram Open | R4: =SUMIFS('Player 2 Rounds'!F:F,'Player 2 Rounds'!Q:Q,Q4,'Player 2 Rounds'!E:E,E4) -> 58 | S4: =IF(AND(Player_1[[#This Row],[Opponent Score]]>0,Player_1[[#This Row],[Opponent Score]]>Player_1[[#This Row],[Score]],K:K=TRUE())=TRUE(),1,0) -> 1
A5: Madisonville Open | B5: A | C5: 6-Jul to 8-Jul-2012 | D5: MPO | E5: 1 | F5: 66 | G5: 1027 | H5: No | I5: No | J5: =IF(COUNTIFS('Player 2 Rounds'!A:A,Player_1[[#This Row],[Tournament]],'Player 2 Rounds'!C:C,Player_1[[#This Row],[Date]])>0,TRUE(),FALSE()) -> FALSE | K5: =IF(COUNTIFS('Player 2 Rounds'!A:A,Player_1[[#This Row],[Tournament]],'Player 2 Rounds'!C:C,Player_1[[#This Row],[Date]],'Player 2 Rounds'!D:D,Player_1[[#This Row],[Division]])>0,TRUE(),FALSE()) -> FALSE | L5: =RIGHT(Player_1[[#This Row],[Date]],4) -> 2012 | M5: =LEFT(Player_1[[#This Row],[Date]],FIND("-",Player_1[[#This Row],[Date]],1)-1) -> 6 | N5: =MID(Player_1[[#This Row],[Date]],FIND("-",Player_1[[#This Row],[Date]],1)+1,3) -> Jul | O5: =DATEVALUE(Player_1[[#This Row],[Month]]&" "&Player_1[[#This Row],[Day]]&", "&Player_1[[#This Row],[Year]]) -> 41096 | P5: =COUNTIFS(A:A,Player_1[[#This Row],[Tournament]],E:E,Player_1[[#This Row],[Round]]) -> 1 | Q5: =IF(ISERROR(FIND(L5,A5,1))=TRUE(),L5&" "&A5,A5) -> 2012 Madisonville Open | R5: =SUMIFS('Player 2 Rounds'!F:F,'Player 2 Rounds'!Q:Q,Q5,'Player 2 Rounds'!E:E,E5) -> 0 | S5: =IF(AND(Player_1[[#This Row],[Opponent Score]]>0,Player_1[[#This Row],[Opponent Score]]>Player_1[[#This Row],[Score]],K:K=TRUE())=TRUE(),1,0) -> 0
A6: Ed Headrick Disc Golf Hall of Fame Classic presented by ProActive Sports Disc Golf - National Tour Finale | B6: NT | C6: 13-Oct to 15-Oct-2017 | D6: MPO | E6: 1 | F6: 51 | G6: 1034 | H6: No | I6: No | J6: =IF(COUNTIFS('Player 2 Rounds'!A:A,Player_1[[#This Row],[Tournament]],'Player 2 Rounds'!C:C,Player_1[[#This Row],[Date]])>0,TRUE(),FALSE()) -> TRUE | K6: =IF(COUNTIFS('Player 2 Rounds'!A:A,Player_1[[#This Row],[Tournament]],'Player 2 Rounds'!C:C,Player_1[[#This Row],[Date]],'Player 2 Rounds'!D:D,Player_1[[#This Row],[Division]])>0,TRUE(),FALSE()) -> TRUE | L6: =RIGHT(Player_1[[#This Row],[Date]],4) -> 2017 | M6: =LEFT(Player_1[[#This Row],[Date]],FIND("-",Player_1[[#This Row],[Date]],1)-1) -> 13 | N6: =MID(Player_1[[#This Row],[Date]],FIND("-",Player_1[[#This Row],[Date]],1)+1,3) -> Oct | O6: =DATEVALUE(Player_1[[#This Row],[Month]]&" "&Player_1[[#This Row],[Day]]&", "&Player_1[[#This Row],[Year]]) -> 43021 | P6: =COUNTIFS(A:A,Player_1[[#This Row],[Tournament]],E:E,Player_1[[#This Row],[Round]]) -> 1 | Q6: =IF(ISERROR(FIND(L6,A6,1))=TRUE(),L6&" "&A6,A6) -> 2017 Ed Headrick Disc Golf Hall of Fame Classic presented by ProActive Sports Disc Golf - National Tour Finale | R6: =SUMIFS('Player 2 Rounds'!F:F,'Player 2 Rounds'!Q:Q,Q6,'Player 2 Rounds'!E:E,E6) -> 55 | S6: =IF(AND(Player_1[[#This Row],[Opponent Score]]>0,Player_1[[#This Row],[Opponent Score]]>Player_1[[#This Row],[Score]],K:K=TRUE())=TRUE(),1,0) -> 1
A7: Fort Steilacoom Open | B7: A | C7: 23-Jun to 24-Jun-2012 | D7: MPO | E7: 1 | F7: 53 | G7: 1014 | H7: No | I7: No | J7: =IF(COUNTIFS('Player 2 Rounds'!A:A,Player_1[[#This Row],[Tournament]],'Player 2 Rounds'!C:C,Player_1[[#This Row],[Date]])>0,TRUE(),FALSE()) -> FALSE | K7: =IF(COUNTIFS('Player 2 Rounds'!A:A,Player_1[[#This Row],[Tournament]],'Player 2 Rounds'!C:C,Player_1[[#This Row],[Date]],'Player 2 Rounds'!D:D,Player_1[[#This Row],[Division]])>0,TRUE(),FALSE()) -> FALSE | L7: =RIGHT(Player_1[[#This Row],[Date]],4) -> 2012 | M7: =LEFT(Player_1[[#This Row],[Date]],FIND("-",Player_1[[#This Row],[Date]],1)-1) -> 23 | N7: =MID(Player_1[[#This Row],[Date]],FIND("-",Player_1[[#This Row],[Date]],1)+1,3) -> Jun | O7: =DATEVALUE(Player_1[[#This Row],[Month]]&" "&Player_1[[#This Row],[Day]]&", "&Player_1[[#This Row],[Year]]) -> 41083 | P7: =COUNTIFS(A:A,Player_1[[#This Row],[Tournament]],E:E,Player_1[[#This Row],[Round]]) -> 3 | Q7: =IF(ISERROR(FIND(L7,A7,1))=TRUE(),L7&" "&A7,A7) -> 2012 Fort Steilacoom Open | R7: =SUMIFS('Player 2 Rounds'!F:F,'Player 2 Rounds'!Q:Q,Q7,'Player 2 Rounds'!E:E,E7) -> 0 | S7: =IF(AND(Player_1[[#This Row],[Opponent Score]]>0,Player_1[[#This Row],[Opponent Score]]>Player_1[[#This Row],[Score]],K:K=TRUE())=TRUE(),1,0) -> 0
A8: Discraft's Green Mountain Championship | B8: A | C8: 13-Sep to 16-Sep-2017 | D8: MPO | E8: 1 | F8: 50 | G8: 1049 | H8: No | I8: No | J8: =IF(COUNTIFS('Player 2 Rounds'!A:A,Player_1[[#This Row],[Tournament]],'Player 2 Rounds'!C:C,Player_1[[#This Row],[Date]])>0,TRUE(),FALSE()) -> TRUE | K8: =IF(COUNTIFS('Player 2 Rounds'!A:A,Player_1[[#This Row],[Tournament]],'Player 2 Rounds'!C:C,Player_1[[#This Row],[Date]],'Player 2 Rounds'!D:D,Player_1[[#This Row],[Division]])>0,TRUE(),FALSE()) -> TRUE | L8: =RIGHT(Player_1[[#This Row],[Date]],4) -> 2017 | M8: =LEFT(Player_1[[#This Row],[Date]],FIND("-",Player_1[[#This Row],[Date]],1)-1) -> 13 | N8: =MID(Player_1[[#This Row],[Date]],FIND("-",Player_1[[#This Row],[Date]],1)+1,3) -> Sep | O8: =DATEVALUE(Player_1[[#This Row],[Month]]&" "&Player_1[[#This Row],[Day]]&", "&Player_1[[#This Row],[Year]]) -> 42991 | P8: =COUNTIFS(A:A,Player_1[[#This Row],[Tournament]],E:E,Player_1[[#This Row],[Round]]) -> 1 | Q8: =IF(ISERROR(FIND(L8,A8,1))=TRUE(),L8&" "&A8,A8) -> 2017 Discraft's Green Mountain Championship | R8: =SUMIFS('Player 2 Rounds'!F:F,'Player 2 Rounds'!Q:Q,Q8,'Player 2 Rounds'!E:E,E8) -> 49 | S8: =IF(AND(Player_1[[#This Row],[Opponent Score]]>0,Player_1[[#This Row],[Opponent Score]]>Player_1[[#This Row],[Score]],K:K=TRUE())=TRUE(),1,0) -> 0
A9: European Open | B9: M | C9: 20-Jul to 23-Jul-2017 | D9: MPO | E9: 1 | F9: 60 | G9: 1021 | H9: No | I9: No | J9: =IF(COUNTIFS('Player 2 Rounds'!A:A,Player_1[[#This Row],[Tournament]],'Player 2 Rounds'!C:C,Player_1[[#This Row],[Date]])>0,TRUE(),FALSE()) -> TRUE | K9: =IF(COUNTIFS('Player 2 Rounds'!A:A,Player_1[[#This Row],[Tournament]],'Player 2 Rounds'!C:C,Player_1[[#This Row],[Date]],'Player 2 Rounds'!D:D,Player_1[[#This Row],[Division]])>0,TRUE(),FALSE()) -> TRUE | L9: =RIGHT(Player_1[[#This Row],[Date]],4) -> 2017 | M9: =LEFT(Player_1[[#This Row],[Date]],FIND("-",Player_1[[#This Row],[Date]],1)-1) -> 20 | N9: =MID(Player_1[[#This Row],[Date]],FIND("-",Player_1[[#This Row],[Date]],1)+1,3) -> Jul | O9: =DATEVALUE(Player_1[[#This Row],[Month]]&" "&Player_1[[#This Row],[Day]]&", "&Player_1[[#This Row],[Year]]) -> 42936 | P9: =COUNTIFS(A:A,Player_1[[#This Row],[Tournament]],E:E,Player_1[[#This Row],[Round]]) -> 4 | Q9: =IF(ISERROR(FIND(L9,A9,1))=TRUE(),L9&" "&A9,A9) -> 2017 European Open | R9: =SUMIFS('Player 2 Rounds'!F:F,'Player 2 Rounds'!Q:Q,Q9,'Player 2 Rounds'!E:E,E9) -> 55 | S9: =IF(AND(Player_1[[#This Row],[Opponent Score]]>0,Player_1[[#This Row],[Opponent Score]]>Player_1[[#This Row],[Score]],K:K=TRUE())=TRUE(),1,0) -> 0
A10: Vibram Open | B10: NT | C10: 16-Aug to 19-Aug-2012 | D10: MPO | E10: 1 | F10: 50 | G10: 1090 | H10: No | I10: No | J10: =IF(COUNTIFS('Player 2 Rounds'!A:A,Player_1[[#This Row],[Tournament]],'Player 2 Rounds'!C:C,Player_1[[#This Row],[Date]])>0,TRUE(),FALSE()) -> TRUE | K10: =IF(COUNTIFS('Player 2 Rounds'!A:A,Player_1[[#This Row],[Tournament]],'Player 2 Rounds'!C:C,Player_1[[#This Row],[Date]],'Player 2 Rounds'!D:D,Player_1[[#This Row],[Division]])>0,TRUE(),FALSE()) -> TRUE | L10: =RIGHT(Player_1[[#This Row],[Date]],4) -> 2012 | M10: =LEFT(Player_1[[#This Row],[Date]],FIND("-",Player_1[[#This Row],[Date]],1)-1) -> 16 | N10: =MID(Player_1[[#This Row],[Date]],FIND("-",Player_1[[#This Row],[Date]],1)+1,3) -> Aug | O10: =DATEVALUE(Player_1[[#This Row],[Month]]&" "&Player_1[[#This Row],[Day]]&", "&Player_1[[#This Row],[Year]]) -> 41137 | P10: =COUNTIFS(A:A,Player_1[[#This Row],[Tournament]],E:E,Player_1[[#This Row],[Round]]) -> 2 | Q10: =IF(ISERROR(FIND(L10,A10,1))=TRUE(),L10&" "&A10,A10) -> 2012 Vibram Open | R10: =SUMIFS('Player 2 Rounds'!F:F,'Player 2 Rounds'!Q:Q,Q10,'Player 2 Rounds'!E:E,E10) -> 58 | S10: =IF(AND(Player_1[[#This Row],[Opponent Score]]>0,Player_1[[#This Row],[Opponent Score]]>Player_1[[#This Row],[Score]],K:K=TRUE())=TRUE(),1,0) -> 1
A11: Prodiscus Estonian Open - EPT#4 | B11: A | C11: 14-Jul to 16-Jul-2017 | D11: MPO | E11: 1 | F11: 53 | G11: 1031 | H11: No | I11: No | J11: =IF(COUNTIFS('Player 2 Rounds'!A:A,Player_1[[#This Row],[Tournament]],'Player 2 Rounds'!C:C,Player_1[[#This Row],[Date]])>0,TRUE(),FALSE()) -> TRUE | K11: =IF(COUNTIFS('Player 2 Rounds'!A:A,Player_1[[#This Row],[Tournament]],'Player 2 Rounds'!C:C,Player_1[[#This Row],[Date]],'Player 2 Rounds'!D:D,Player_1[[#This Row],[Division]])>0,TRUE(),FALSE()) -> TRUE | L11: =RIGHT(Player_1[[#This Row],[Date]],4) -> 2017 | M11: =LEFT(Player_1[[#This Row],[Date]],FIND("-",Player_1[[#This Row],[Date]],1)-1) -> 14 | N11: =MID(Player_1[[#This Row],[Date]],FIND("-",Player_1[[#This Row],[Date]],1)+1,3) -> Jul | O11: =DATEVALUE(Player_1[[#This Row],[Month]]&" "&Player_1[[#This Row],[Day]]&", "&Player_1[[#This Row],[Year]]) -> 42930 | P11: =COUNTIFS(A:A,Player_1[[#This Row],[Tournament]],E:E,Player_1[[#This Row],[Round]]) -> 1 | Q11: =IF(ISERROR(FIND(L11,A11,1))=TRUE(),L11&" "&A11,A11) -> 2017 Prodiscus Estonian Open - EPT#4 | R11: =SUMIFS('Player 2 Rounds'!F:F,'Player 2 Rounds'!Q:Q,Q11,'Player 2 Rounds'!E:E,E11) -> 53 | S11: =IF(AND(Player_1[[#This Row],[Opponent Score]]>0,Player_1[[#This Row],[Opponent Score]]>Player_1[[#This Row],[Score]],K:K=TRUE())=TRUE(),1,0) -> 0
A12: Ledgestone Insurance Open presented by Discraft | B12: A | C12: 3-Aug to 6-Aug-2017 | D12: MPO | E12: 1 | F12: 54 | G12: 1074 | H12: No | I12: No | J12: =IF(COUNTIFS('Player 2 Rounds'!A:A,Player_1[[#This Row],[Tournament]],'Player 2 Rounds'!C:C,Player_1[[#This Row],[Date]])>0,TRUE(),FALSE()) -> TRUE | K12: =IF(COUNTIFS('Player 2 Rounds'!A:A,Player_1[[#This Row],[Tournament]],'Player 2 Rounds'!C:C,Player_1[[#This Row],[Date]],'Player 2 Rounds'!D:D,Player_1[[#This Row],[Division]])>0,TRUE(),FALSE()) -> TRUE | L12: =RIGHT(Player_1[[#This Row],[Date]],4) -> 2017 | M12: =LEFT(Player_1[[#This Row],[Date]],FIND("-",Player_1[[#This Row],[Date]],1)-1) -> 3 | N12: =MID(Player_1[[#This Row],[Date]],FIND("-",Player_1[[#This Row],[Date]],1)+1,3) -> Aug | O12: =DATEVALUE(Player_1[[#This Row],[Month]]&" "&Player_1[[#This Row],[Day]]&", "&Player_1[[#This Row],[Year]]) -> 42950 | P12: =COUNTIFS(A:A,Player_1[[#This Row],[Tournament]],E:E,Player_1[[#This Row],[Round]]) -> 3 | Q12: =IF(ISERROR(FIND(L12,A12,1))=TRUE(),L12&" "&A12,A12) -> 2017 Ledgestone Insurance Open presented by Discraft | R12: =SUMIFS('Player 2 Rounds'!F:F,'Player 2 Rounds'!Q:Q,Q12,'Player 2 Rounds'!E:E,E12) -> 57 | S12: =IF(AND(Player_1[[#This Row],[Opponent Score]]>0,Player_1[[#This Row],[Opponent Score]]>Player_1[[#This Row],[Score]],K:K=TRUE())=TRUE(),1,0) -> 1
