Workbook

Sheet Head2Head
A1: Events in Common | E1: ='Player 1 Name'!A2 -> Richard Wysocki | F1: ='Player 2 Name'!A2 -> Paul McBeth
A2: Event Name | B2: Date
A3: =IF(ISNA(INDEX(INDIRECT("'Player 1 Rounds'!q1:q"&MATCH(2,'Player 1 Rounds'!E:E,0)),MATCH(TRUE(),INDIRECT("'Player 1 Rounds'!J1:J"&MATCH(2,'Player 1 Rounds'!E:E,0)),0),1))=TRUE(),"",INDEX(INDIRECT("'Player 1 Rounds'!q1:q"&MATCH(2,'Player 1 Rounds'!E:E,0)),MATCH(TRUE(),INDIRECT("'Player 1 Rounds'!J1:J"&MATCH(2,'Player 1 Rounds'!E:E,0)),0),1)) -> 2012 PDGA Professional Disc Golf World Championships | B3: =IF(ISERROR(INDEX('Player 1 Rounds'!O:O,MATCH(Head2Head!A3,'Player 1 Rounds'!Q:Q,0)))=TRUE,"",INDEX('Player 1 Rounds'!O:O,MATCH(Head2Head!A3,'Player 1 Rounds'!Q:Q,0))) -> 41104 | E3: Same Event Any Division(s)
A4: =IF(ISNA(MATCH(IF(ISNA(INDEX(INDIRECT("'Player 1 Rounds'!q"&MATCH(A3,'Player 1 Rounds'!Q:Q,0)+1&":q"&-1+MATCH(2,'Player 1 Rounds'!E:E,0)),MATCH(TRUE(),INDIRECT("'Player 1 Rounds'!J"&MATCH(A3,'Player 1 Rounds'!Q:Q,0)+1&":J"&-1+MATCH(2,'Player 1 Rounds'!E:E,0)),0),1))=TRUE(),"",INDEX(INDIRECT("'Player 1 Rounds'!q"&MATCH(A3,'Player 1 Rounds'!Q:Q,0)+1&":q"&-1+MATCH(2,'Player 1 Rounds'!E:E,0)),MATCH(TRUE(),INDIRECT("'Player 1 Rounds'!J"&MATCH(A3,'Player 1 Rounds'!Q:Q,0)+1&":J"&-1+MATCH(2,'Player 1 Rounds'!E:E,0)),0),1)),A$3:A3,0))=TRUE(),IF(ISNA(INDEX(INDIRECT("'Player 1 Rounds'!q"&MATCH(A3,'Player 1 Rounds'!Q:Q,0)+1&":q"&-1+MATCH(2,'Player 1 Rounds'!E:E,0)),MATCH(TRUE(),INDIRECT("'Player 1 Rounds'!J"&MATCH(A3,'Player 1 Rounds'!Q:Q,0)+1&":J"&-1+MATCH(2,'Player 1 Rounds'!E:E,0)),0),1))=TRUE(),"",INDEX(INDIRECT("'Player 1 Rounds'!q"&MATCH(A3,'Player 1 Rounds'!Q:Q,0)+1&":q"&-1+MATCH(2,'Player 1 Rounds'!E:E,0)),MATCH(TRUE(),INDIRECT("'Player 1 Rounds'!J"&MATCH(A3,'Player 1 Rounds'!Q:Q,0)+1&":J"&-1+MATCH(2,'Player 1 Rounds'!E:E,0)),0),1)),"") -> 2012 Scholl's Bicycle Centers Pittsburgh Flying Disc Open | B4: =IF(ISERROR(INDEX('Player 1 Rounds'!O:O,MATCH(Head2Head!A4,'Player 1 Rounds'!Q:Q,0)))=TRUE,"",INDEX('Player 1 Rounds'!O:O,MATCH(Head2Head!A4,'Player 1 Rounds'!Q:Q,0))) -> 41118 | D4: # Events in common | E4: =COUNTIFS('Player 1 Rounds'!J:J,TRUE(),'Player 1 Rounds'!E:E,1) -> 181
A5: =IF(ISNA(MATCH(IF(ISNA(INDEX(INDIRECT("'Player 1 Rounds'!q"&MATCH(A4,'Player 1 Rounds'!Q:Q,0)+1&":q"&-1+MATCH(2,'Player 1 Rounds'!E:E,0)),MATCH(TRUE(),INDIRECT("'Player 1 Rounds'!J"&MATCH(A4,'Player 1 Rounds'!Q:Q,0)+1&":J"&-1+MATCH(2,'Player 1 Rounds'!E:E,0)),0),1))=TRUE(),"",INDEX(INDIRECT("'Player 1 Rounds'!q"&MATCH(A4,'Player 1 Rounds'!Q:Q,0)+1&":q"&-1+MATCH(2,'Player 1 Rounds'!E:E,0)),MATCH(TRUE(),INDIRECT("'Player 1 Rounds'!J"&MATCH(A4,'Player 1 Rounds'!Q:Q,0)+1&":J"&-1+MATCH(2,'Player 1 Rounds'!E:E,0)),0),1)),A$3:A4,0))=TRUE(),IF(ISNA(INDEX(INDIRECT("'Player 1 Rounds'!q"&MATCH(A4,'Player 1 Rounds'!Q:Q,0)+1&":q"&-1+MATCH(2,'Player 1 Rounds'!E:E,0)),MATCH(TRUE(),INDIRECT("'Player 1 Rounds'!J"&MATCH(A4,'Player 1 Rounds'!Q:Q,0)+1&":J"&-1+MATCH(2,'Player 1 Rounds'!E:E,0)),0),1))=TRUE(),"",INDEX(INDIRECT("'Player 1 Rounds'!q"&MATCH(A4,'Player 1 Rounds'!Q:Q,0)+1&":q"&-1+MATCH(2,'Player 1 Rounds'!E:E,0)),MATCH(TRUE(),INDIRECT("'Player 1 Rounds'!J"&MATCH(A4,'Player 1 Rounds'!Q:Q,0)+1&":J"&-1+MATCH(2,'Player 1 Rounds'!E:E,0)),0),1)),"") -> 2017 DGPT - Vibram Open | B5: =IF(ISERROR(INDEX('Player 1 Rounds'!O:O,MATCH(Head2Head!A5,'Player 1 Rounds'!Q:Q,0)))=TRUE,"",INDEX('Player 1 Rounds'!O:O,MATCH(Head2Head!A5,'Player 1 Rounds'!Q:Q,0))) -> 42978 | D5: Event Commonality | E5: =COUNTIFS('Player 1 Rounds'!J:J,TRUE(),'Player 1 Rounds'!E:E,1)/COUNTIFS('Player 1 Rounds'!E:E,1) -> 0.48918919 | F5: =COUNTIFS('Player 2 Rounds'!J:J,TRUE(),'Player 2 Rounds'!E:E,1)/COUNTIFS('Player 2 Rounds'!E:E,1) -> 0.47883598
A6: =IF(ISNA(MATCH(IF(ISNA(INDEX(INDIRECT("'Player 1 Rounds'!q"&MATCH(A5,'Player 1 Rounds'!Q:Q,0)+1&":q"&-1+MATCH(2,'Player 1 Rounds'!E:E,0)),MATCH(TRUE(),INDIRECT("'Player 1 Rounds'!J"&MATCH(A5,'Player 1 Rounds'!Q:Q,0)+1&":J"&-1+MATCH(2,'Player 1 Rounds'!E:E,0)),0),1))=TRUE(),"",INDEX(INDIRECT("'Player 1 Rounds'!q"&MATCH(A5,'Player 1 Rounds'!Q:Q,0)+1&":q"&-1+MATCH(2,'Player 1 Rounds'!E:E,0)),MATCH(TRUE(),INDIRECT("'Player 1 Rounds'!J"&MATCH(A5,'Player 1 Rounds'!Q:Q,0)+1&":J"&-1+MATCH(2,'Player 1 Rounds'!E:E,0)),0),1)),A$3:A5,0))=TRUE(),IF(ISNA(INDEX(INDIRECT("'Player 1 Rounds'!q"&MATCH(A5,'Player 1 Rounds'!Q:Q,0)+1&":q"&-1+MATCH(2,'Player 1 Rounds'!E:E,0)),MATCH(TRUE(),INDIRECT("'Player 1 Rounds'!J"&MATCH(A5,'Player 1 Rounds'!Q:Q,0)+1&":J"&-1+MATCH(2,'Player 1 Rounds'!E:E,0)),0),1))=TRUE(),"",INDEX(INDIRECT("'Player 1 Rounds'!q"&MATCH(A5,'Player 1 Rounds'!Q:Q,0)+1&":q"&-1+MATCH(2,'Player 1 Rounds'!E:E,0)),MATCH(TRUE(),INDIRECT("'Player 1 Rounds'!J"&MATCH(A5,'Player 1 Rounds'!Q:Q,0)+1&":J"&-1+MATCH(2,'Player 1 Rounds'!E:E,0)),0),1)),"") -> 2017 Ed Headrick Disc Golf Hall of Fame Classic presented by ProActive Sports Disc Golf - National Tour Finale | B6: =IF(ISERROR(INDEX('Player 1 Rounds'!O:O,MATCH(Head2Head!A6,'Player 1 Rounds'!Q:Q,0)))=TRUE,"",INDEX('Player 1 Rounds'!O:O,MATCH(Head2Head!A6,'Player 1 Rounds'!Q:Q,0))) -> 43021 | D6: Common Event Avg Round Rating | E6: =IF(ISERROR(AVERAGEIFS('Player 1 Rounds'!G:G,'Player 1 Rounds'!J:J,TRUE()))=TRUE(),0,AVERAGEIFS('Player 1 Rounds'!G:G,'Player 1 Rounds'!J:J,TRUE())) -> 1044.0663 | F6: =IF(ISERROR(AVERAGEIFS('Player 2 Rounds'!G:G,'Player 2 Rounds'!J:J,TRUE()))=TRUE(),0,AVERAGEIFS('Player 2 Rounds'!G:G,'Player 2 Rounds'!J:J,TRUE())) -> 1048.2558
A7: =IF(ISNA(MATCH(IF(ISNA(INDEX(INDIRECT("'Player 1 Rounds'!q"&MATCH(A6,'Player 1 Rounds'!Q:Q,0)+1&":q"&-1+MATCH(2,'Player 1 Rounds'!E:E,0)),MATCH(TRUE(),INDIRECT("'Player 1 Rounds'!J"&MATCH(A6,'Player 1 Rounds'!Q:Q,0)+1&":J"&-1+MATCH(2,'Player 1 Rounds'!E:E,0)),0),1))=TRUE(),"",INDEX(INDIRECT("'Player 1 Rounds'!q"&MATCH(A6,'Player 1 Rounds'!Q:Q,0)+1&":q"&-1+MATCH(2,'Player 1 Rounds'!E:E,0)),MATCH(TRUE(),INDIRECT("'Player 1 Rounds'!J"&MATCH(A6,'Player 1 Rounds'!Q:Q,0)+1&":J"&-1+MATCH(2,'Player 1 Rounds'!E:E,0)),0),1)),A$3:A6,0))=TRUE(),IF(ISNA(INDEX(INDIRECT("'Player 1 Rounds'!q"&MATCH(A6,'Player 1 Rounds'!Q:Q,0)+1&":q"&-1+MATCH(2,'Player 1 Rounds'!E:E,0)),MATCH(TRUE(),INDIRECT("'Player 1 Rounds'!J"&MATCH(A6,'Player 1 Rounds'!Q:Q,0)+1&":J"&-1+MATCH(2,'Player 1 Rounds'!E:E,0)),0),1))=TRUE(),"",INDEX(INDIRECT("'Player 1 Rounds'!q"&MATCH(A6,'Player 1 Rounds'!Q:Q,0)+1&":q"&-1+MATCH(2,'Player 1 Rounds'!E:E,0)),MATCH(TRUE(),INDIRECT("'Player 1 Rounds'!J"&MATCH(A6,'Player 1 Rounds'!Q:Q,0)+1&":J"&-1+MATCH(2,'Player 1 Rounds'!E:E,0)),0),1)),"") -> 2017 Discraft's Green Mountain Championship | B7: =IF(ISERROR(INDEX('Player 1 Rounds'!O:O,MATCH(Head2Head!A7,'Player 1 Rounds'!Q:Q,0)))=TRUE,"",INDEX('Player 1 Rounds'!O:O,MATCH(Head2Head!A7,'Player 1 Rounds'!Q:Q,0))) -> 42991 | D7: First Common Event | E7: =IF(YEAR(MIN(B3:B436))>1950,MIN(B3:B436),"") -> 40457
A8: =IF(ISNA(MATCH(IF(ISNA(INDEX(INDIRECT("'Player 1 Rounds'!q"&MATCH(A7,'Player 1 Rounds'!Q:Q,0)+1&":q"&-1+MATCH(2,'Player 1 Rounds'!E:E,0)),MATCH(TRUE(),INDIRECT("'Player 1 Rounds'!J"&MATCH(A7,'Player 1 Rounds'!Q:Q,0)+1&":J"&-1+MATCH(2,'Player 1 Rounds'!E:E,0)),0),1))=TRUE(),"",INDEX(INDIRECT("'Player 1 Rounds'!q"&MATCH(A7,'Player 1 Rounds'!Q:Q,0)+1&":q"&-1+MATCH(2,'Player 1 Rounds'!E:E,0)),MATCH(TRUE(),INDIRECT("'Player 1 Rounds'!J"&MATCH(A7,'Player 1 Rounds'!Q:Q,0)+1&":J"&-1+MATCH(2,'Player 1 Rounds'!E:E,0)),0),1)),A$3:A7,0))=TRUE(),IF(ISNA(INDEX(INDIRECT("'Player 1 Rounds'!q"&MATCH(A7,'Player 1 Rounds'!Q:Q,0)+1&":q"&-1+MATCH(2,'Player 1 Rounds'!E:E,0)),MATCH(TRUE(),INDIRECT("'Player 1 Rounds'!J"&MATCH(A7,'Player 1 Rounds'!Q:Q,0)+1&":J"&-1+MATCH(2,'Player 1 Rounds'!E:E,0)),0),1))=TRUE(),"",INDEX(INDIRECT("'Player 1 Rounds'!q"&MATCH(A7,'Player 1 Rounds'!Q:Q,0)+1&":q"&-1+MATCH(2,'Player 1 Rounds'!E:E,0)),MATCH(TRUE(),INDIRECT("'Player 1 Rounds'!J"&MATCH(A7,'Player 1 Rounds'!Q:Q,0)+1&":J"&-1+MATCH(2,'Player 1 Rounds'!E:E,0)),0),1)),"") -> 2017 European Open | B8: =IF(ISERROR(INDEX('Player 1 Rounds'!O:O,MATCH(Head2Head!A8,'Player 1 Rounds'!Q:Q,0)))=TRUE,"",INDEX('Player 1 Rounds'!O:O,MATCH(Head2Head!A8,'Player 1 Rounds'!Q:Q,0))) -> 42936 | D8: Most Recent (through last ratings update) | E8: =IF(YEAR(MAX(B3:B436))>1950,MAX(B3:B436),"") -> 44826
A9: =IF(ISNA(MATCH(IF(ISNA(INDEX(INDIRECT("'Player 1 Rounds'!q"&MATCH(A8,'Player 1 Rounds'!Q:Q,0)+1&":q"&-1+MATCH(2,'Player 1 Rounds'!E:E,0)),MATCH(TRUE(),INDIRECT("'Player 1 Rounds'!J"&MATCH(A8,'Player 1 Rounds'!Q:Q,0)+1&":J"&-1+MATCH(2,'Player 1 Rounds'!E:E,0)),0),1))=TRUE(),"",INDEX(INDIRECT("'Player 1 Rounds'!q"&MATCH(A8,'Player 1 Rounds'!Q:Q,0)+1&":q"&-1+MATCH(2,'Player 1 Rounds'!E:E,0)),MATCH(TRUE(),INDIRECT("'Player 1 Rounds'!J"&MATCH(A8,'Player 1 Rounds'!Q:Q,0)+1&":J"&-1+MATCH(2,'Player 1 Rounds'!E:E,0)),0),1)),A$3:A8,0))=TRUE(),IF(ISNA(INDEX(INDIRECT("'Player 1 Rounds'!q"&MATCH(A8,'Player 1 Rounds'!Q:Q,0)+1&":q"&-1+MATCH(2,'Player 1 Rounds'!E:E,0)),MATCH(TRUE(),INDIRECT("'Player 1 Rounds'!J"&MATCH(A8,'Player 1 Rounds'!Q:Q,0)+1&":J"&-1+MATCH(2,'Player 1 Rounds'!E:E,0)),0),1))=TRUE(),"",INDEX(INDIRECT("'Player 1 Rounds'!q"&MATCH(A8,'Player 1 Rounds'!Q:Q,0)+1&":q"&-1+MATCH(2,'Player 1 Rounds'!E:E,0)),MATCH(TRUE(),INDIRECT("'Player 1 Rounds'!J"&MATCH(A8,'Player 1 Rounds'!Q:Q,0)+1&":J"&-1+MATCH(2,'Player 1 Rounds'!E:E,0)),0),1)),"") -> 2012 Vibram Open | B9: =IF(ISERROR(INDEX('Player 1 Rounds'!O:O,MATCH(Head2Head!A9,'Player 1 Rounds'!Q:Q,0)))=TRUE,"",INDEX('Player 1 Rounds'!O:O,MATCH(Head2Head!A9,'Player 1 Rounds'!Q:Q,0))) -> 41137 | E9: Same Event & Same Division
A10: =IF(ISNA(MATCH(IF(ISNA(INDEX(INDIRECT("'Player 1 Rounds'!q"&MATCH(A9,'Player 1 Rounds'!Q:Q,0)+1&":q"&-1+MATCH(2,'Player 1 Rounds'!E:E,0)),MATCH(TRUE(),INDIRECT("'Player 1 Rounds'!J"&MATCH(A9,'Player 1 Rounds'!Q:Q,0)+1&":J"&-1+MATCH(2,'Player 1 Rounds'!E:E,0)),0),1))=TRUE(),"",INDEX(INDIRECT("'Player 1 Rounds'!q"&MATCH(A9,'Player 1 Rounds'!Q:Q,0)+1&":q"&-1+MATCH(2,'Player 1 Rounds'!E:E,0)),MATCH(TRUE(),INDIRECT("'Player 1 Rounds'!J"&MATCH(A9,'Player 1 Rounds'!Q:Q,0)+1&":J"&-1+MATCH(2,'Player 1 Rounds'!E:E,0)),0),1)),A$3:A9,0))=TRUE(),IF(ISNA(INDEX(INDIRECT("'Player 1 Rounds'!q"&MATCH(A9,'Player 1 Rounds'!Q:Q,0)+1&":q"&-1+MATCH(2,'Player 1 Rounds'!E:E,0)),MATCH(TRUE(),INDIRECT("'Player 1 Rounds'!J"&MATCH(A9,'Player 1 Rounds'!Q:Q,0)+1&":J"&-1+MATCH(2,'Player 1 Rounds'!E:E,0)),0),1))=TRUE(),"",INDEX(INDIRECT("'Player 1 Rounds'!q"&MATCH(A9,'Player 1 Rounds'!Q:Q,0)+1&":q"&-1+MATCH(2,'Player 1 Rounds'!E:E,0)),MATCH(TRUE(),INDIRECT("'Player 1 Rounds'!J"&MATCH(A9,'Player 1 Rounds'!Q:Q,0)+1&":J"&-1+MATCH(2,'Player 1 Rounds'!E:E,0)),0),1)),"") -> 2017 Prodiscus Estonian Open - EPT#4 | B10: =IF(ISERROR(INDEX('Player 1 Rounds'!O:O,MATCH(Head2Head!A10,'Player 1 Rounds'!Q:Q,0)))=TRUE,"",INDEX('Player 1 Rounds'!O:O,MATCH(Head2Head!A10,'Player 1 Rounds'!Q:Q,0))) -> 42930 | D10: # Events in common | E10: =COUNTIFS('Player 1 Rounds'!J:J,TRUE(),'Player 1 Rounds'!E:E,1,'Player 1 Rounds'!K:K,TRUE()) -> 181
A11: =IF(ISNA(MATCH(IF(ISNA(INDEX(INDIRECT("'Player 1 Rounds'!q"&MATCH(A10,'Player 1 Rounds'!Q:Q,0)+1&":q"&-1+MATCH(2,'Player 1 Rounds'!E:E,0)),MATCH(TRUE(),INDIRECT("'Player 1 Rounds'!J"&MATCH(A10,'Player 1 Rounds'!Q:Q,0)+1&":J"&-1+MATCH(2,'Player 1 Rounds'!E:E,0)),0),1))=TRUE(),"",INDEX(INDIRECT("'Player 1 Rounds'!q"&MATCH(A10,'Player 1 Rounds'!Q:Q,0)+1&":q"&-1+MATCH(2,'Player 1 Rounds'!E:E,0)),MATCH(TRUE(),INDIRECT("'Player 1 Rounds'!J"&MATCH(A10,'Player 1 Rounds'!Q:Q,0)+1&":J"&-1+MATCH(2,'Player 1 Rounds'!E:E,0)),0),1)),A$3:A10,0))=TRUE(),IF(ISNA(INDEX(INDIRECT("'Player 1 Rounds'!q"&MATCH(A10,'Player 1 Rounds'!Q:Q,0)+1&":q"&-1+MATCH(2,'Player 1 Rounds'!E:E,0)),MATCH(TRUE(),INDIRECT("'Player 1 Rounds'!J"&MATCH(A10,'Player 1 Rounds'!Q:Q,0)+1&":J"&-1+MATCH(2,'Player 1 Rounds'!E:E,0)),0),1))=TRUE(),"",INDEX(INDIRECT("'Player 1 Rounds'!q"&MATCH(A10,'Player 1 Rounds'!Q:Q,0)+1&":q"&-1+MATCH(2,'Player 1 Rounds'!E:E,0)),MATCH(TRUE(),INDIRECT("'Player 1 Rounds'!J"&MATCH(A10,'Player 1 Rounds'!Q:Q,0)+1&":J"&-1+MATCH(2,'Player 1 Rounds'!E:E,0)),0),1)),"") -> 2017 Ledgestone Insurance Open presented by Discraft | B11: =IF(ISERROR(INDEX('Player 1 Rounds'!O:O,MATCH(Head2Head!A11,'Player 1 Rounds'!Q:Q,0)))=TRUE,"",INDEX('Player 1 Rounds'!O:O,MATCH(Head2Head!A11,'Player 1 Rounds'!Q:Q,0))) -> 42950 | D11: # Rounds | E11: =COUNTIFS('Player 1 Rounds'!K:K,TRUE()) -> 649
A12: =IF(ISNA(MATCH(IF(ISNA(INDEX(INDIRECT("'Player 1 Rounds'!q"&MATCH(A11,'Player 1 Rounds'!Q:Q,0)+1&":q"&-1+MATCH(2,'Player 1 Rounds'!E:E,0)),MATCH(TRUE(),INDIRECT("'Player 1 Rounds'!J"&MATCH(A11,'Player 1 Rounds'!Q:Q,0)+1&":J"&-1+MATCH(2,'Player 1 Rounds'!E:E,0)),0),1))=TRUE(),"",INDEX(INDIRECT("'Player 1 Rounds'!q"&MATCH(A11,'Player 1 Rounds'!Q:Q,0)+1&":q"&-1+MATCH(2,'Player 1 Rounds'!E:E,0)),MATCH(TRUE(),INDIRECT("'Player 1 Rounds'!J"&MATCH(A11,'Player 1 Rounds'!Q:Q,0)+1&":J"&-1+MATCH(2,'Player 1 Rounds'!E:E,0)),0),1)),A$3:A11,0))=TRUE(),IF(ISNA(INDEX(INDIRECT("'Player 1 Rounds'!q"&MATCH(A11,'Player 1 Rounds'!Q:Q,0)+1&":q"&-1+MATCH(2,'Player 1 Rounds'!E:E,0)),MATCH(TRUE(),INDIRECT("'Player 1 Rounds'!J"&MATCH(A11,'Player 1 Rounds'!Q:Q,0)+1&":J"&-1+MATCH(2,'Player 1 Rounds'!E:E,0)),0),1))=TRUE(),"",INDEX(INDIRECT("'Player 1 Rounds'!q"&MATCH(A11,'Player 1 Rounds'!Q:Q,0)+1&":q"&-1+MATCH(2,'Player 1 Rounds'!E:E,0)),MATCH(TRUE(),INDIRECT("'Player 1 Rounds'!J"&MATCH(A11,'Player 1 Rounds'!Q:Q,0)+1&":J"&-1+MATCH(2,'Player 1 Rounds'!E:E,0)),0),1)),"") -> 2017 Pittsburgh Flying Disc Open Presented by Discraft | B12: =IF(ISERROR(INDEX('Player 1 Rounds'!O:O,MATCH(Head2Head!A12,'Player 1 Rounds'!Q:Q,0)))=TRUE,"",INDEX('Player 1 Rounds'!O:O,MATCH(Head2Head!A12,'Player 1 Rounds'!Q:Q,0))) -> 42972 | D12: # Rounds Won H2H (mutually completed rounds) | E12: =SUM('Player 1 Rounds'!S:S) -> 237 | F12: =SUM('Player 2 Rounds'!S:S) -> 295
A13: =IF(ISNA(MATCH(IF(ISNA(INDEX(INDIRECT("'Player 1 Rounds'!q"&MATCH(A12,'Player 1 Rounds'!Q:Q,0)+1&":q"&-1+MATCH(2,'Player 1 Rounds'!E:E,0)),MATCH(TRUE(),INDIRECT("'Player 1 Rounds'!J"&MATCH(A12,'Player 1 Rounds'!Q:Q,0)+1&":J"&-1+MATCH(2,'Player 1 Rounds'!E:E,0)),0),1))=TRUE(),"",INDEX(INDIRECT("'Player 1 Rounds'!q"&MATCH(A12,'Player 1 Rounds'!Q:Q,0)+1&":q"&-1+MATCH(2,'Player 1 Rounds'!E:E,0)),MATCH(TRUE(),INDIRECT("'Player 1 Rounds'!J"&MATCH(A12,'Player 1 Rounds'!Q:Q,0)+1&":J"&-1+MATCH(2,'Player 1 Rounds'!E:E,0)),0),1)),A$3:A12,0))=TRUE(),IF(ISNA(INDEX(INDIRECT("'Player 1 Rounds'!q"&MATCH(A12,'Player 1 Rounds'!Q:Q,0)+1&":q"&-1+MATCH(2,'Player 1 Rounds'!E:E,0)),MATCH(TRUE(),INDIRECT("'Player 1 Rounds'!J"&MATCH(A12,'Player 1 Rounds'!Q:Q,0)+1&":J"&-1+MATCH(2,'Player 1 Rounds'!E:E,0)),0),1))=TRUE(),"",INDEX(INDIRECT("'Player 1 Rounds'!q"&MATCH(A12,'Player 1 Rounds'!Q:Q,0)+1&":q"&-1+MATCH(2,'Player 1 Rounds'!E:E,0)),MATCH(TRUE(),INDIRECT("'Player 1 Rounds'!J"&MATCH(A12,'Player 1 Rounds'!Q:Q,0)+1&":J"&-1+MATCH(2,'Player 1 Rounds'!E:E,0)),0),1)),"") -> 2012 Brent Hambrick Memorial Open | B13: =IF(ISERROR(INDEX('Player 1 Rounds'!O:O,MATCH(Head2Head!A13,'Player 1 Rounds'!Q:Q,0)))=TRUE,"",INDEX('Player 1 Rounds'!O:O,MATCH(Head2Head!A13,'Player 1 Rounds'!Q:Q,0))) -> 41125 | D13: Total # Strokes (mutually completed rounds) | E13: =SUMIFS('Player 1 Rounds'!F:F,'Player 1 Rounds'!K:K,TRUE(),'Player 1 Rounds'!F:F,"<>"&999) -> 36349 | F13: =SUMIFS('Player 2 Rounds'!F:F,'Player 2 Rounds'!K:K,TRUE(),'Player 2 Rounds'!F:F,"<>"&999) -> 35769
A14: =IF(ISNA(MATCH(IF(ISNA(INDEX(INDIRECT("'Player 1 Rounds'!q"&MATCH(A13,'Player 1 Rounds'!Q:Q,0)+1&":q"&-1+MATCH(2,'Player 1 Rounds'!E:E,0)),MATCH(TRUE(),INDIRECT("'Player 1 Rounds'!J"&MATCH(A13,'Player 1 Rounds'!Q:Q,0)+1&":J"&-1+MATCH(2,'Player 1 Rounds'!E:E,0)),0),1))=TRUE(),"",INDEX(INDIRECT("'Player 1 Rounds'!q"&MATCH(A13,'Player 1 Rounds'!Q:Q,0)+1&":q"&-1+MATCH(2,'Player 1 Rounds'!E:E,0)),MATCH(TRUE(),INDIRECT("'Player 1 Rounds'!J"&MATCH(A13,'Player 1 Rounds'!Q:Q,0)+1&":J"&-1+MATCH(2,'Player 1 Rounds'!E:E,0)),0),1)),A$3:A13,0))=TRUE(),IF(ISNA(INDEX(INDIRECT("'Player 1 Rounds'!q"&MATCH(A13,'Player 1 Rounds'!Q:Q,0)+1&":q"&-1+MATCH(2,'Player 1 Rounds'!E:E,0)),MATCH(TRUE(),INDIRECT("'Player 1 Rounds'!J"&MATCH(A13,'Player 1 Rounds'!Q:Q,0)+1&":J"&-1+MATCH(2,'Player 1 Rounds'!E:E,0)),0),1))=TRUE(),"",INDEX(INDIRECT("'Player 1 Rounds'!q"&MATCH(A13,'Player 1 Rounds'!Q:Q,0)+1&":q"&-1+MATCH(2,'Player 1 Rounds'!E:E,0)),MATCH(TRUE(),INDIRECT("'Player 1 Rounds'!J"&MATCH(A13,'Player 1 Rounds'!Q:Q,0)+1&":J"&-1+MATCH(2,'Player 1 Rounds'!E:E,0)),0),1)),"") -> 2012 38th Annual Rochester Flying Disc Open | B14: =IF(ISERROR(INDEX('Player 1 Rounds'!O:O,MATCH(Head2Head!A14,'Player 1 Rounds'!Q:Q,0)))=TRUE,"",INDEX('Player 1 Rounds'!O:O,MATCH(Head2Head!A14,'Player 1 Rounds'!Q:Q,0))) -> 41132 | D14: Total +/- | E14: =IF(E13-F13>0,"+"&E13-F13,E13-F13) -> +580 | F14: =IF(F13-E13>0,"+"&F13-E13,F13-E13) -> -580
A15: =IF(ISNA(MATCH(IF(ISNA(INDEX(INDIRECT("'Player 1 Rounds'!q"&MATCH(A14,'Player 1 Rounds'!Q:Q,0)+1&":q"&-1+MATCH(2,'Player 1 Rounds'!E:E,0)),MATCH(TRUE(),INDIRECT("'Player 1 Rounds'!J"&MATCH(A14,'Player 1 Rounds'!Q:Q,0)+1&":J"&-1+MATCH(2,'Player 1 Rounds'!E:E,0)),0),1))=TRUE(),"",INDEX(INDIRECT("'Player 1 Rounds'!q"&MATCH(A14,'Player 1 Rounds'!Q:Q,0)+1&":q"&-1+MATCH(2,'Player 1 Rounds'!E:E,0)),MATCH(TRUE(),INDIRECT("'Player 1 Rounds'!J"&MATCH(A14,'Player 1 Rounds'!Q:Q,0)+1&":J"&-1+MATCH(2,'Player 1 Rounds'!E:E,0)),0),1)),A$3:A14,0))=TRUE(),IF(ISNA(INDEX(INDIRECT("'Player 1 Rounds'!q"&MATCH(A14,'Player 1 Rounds'!Q:Q,0)+1&":q"&-1+MATCH(2,'Player 1 Rounds'!E:E,0)),MATCH(TRUE(),INDIRECT("'Player 1 Rounds'!J"&MATCH(A14,'Player 1 Rounds'!Q:Q,0)+1&":J"&-1+MATCH(2,'Player 1 Rounds'!E:E,0)),0),1))=TRUE(),"",INDEX(INDIRECT("'Player 1 Rounds'!q"&MATCH(A14,'Player 1 Rounds'!Q:Q,0)+1&":q"&-1+MATCH(2,'Player 1 Rounds'!E:E,0)),MATCH(TRUE(),INDIRECT("'Player 1 Rounds'!J"&MATCH(A14,'Player 1 Rounds'!Q:Q,0)+1&":J"&-1+MATCH(2,'Player 1 Rounds'!E:E,0)),0),1)),"") -> 2018 DGPT - Waco Annual Charity Open presented by Dynamic Discs | B15: =IF(ISERROR(INDEX('Player 1 Rounds'!O:O,MATCH(Head2Head!A15,'Player 1 Rounds'!Q:Q,0)))=TRUE,"",INDEX('Player 1 Rounds'!O:O,MATCH(Head2Head!A15,'Player 1 Rounds'!Q:Q,0))) -> 43174 | D15: ="+/- per round" -> +/- per round | E15: =IF((E13-F13)/E11>0,"+"&ROUND((E13-F13)/E11,1),(E13-F13)/E11) -> +0.9 | F15: =IF((F13-E13)/E11>0,"+"&ROUND((F13-E13)/E11,1),(F13-E13)/E11) -> -0.89368259
A16: =IF(ISNA(MATCH(IF(ISNA(INDEX(INDIRECT("'Player 1 Rounds'!q"&MATCH(A15,'Player 1 Rounds'!Q:Q,0)+1&":q"&-1+MATCH(2,'Player 1 Rounds'!E:E,0)),MATCH(TRUE(),INDIRECT("'Player 1 Rounds'!J"&MATCH(A15,'Player 1 Rounds'!Q:Q,0)+1&":J"&-1+MATCH(2,'Player 1 Rounds'!E:E,0)),0),1))=TRUE(),"",INDEX(INDIRECT("'Player 1 Rounds'!q"&MATCH(A15,'Player 1 Rounds'!Q:Q,0)+1&":q"&-1+MATCH(2,'Player 1 Rounds'!E:E,0)),MATCH(TRUE(),INDIRECT("'Player 1 Rounds'!J"&MATCH(A15,'Player 1 Rounds'!Q:Q,0)+1&":J"&-1+MATCH(2,'Player 1 Rounds'!E:E,0)),0),1)),A$3:A15,0))=TRUE(),IF(ISNA(INDEX(INDIRECT("'Player 1 Rounds'!q"&MATCH(A15,'Player 1 Rounds'!Q:Q,0)+1&":q"&-1+MATCH(2,'Player 1 Rounds'!E:E,0)),MATCH(TRUE(),INDIRECT("'Player 1 Rounds'!J"&MATCH(A15,'Player 1 Rounds'!Q:Q,0)+1&":J"&-1+MATCH(2,'Player 1 Rounds'!E:E,0)),0),1))=TRUE(),"",INDEX(INDIRECT("'Player 1 Rounds'!q"&MATCH(A15,'Player 1 Rounds'!Q:Q,0)+1&":q"&-1+MATCH(2,'Player 1 Rounds'!E:E,0)),MATCH(TRUE(),INDIRECT("'Player 1 Rounds'!J"&MATCH(A15,'Player 1 Rounds'!Q:Q,0)+1&":J"&-1+MATCH(2,'Player 1 Rounds'!E:E,0)),0),1)),"") -> 2012 Charlie Vettiner Open presented by DCD - Pro Only | B16: =IF(ISERROR(INDEX('Player 1 Rounds'!O:O,MATCH(Head2Head!A16,'Player 1 Rounds'!Q:Q,0)))=TRUE,"",INDEX('Player 1 Rounds'!O:O,MATCH(Head2Head!A16,'Player 1 Rounds'!Q:Q,0))) -> 41041 | D16: Common Division Avg Round Rating | E16: =IF(ISERROR(AVERAGEIFS('Player 1 Rounds'!G:G,'Player 1 Rounds'!J:J,TRUE(),'Player 1 Rounds'!K:K,TRUE()))=TRUE(),0,AVERAGEIFS('Player 1 Rounds'!G:G,'Player 1 Rounds'!J:J,TRUE(),'Player 1 Rounds'!K:K,TRUE())) -> 1044.0663 | F16: =IF(ISERROR(AVERAGEIFS('Player 2 Rounds'!G:G,'Player 2 Rounds'!J:J,TRUE(),'Player 2 Rounds'!K:K,TRUE()))=TRUE(),0,AVERAGEIFS('Player 2 Rounds'!G:G,'Player 2 Rounds'!J:J,TRUE(),'Player 2 Rounds'!K:K,TRUE())) -> 1048.2558
A17: =IF(ISNA(MATCH(IF(ISNA(INDEX(INDIRECT("'Player 1 Rounds'!q"&MATCH(A16,'Player 1 Rounds'!Q:Q,0)+1&":q"&-1+MATCH(2,'Player 1 Rounds'!E:E,0)),MATCH(TRUE(),INDIRECT("'Player 1 Rounds'!J"&MATCH(A16,'Player 1 Rounds'!Q:Q,0)+1&":J"&-1+MATCH(2,'Player 1 Rounds'!E:E,0)),0),1))=TRUE(),"",INDEX(INDIRECT("'Player 1 Rounds'!q"&MATCH(A16,'Player 1 Rounds'!Q:Q,0)+1&":q"&-1+MATCH(2,'Player 1 Rounds'!E:E,0)),MATCH(TRUE(),INDIRECT("'Player 1 Rounds'!J"&MATCH(A16,'Player 1 Rounds'!Q:Q,0)+1&":J"&-1+MATCH(2,'Player 1 Rounds'!E:E,0)),0),1)),A$3:A16,0))=TRUE(),IF(ISNA(INDEX(INDIRECT("'Player 1 Rounds'!q"&MATCH(A16,'Player 1 Rounds'!Q:Q,0)+1&":q"&-1+MATCH(2,'Player 1 Rounds'!E:E,0)),MATCH(TRUE(),INDIRECT("'Player 1 Rounds'!J"&MATCH(A16,'Player 1 Rounds'!Q:Q,0)+1&":J"&-1+MATCH(2,'Player 1 Rounds'!E:E,0)),0),1))=TRUE(),"",INDEX(INDIRECT("'Player 1 Rounds'!q"&MATCH(A16,'Player 1 Rounds'!Q:Q,0)+1&":q"&-1+MATCH(2,'Player 1 Rounds'!E:E,0)),MATCH(TRUE(),INDIRECT("'Player 1 Rounds'!J"&MATCH(A16,'Player 1 Rounds'!Q:Q,0)+1&":J"&-1+MATCH(2,'Player 1 Rounds'!E:E,0)),0),1)),"") -> 2018 DGPT - Memorial Championship presented by Discraft | B17: =IF(ISERROR(INDEX('Player 1 Rounds'!O:O,MATCH(Head2Head!A17,'Player 1 Rounds'!Q:Q,0)))=TRUE,"",INDEX('Player 1 Rounds'!O:O,MATCH(Head2Head!A17,'Player 1 Rounds'!Q:Q,0))) -> 43159
A18: =IF(ISNA(MATCH(IF(ISNA(INDEX(INDIRECT("'Player 1 Rounds'!q"&MATCH(A17,'Player 1 Rounds'!Q:Q,0)+1&":q"&-1+MATCH(2,'Player 1 Rounds'!E:E,0)),MATCH(TRUE(),INDIRECT("'Player 1 Rounds'!J"&MATCH(A17,'Player 1 Rounds'!Q:Q,0)+1&":J"&-1+MATCH(2,'Player 1 Rounds'!E:E,0)),0),1))=TRUE(),"",INDEX(INDIRECT("'Player 1 Rounds'!q"&MATCH(A17,'Player 1 Rounds'!Q:Q,0)+1&":q"&-1+MATCH(2,'Player 1 Rounds'!E:E,0)),MATCH(TRUE(),INDIRECT("'Player 1 Rounds'!J"&MATCH(A17,'Player 1 Rounds'!Q:Q,0)+1&":J"&-1+MATCH(2,'Player 1 Rounds'!E:E,0)),0),1)),A$3:A17,0))=TRUE(),IF(ISNA(INDEX(INDIRECT("'Player 1 Rounds'!q"&MATCH(A17,'Player 1 Rounds'!Q:Q,0)+1&":q"&-1+MATCH(2,'Player 1 Rounds'!E:E,0)),MATCH(TRUE(),INDIRECT("'Player 1 Rounds'!J"&MATCH(A17,'Player 1 Rounds'!Q:Q,0)+1&":J"&-1+MATCH(2,'Player 1 Rounds'!E:E,0)),0),1))=TRUE(),"",INDEX(INDIRECT("'Player 1 Rounds'!q"&MATCH(A17,'Player 1 Rounds'!Q:Q,0)+1&":q"&-1+MATCH(2,'Player 1 Rounds'!E:E,0)),MATCH(TRUE(),INDIRECT("'Player 1 Rounds'!J"&MATCH(A17,'Player 1 Rounds'!Q:Q,0)+1&":J"&-1+MATCH(2,'Player 1 Rounds'!E:E,0)),0),1)),"") -> 2012 Indian Hammocks Open | B18: =IF(ISERROR(INDEX('Player 1 Rounds'!O:O,MATCH(Head2Head!A18,'Player 1 Rounds'!Q:Q,0)))=TRUE,"",INDEX('Player 1 Rounds'!O:O,MATCH(Head2Head!A18,'Player 1 Rounds'!Q:Q,0))) -> 41034
A19: =IF(ISNA(MATCH(IF(ISNA(INDEX(INDIRECT("'Player 1 Rounds'!q"&MATCH(A18,'Player 1 Rounds'!Q:Q,0)+1&":q"&-1+MATCH(2,'Player 1 Rounds'!E:E,0)),MATCH(TRUE(),INDIRECT("'Player 1 Rounds'!J"&MATCH(A18,'Player 1 Rounds'!Q:Q,0)+1&":J"&-1+MATCH(2,'Player 1 Rounds'!E:E,0)),0),1))=TRUE(),"",INDEX(INDIRECT("'Player 1 Rounds'!q"&MATCH(A18,'Player 1 Rounds'!Q:Q,0)+1&":q"&-1+MATCH(2,'Player 1 Rounds'!E:E,0)),MATCH(TRUE(),INDIRECT("'Player 1 Rounds'!J"&MATCH(A18,'Player 1 Rounds'!Q:Q,0)+1&":J"&-1+MATCH(2,'Player 1 Rounds'!E:E,0)),0),1)),A$3:A18,0))=TRUE(),IF(ISNA(INDEX(INDIRECT("'Player 1 Rounds'!q"&MATCH(A18,'Player 1 Rounds'!Q:Q,0)+1&":q"&-1+MATCH(2,'Player 1 Rounds'!E:E,0)),MATCH(TRUE(),INDIRECT("'Player 1 Rounds'!J"&MATCH(A18,'Player 1 Rounds'!Q:Q,0)+1&":J"&-1+MATCH(2,'Player 1 Rounds'!E:E,0)),0),1))=TRUE(),"",INDEX(INDIRECT("'Player 1 Rounds'!q"&MATCH(A18,'Player 1 Rounds'!Q:Q,0)+1&":q"&-1+MATCH(2,'Player 1 Rounds'!E:E,0)),MATCH(TRUE(),INDIRECT("'Player 1 Rounds'!J"&MATCH(A18,'Player 1 Rounds'!Q:Q,0)+1&":J"&-1+MATCH(2,'Player 1 Rounds'!E:E,0)),0),1)),"") -> 2018 DGPT - Jonesboro Open | B19: =IF(ISERROR(INDEX('Player 1 Rounds'!O:O,MATCH(Head2Head!A19,'Player 1 Rounds'!Q:Q,0)))=TRUE,"",INDEX('Player 1 Rounds'!O:O,MATCH(Head2Head!A19,'Player 1 Rounds'!Q:Q,0))) -> 43196
A20: =IF(ISNA(MATCH(IF(ISNA(INDEX(INDIRECT("'Player 1 Rounds'!q"&MATCH(A19,'Player 1 Rounds'!Q:Q,0)+1&":q"&-1+MATCH(2,'Player 1 Rounds'!E:E,0)),MATCH(TRUE(),INDIRECT("'Player 1 Rounds'!J"&MATCH(A19,'Player 1 Rounds'!Q:Q,0)+1&":J"&-1+MATCH(2,'Player 1 Rounds'!E:E,0)),0),1))=TRUE(),"",INDEX(INDIRECT("'Player 1 Rounds'!q"&MATCH(A19,'Player 1 Rounds'!Q:Q,0)+1&":q"&-1+MATCH(2,'Player 1 Rounds'!E:E,0)),MATCH(TRUE(),INDIRECT("'Player 1 Rounds'!J"&MATCH(A19,'Player 1 Rounds'!Q:Q,0)+1&":J"&-1+MATCH(2,'Player 1 Rounds'!E:E,0)),0),1)),A$3:A19,0))=TRUE(),IF(ISNA(INDEX(INDIRECT("'Player 1 Rounds'!q"&MATCH(A19,'Player 1 Rounds'!Q:Q,0)+1&":q"&-1+MATCH(2,'Player 1 Rounds'!E:E,0)),MATCH(TRUE(),INDIRECT("'Player 1 Rounds'!J"&MATCH(A19,'Player 1 Rounds'!Q:Q,0)+1&":J"&-1+MATCH(2,'Player 1 Rounds'!E:E,0)),0),1))=TRUE(),"",INDEX(INDIRECT("'Player 1 Rounds'!q"&MATCH(A19,'Player 1 Rounds'!Q:Q,0)+1&":q"&-1+MATCH(2,'Player 1 Rounds'!E:E,0)),MATCH(TRUE(),INDIRECT("'Player 1 Rounds'!J"&MATCH(A19,'Player 1 Rounds'!Q:Q,0)+1&":J"&-1+MATCH(2,'Player 1 Rounds'!E:E,0)),0),1)),"") -> 2012 Fun N Sun | B20: =IF(ISERROR(INDEX('Player 1 Rounds'!O:O,MATCH(Head2Head!A20,'Player 1 Rounds'!Q:Q,0)))=TRUE,"",INDEX('Player 1 Rounds'!O:O,MATCH(Head2Head!A20,'Player 1 Rounds'!Q:Q,0))) -> 41027
A21: =IF(ISNA(MATCH(IF(ISNA(INDEX(INDIRECT("'Player 1 Rounds'!q"&MATCH(A20,'Player 1 Rounds'!Q:Q,0)+1&":q"&-1+MATCH(2,'Player 1 Rounds'!E:E,0)),MATCH(TRUE(),INDIRECT("'Player 1 Rounds'!J"&MATCH(A20,'Player 1 Rounds'!Q:Q,0)+1&":J"&-1+MATCH(2,'Player 1 Rounds'!E:E,0)),0),1))=TRUE(),"",INDEX(INDIRECT("'Player 1 Rounds'!q"&MATCH(A20,'Player 1 Rounds'!Q:Q,0)+1&":q"&-1+MATCH(2,'Player 1 Rounds'!E:E,0)),MATCH(TRUE(),INDIRECT("'Player 1 Rounds'!J"&MATCH(A20,'Player 1 Rounds'!Q:Q,0)+1&":J"&-1+MATCH(2,'Player 1 Rounds'!E:E,0)),0),1)),A$3:A20,0))=TRUE(),IF(ISNA(INDEX(INDIRECT("'Player 1 Rounds'!q"&MATCH(A20,'Player 1 Rounds'!Q:Q,0)+1&":q"&-1+MATCH(2,'Player 1 Rounds'!E:E,0)),MATCH(TRUE(),INDIRECT("'Player 1 Rounds'!J"&MATCH(A20,'Player 1 Rounds'!Q:Q,0)+1&":J"&-1+MATCH(2,'Player 1 Rounds'!E:E,0)),0),1))=TRUE(),"",INDEX(INDIRECT("'Player 1 Rounds'!q"&MATCH(A20,'Player 1 Rounds'!Q:Q,0)+1&":q"&-1+MATCH(2,'Player 1 Rounds'!E:E,0)),MATCH(TRUE(),INDIRECT("'Player 1 Rounds'!J"&MATCH(A20,'Player 1 Rounds'!Q:Q,0)+1&":J"&-1+MATCH(2,'Player 1 Rounds'!E:E,0)),0),1)),"") -> 2012 Beaver State Fling | B21: =IF(ISERROR(INDEX('Player 1 Rounds'!O:O,MATCH(Head2Head!A21,'Player 1 Rounds'!Q:Q,0)))=TRUE,"",INDEX('Player 1 Rounds'!O:O,MATCH(Head2Head!A21,'Player 1 Rounds'!Q:Q,0))) -> 41075
A22: =IF(ISNA(MATCH(IF(ISNA(INDEX(INDIRECT("'Player 1 Rounds'!q"&MATCH(A21,'Player 1 Rounds'!Q:Q,0)+1&":q"&-1+MATCH(2,'Player 1 Rounds'!E:E,0)),MATCH(TRUE(),INDIRECT("'Player 1 Rounds'!J"&MATCH(A21,'Player 1 Rounds'!Q:Q,0)+1&":J"&-1+MATCH(2,'Player 1 Rounds'!E:E,0)),0),1))=TRUE(),"",INDEX(INDIRECT("'Player 1 Rounds'!q"&MATCH(A21,'Player 1 Rounds'!Q:Q,0)+1&":q"&-1+MATCH(2,'Player 1 Rounds'!E:E,0)),MATCH(TRUE(),INDIRECT("'Player 1 Rounds'!J"&MATCH(A21,'Player 1 Rounds'!Q:Q,0)+1&":J"&-1+MATCH(2,'Player 1 Rounds'!E:E,0)),0),1)),A$3:A21,0))=TRUE(),IF(ISNA(INDEX(INDIRECT("'Player 1 Rounds'!q"&MATCH(A21,'Player 1 Rounds'!Q:Q,0)+1&":q"&-1+MATCH(2,'Player 1 Rounds'!E:E,0)),MATCH(TRUE(),INDIRECT("'Player 1 Rounds'!J"&MATCH(A21,'Player 1 Rounds'!Q:Q,0)+1&":J"&-1+MATCH(2,'Player 1 Rounds'!E:E,0)),0),1))=TRUE(),"",INDEX(INDIRECT("'Player 1 Rounds'!q"&MATCH(A21,'Player 1 Rounds'!Q:Q,0)+1&":q"&-1+MATCH(2,'Player 1 Rounds'!E:E,0)),MATCH(TRUE(),INDIRECT("'Player 1 Rounds'!J"&MATCH(A21,'Player 1 Rounds'!Q:Q,0)+1&":J"&-1+MATCH(2,'Player 1 Rounds'!E:E,0)),0),1)),"") -> 2018 Las Vegas Challenge presented by Innova Champion Discs - National Tour | B22: =IF(ISERROR(INDEX('Player 1 Rounds'!O:O,MATCH(Head2Head!A22,'Player 1 Rounds'!Q:Q,0)))=TRUE,"",INDEX('Player 1 Rounds'!O:O,MATCH(Head2Head!A22,'Player 1 Rounds'!Q:Q,0))) -> 43153
A23: =IF(ISNA(MATCH(IF(ISNA(INDEX(INDIRECT("'Player 1 Rounds'!q"&MATCH(A22,'Player 1 Rounds'!Q:Q,0)+1&":q"&-1+MATCH(2,'Player 1 Rounds'!E:E,0)),MATCH(TRUE(),INDIRECT("'Player 1 Rounds'!J"&MATCH(A22,'Player 1 Rounds'!Q:Q,0)+1&":J"&-1+MATCH(2,'Player 1 Rounds'!E:E,0)),0),1))=TRUE(),"",INDEX(INDIRECT("'Player 1 Rounds'!q"&MATCH(A22,'Player 1 Rounds'!Q:Q,0)+1&":q"&-1+MATCH(2,'Player 1 Rounds'!E:E,0)),MATCH(TRUE(),INDIRECT("'Player 1 Rounds'!J"&MATCH(A22,'Player 1 Rounds'!Q:Q,0)+1&":J"&-1+MATCH(2,'Player 1 Rounds'!E:E,0)),0),1)),A$3:A22,0))=TRUE(),IF(ISNA(INDEX(INDIRECT("'Player 1 Rounds'!q"&MATCH(A22,'Player 1 Rounds'!Q:Q,0)+1&":q"&-1+MATCH(2,'Player 1 Rounds'!E:E,0)),MATCH(TRUE(),INDIRECT("'Player 1 Rounds'!J"&MATCH(A22,'Player 1 Rounds'!Q:Q,0)+1&":J"&-1+MATCH(2,'Player 1 Rounds'!E:E,0)),0),1))=TRUE(),"",INDEX(INDIRECT("'Player 1 Rounds'!q"&MATCH(A22,'Player 1 Rounds'!Q:Q,0)+1&":q"&-1+MATCH(2,'Player 1 Rounds'!E:E,0)),MATCH(TRUE(),INDIRECT("'Player 1 Rounds'!J"&MATCH(A22,'Player 1 Rounds'!Q:Q,0)+1&":J"&-1+MATCH(2,'Player 1 Rounds'!E:E,0)),0),1)),"") -> 2012 27th Annual "Steady" Ed Memorial Masters Cup - presented by DGA | B23: =IF(ISERROR(INDEX('Player 1 Rounds'!O:O,MATCH(Head2Head!A23,'Player 1 Rounds'!Q:Q,0)))=TRUE,"",INDEX('Player 1 Rounds'!O:O,MATCH(Head2Head!A23,'Player 1 Rounds'!Q:Q,0))) -> 41047
A24: =IF(ISNA(MATCH(IF(ISNA(INDEX(INDIRECT("'Player 1 Rounds'!q"&MATCH(A23,'Player 1 Rounds'!Q:Q,0)+1&":q"&-1+MATCH(2,'Player 1 Rounds'!E:E,0)),MATCH(TRUE(),INDIRECT("'Player 1 Rounds'!J"&MATCH(A23,'Player 1 Rounds'!Q:Q,0)+1&":J"&-1+MATCH(2,'Player 1 Rounds'!E:E,0)),0),1))=TRUE(),"",INDEX(INDIRECT("'Player 1 Rounds'!q"&MATCH(A23,'Player 1 Rounds'!Q:Q,0)+1&":q"&-1+MATCH(2,'Player 1 Rounds'!E:E,0)),MATCH(TRUE(),INDIRECT("'Player 1 Rounds'!J"&MATCH(A23,'Player 1 Rounds'!Q:Q,0)+1&":J"&-1+MATCH(2,'Player 1 Rounds'!E:E,0)),0),1)),A$3:A23,0))=TRUE(),IF(ISNA(INDEX(INDIRECT("'Player 1 Rounds'!q"&MATCH(A23,'Player 1 Rounds'!Q:Q,0)+1&":q"&-1+MATCH(2,'Player 1 Rounds'!E:E,0)),MATCH(TRUE(),INDIRECT("'Player 1 Rounds'!J"&MATCH(A23,'Player 1 Rounds'!Q:Q,0)+1&":J"&-1+MATCH(2,'Player 1 Rounds'!E:E,0)),0),1))=TRUE(),"",INDEX(INDIRECT("'Player 1 Rounds'!q"&MATCH(A23,'Player 1 Rounds'!Q:Q,0)+1&":q"&-1+MATCH(2,'Player 1 Rounds'!E:E,0)),MATCH(TRUE(),INDIRECT("'Player 1 Rounds'!J"&MATCH(A23,'Player 1 Rounds'!Q:Q,0)+1&":J"&-1+MATCH(2,'Player 1 Rounds'!E:E,0)),0),1)),"") -> 2012 G&L Clothing Challenge | B24: =IF(ISERROR(INDEX('Player 1 Rounds'!O:O,MATCH(Head2Head!A24,'Player 1 Rounds'!Q:Q,0)))=TRUE,"",INDEX('Player 1 Rounds'!O:O,MATCH(Head2Head!A24,'Player 1 Rounds'!Q:Q,0))) -> 41055
A25: =IF(ISNA(MATCH(IF(ISNA(INDEX(INDIRECT("'Player 1 Rounds'!q"&MATCH(A24,'Player 1 Rounds'!Q:Q,0)+1&":q"&-1+MATCH(2,'Player 1 Rounds'!E:E,0)),MATCH(TRUE(),INDIRECT("'Player 1 Rounds'!J"&MATCH(A24,'Player 1 Rounds'!Q:Q,0)+1&":J"&-1+MATCH(2,'Player 1 Rounds'!E:E,0)),0),1))=TRUE(),"",INDEX(INDIRECT("'Player 1 Rounds'!q"&MATCH(A24,'Player 1 Rounds'!Q:Q,0)+1&":q"&-1+MATCH(2,'Player 1 Rounds'!E:E,0)),MATCH(TRUE(),INDIRECT("'Player 1 Rounds'!J"&MATCH(A24,'Player 1 Rounds'!Q:Q,0)+1&":J"&-1+MATCH(2,'Player 1 Rounds'!E:E,0)),0),1)),A$3:A24,0))=TRUE(),IF(ISNA(INDEX(INDIRECT("'Player 1 Rounds'!q"&MATCH(A24,'Player 1 Rounds'!Q:Q,0)+1&":q"&-1+MATCH(2,'Player 1 Rounds'!E:E,0)),MATCH(TRUE(),INDIRECT("'Player 1 Rounds'!J"&MATCH(A24,'Player 1 Rounds'!Q:Q,0)+1&":J"&-1+MATCH(2,'Player 1 Rounds'!E:E,0)),0),1))=TRUE(),"",INDEX(INDIRECT("'Player 1 Rounds'!q"&MATCH(A24,'Player 1 Rounds'!Q:Q,0)+1&":q"&-1+MATCH(2,'Player 1 Rounds'!E:E,0)),MATCH(TRUE(),INDIRECT("'Player 1 Rounds'!J"&MATCH(A24,'Player 1 Rounds'!Q:Q,0)+1&":J"&-1+MATCH(2,'Player 1 Rounds'!E:E,0)),0),1)),"") -> 2012 30th Kansas City Wide Open | B25: =IF(ISERROR(INDEX('Player 1 Rounds'!O:O,MATCH(Head2Head!A25,'Player 1 Rounds'!Q:Q,0)))=TRUE,"",INDEX('Player 1 Rounds'!O:O,MATCH(Head2Head!A25,'Player 1 Rounds'!Q:Q,0))) -> 41061
A26: =IF(ISNA(MATCH(IF(ISNA(INDEX(INDIRECT("'Player 1 Rounds'!q"&MATCH(A25,'Player 1 Rounds'!Q:Q,0)+1&":q"&-1+MATCH(2,'Player 1 Rounds'!E:E,0)),MATCH(TRUE(),INDIRECT("'Player 1 Rounds'!J"&MATCH(A25,'Player 1 Rounds'!Q:Q,0)+1&":J"&-1+MATCH(2,'Player 1 Rounds'!E:E,0)),0),1))=TRUE(),"",INDEX(INDIRECT("'Player 1 Rounds'!q"&MATCH(A25,'Player 1 Rounds'!Q:Q,0)+1&":q"&-1+MATCH(2,'Player 1 Rounds'!E:E,0)),MATCH(TRUE(),INDIRECT("'Player 1 Rounds'!J"&MATCH(A25,'Player 1 Rounds'!Q:Q,0)+1&":J"&-1+MATCH(2,'Player 1 Rounds'!E:E,0)),0),1)),A$3:A25,0))=TRUE(),IF(ISNA(INDEX(INDIRECT("'Player 1 Rounds'!q"&MATCH(A25,'Player 1 Rounds'!Q:Q,0)+1&":q"&-1+MATCH(2,'Player 1 Rounds'!E:E,0)),MATCH(TRUE(),INDIRECT("'Player 1 Rounds'!J"&MATCH(A25,'Player 1 Rounds'!Q:Q,0)+1&":J"&-1+MATCH(2,'Player 1 Rounds'!E:E,0)),0),1))=TRUE(),"",INDEX(INDIRECT("'Player 1 Rounds'!q"&MATCH(A25,'Player 1 Rounds'!Q:Q,0)+1&":q"&-1+MATCH(2,'Player 1 Rounds'!E:E,0)),MATCH(TRUE(),INDIRECT("'Player 1 Rounds'!J"&MATCH(A25,'Player 1 Rounds'!Q:Q,0)+1&":J"&-1+MATCH(2,'Player 1 Rounds'!E:E,0)),0),1)),"") -> 2017 22nd Annual Texas States Disc Golf Championship Presented By Cory's Bicycle Shop | B26: =IF(ISERROR(INDEX('Player 1 Rounds'!O:O,MATCH(Head2Head!A26,'Player 1 Rounds'!Q:Q,0)))=TRUE,"",INDEX('Player 1 Rounds'!O:O,MATCH(Head2Head!A26,'Player 1 Rounds'!Q:Q,0))) -> 42832
A27: =IF(ISNA(MATCH(IF(ISNA(INDEX(INDIRECT("'Player 1 Rounds'!q"&MATCH(A26,'Player 1 Rounds'!Q:Q,0)+1&":q"&-1+MATCH(2,'Player 1 Rounds'!E:E,0)),MATCH(TRUE(),INDIRECT("'Player 1 Rounds'!J"&MATCH(A26,'Player 1 Rounds'!Q:Q,0)+1&":J"&-1+MATCH(2,'Player 1 Rounds'!E:E,0)),0),1))=TRUE(),"",INDEX(INDIRECT("'Player 1 Rounds'!q"&MATCH(A26,'Player 1 Rounds'!Q:Q,0)+1&":q"&-1+MATCH(2,'Player 1 Rounds'!E:E,0)),MATCH(TRUE(),INDIRECT("'Player 1 Rounds'!J"&MATCH(A26,'Player 1 Rounds'!Q:Q,0)+1&":J"&-1+MATCH(2,'Player 1 Rounds'!E:E,0)),0),1)),A$3:A26,0))=TRUE(),IF(ISNA(INDEX(INDIRECT("'Player 1 Rounds'!q"&MATCH(A26,'Player 1 Rounds'!Q:Q,0)+1&":q"&-1+MATCH(2,'Player 1 Rounds'!E:E,0)),MATCH(TRUE(),INDIRECT("'Player 1 Rounds'!J"&MATCH(A26,'Player 1 Rounds'!Q:Q,0)+1&":J"&-1+MATCH(2,'Player 1 Rounds'!E:E,0)),0),1))=TRUE(),"",INDEX(INDIRECT("'Player 1 Rounds'!q"&MATCH(A26,'Player 1 Rounds'!Q:Q,0)+1&":q"&-1+MATCH(2,'Player 1 Rounds'!E:E,0)),MATCH(TRUE(),INDIRECT("'Player 1 Rounds'!J"&MATCH(A26,'Player 1 Rounds'!Q:Q,0)+1&":J"&-1+MATCH(2,'Player 1 Rounds'!E:E,0)),0),1)),"") -> 2012 MDGA Open | B27: =IF(ISERROR(INDEX('Player 1 Rounds'!O:O,MATCH(Head2Head!A27,'Player 1 Rounds'!Q:Q,0)))=TRUE,"",INDEX('Player 1 Rounds'!O:O,MATCH(Head2Head!A27,'Player 1 Rounds'!Q:Q,0))) -> 41230
A28: =IF(ISNA(MATCH(IF(ISNA(INDEX(INDIRECT("'Player 1 Rounds'!q"&MATCH(A27,'Player 1 Rounds'!Q:Q,0)+1&":q"&-1+MATCH(2,'Player 1 Rounds'!E:E,0)),MATCH(TRUE(),INDIRECT("'Player 1 Rounds'!J"&MATCH(A27,'Player 1 Rounds'!Q:Q,0)+1&":J"&-1+MATCH(2,'Player 1 Rounds'!E:E,0)),0),1))=TRUE(),"",INDEX(INDIRECT("'Player 1 Rounds'!q"&MATCH(A27,'Player 1 Rounds'!Q:Q,0)+1&":q"&-1+MATCH(2,'Player 1 Rounds'!E:E,0)),MATCH(TRUE(),INDIRECT("'Player 1 Rounds'!J"&MATCH(A27,'Player 1 Rounds'!Q:Q,0)+1&":J"&-1+MATCH(2,'Player 1 Rounds'!E:E,0)),0),1)),A$3:A27,0))=TRUE(),IF(ISNA(INDEX(INDIRECT("'Player 1 Rounds'!q"&MATCH(A27,'Player 1 Rounds'!Q:Q,0)+1&":q"&-1+MATCH(2,'Player 1 Rounds'!E:E,0)),MATCH(TRUE(),INDIRECT("'Player 1 Rounds'!J"&MATCH(A27,'Player 1 Rounds'!Q:Q,0)+1&":J"&-1+MATCH(2,'Player 1 Rounds'!E:E,0)),0),1))=TRUE(),"",INDEX(INDIRECT("'Player 1 Rounds'!q"&MATCH(A27,'Player 1 Rounds'!Q:Q,0)+1&":q"&-1+MATCH(2,'Player 1 Rounds'!E:E,0)),MATCH(TRUE(),INDIRECT("'Player 1 Rounds'!J"&MATCH(A27,'Player 1 Rounds'!Q:Q,0)+1&":J"&-1+MATCH(2,'Player 1 Rounds'!E:E,0)),0),1)),"") -> 2017 DGPT - Nick Hyde Memorial powered by Innova & Hyzerbomb | B28: =IF(ISERROR(INDEX('Player 1 Rounds'!O:O,MATCH(Head2Head!A28,'Player 1 Rounds'!Q:Q,0)))=TRUE,"",INDEX('Player 1 Rounds'!O:O,MATCH(Head2Head!A28,'Player 1 Rounds'!Q:Q,0))) -> 42825
... A277: =IF(ISNA(MATCH(IF(ISNA(INDEX(INDIRECT("'Player 1 Rounds'!q"&MATCH(A276,'Player 1 Rounds'!Q:Q,0)+1&":q"&-1+MATCH(2,'Player 1 Rounds'!E:E,0)),MATCH(TRUE(),INDIRECT("'Player 1 Rounds'!J"&MATCH(A276,'Player 1 Rounds'!Q:Q,0)+1&":J"&-1+MATCH(2,'Player 1 Rounds'!E:E,0)),0),1))=TRUE(),"",INDEX(INDIRECT("'Player 1 Rounds'!q"&MATCH(A276,'Player 1 Rounds'!Q:Q,0)+1&":q"&-1+MATCH(2,'Player 1 Rounds'!E:E,0)),MATCH(TRUE(),INDIRECT("'Player 1 Rounds'!J"&MATCH(A276,'Player 1 Rounds'!Q:Q,0)+1&":J"&-1+MATCH(2,'Player 1 Rounds'!E:E,0)),0),1)),A$3:A276,0))=TRUE(),IF(ISNA(INDEX(INDIRECT("'Player 1 Rounds'!q"&MATCH(A276,'Player 1 Rounds'!Q:Q,0)+1&":q"&-1+MATCH(2,'Player 1 Rounds'!E:E,0)),MATCH(TRUE(),INDIRECT("'Player 1 Rounds'!J"&MATCH(A276,'Player 1 Rounds'!Q:Q,0)+1&":J"&-1+MATCH(2,'Player 1 Rounds'!E:E,0)),0),1))=TRUE(),"",INDEX(INDIRECT("'Player 1 Rounds'!q"&MATCH(A276,'Player 1 Rounds'!Q:Q,0)+1&":q"&-1+MATCH(2,'Player 1 Rounds'!E:E,0)),MATCH(TRUE(),INDIRECT("'Player 1 Rounds'!J"&MATCH(A276,'Player 1 Rounds'!Q:Q,0)+1&":J"&-1+MATCH(2,'Player 1 Rounds'!E:E,0)),0),1)),"") | B277: =IF(ISERROR(INDEX('Player 1 Rounds'!O:O,MATCH(Head2Head!A277,'Player 1 Rounds'!Q:Q,0)))=TRUE,"",INDEX('Player 1 Rounds'!O:O,MATCH(Head2Head!A277,'Player 1 Rounds'!Q:Q,0)))

Sheet Player Entry
A1: Welcome to Hyzermetrics Head2Head!
A2: 1) Enter PDGA #s | B2: Enter Player 1 PDGA # -> | C2: 38008
B3: Enter Player 2 PDGA # -> | C3: 27523
A4: 2) Refresh the Data | B4: Press CTRL + Alt + F5 or go to Data -> Refresh All. It may take a minute for the data to refresh
A5: 3) Check out the Results | B5: Go over to the Head2Head tab of this spreadsheet to see data from the events the two players have played together

Sheet Common Events
A1: Tournament | B1: Date | C1: Division | D1: Player 1 | E1: Player 2 | F1: Year | G1: Day | H1: Month | I1: Column1
A2: DGPT - MVP Open at Maple Hill | B2: 22-Sep to 25-Sep-2022 | C2: MPO | D2: 1047.3333 | E2: 1052.6667 | F2: =RIGHT(Common_Events[[#This Row],[Date]],4) -> 2022 | G2: =LEFT(Common_Events[[#This Row],[Date]],FIND("-",Common_Events[[#This Row],[Date]],1)-1) -> 22 | H2: =MID(Common_Events[[#This Row],[Date]],FIND("-",Common_Events[[#This Row],[Date]],1)+1,3) -> Sep | I2: =DATEVALUE(Common_Events[[#This Row],[Month]]&" "&Common_Events[[#This Row],[Day]]&", "&Common_Events[[#This Row],[Year]]) -> 44826
A3: DGPT Playoffs - Discraft's Green Mountain Championship | B3: 15-Sep to 18-Sep-2022 | C3: MPO | D3: 1059.25 | E3: 1051.25 | F3: =RIGHT(Common_Events[[#This Row],[Date]],4) -> 2022 | G3: =LEFT(Common_Events[[#This Row],[Date]],FIND("-",Common_Events[[#This Row],[Date]],1)-1) -> 15 | H3: =MID(Common_Events[[#This Row],[Date]],FIND("-",Common_Events[[#This Row],[Date]],1)+1,3) -> Sep | I3: =DATEVALUE(Common_Events[[#This Row],[Month]]&" "&Common_Events[[#This Row],[Day]]&", "&Common_Events[[#This Row],[Year]]) -> 44819
A4: 2022 PDGA Professional Disc Golf World Championships Presented by Dynamic Discs | B4: 30-Aug to 3-Sep-2022 | C4: MPO | D4: 1042 | E4: 1058.4 | F4: =RIGHT(Common_Events[[#This Row],[Date]],4) -> 2022 | G4: =LEFT(Common_Events[[#This Row],[Date]],FIND("-",Common_Events[[#This Row],[Date]],1)-1) -> 30 | H4: =MID(Common_Events[[#This Row],[Date]],FIND("-",Common_Events[[#This Row],[Date]],1)+1,3) -> Aug | I4: =DATEVALUE(Common_Events[[#This Row],[Month]]&" "&Common_Events[[#This Row],[Day]]&", "&Common_Events[[#This Row],[Year]]) -> 44803
A5: DGPT - The TruBank Des Moines Challenge presented by Discraft | B5: 19-Aug to 21-Aug-2022 | C5: MPO | D5: 1011 | E5: 1032.3333 | F5: =RIGHT(Common_Events[[#This Row],[Date]],4) -> 2022 | G5: =LEFT(Common_Events[[#This Row],[Date]],FIND("-",Common_Events[[#This Row],[Date]],1)-1) -> 19 | H5: =MID(Common_Events[[#This Row],[Date]],FIND("-",Common_Events[[#This Row],[Date]],1)+1,3) -> Aug | I5: =DATEVALUE(Common_Events[[#This Row],[Month]]&" "&Common_Events[[#This Row],[Day]]&", "&Common_Events[[#This Row],[Year]]) -> 44792
A6: DGPT - Discraft Ledgestone Open | B6: 11-Aug to 14-Aug-2022 | C6: MPO | D6: 1055.25 | E6: 1048.75 | F6: =RIGHT(Common_Events[[#This Row],[Date]],4) -> 2022 | G6: =LEFT(Common_Events[[#This Row],[Date]],FIND("-",Common_Events[[#This Row],[Date]],1)-1) -> 11 | H6: =MID(Common_Events[[#This Row],[Date]],FIND("-",Common_Events[[#This Row],[Date]],1)+1,3) -> Aug | I6: =DATEVALUE(Common_Events[[#This Row],[Month]]&" "&Common_Events[[#This Row],[Day]]&", "&Common_Events[[#This Row],[Year]]) -> 44784
A7: DGPT - Discraft's Great Lakes Open | B7: 29-Jul to 31-Jul-2022 | C7: MPO | D7: 1049.3333 | E7: 1042.3333 | F7: =RIGHT(Common_Events[[#This Row],[Date]],4) -> 2022 | G7: =LEFT(Common_Events[[#This Row],[Date]],FIND("-",Common_Events[[#This Row],[Date]],1)-1) -> 29 | H7: =MID(Common_Events[[#This Row],[Date]],FIND("-",Common_Events[[#This Row],[Date]],1)+1,3) -> Jul | I7: =DATEVALUE(Common_Events[[#This Row],[Month]]&" "&Common_Events[[#This Row],[Day]]&", "&Common_Events[[#This Row],[Year]]) -> 44771
A8: European Open presented by Discmania | B8: 21-Jul to 24-Jul-2022 | C8: MPO | D8: 1028 | E8: 1072.25 | F8: =RIGHT(Common_Events[[#This Row],[Date]],4) -> 2022 | G8: =LEFT(Common_Events[[#This Row],[Date]],FIND("-",Common_Events[[#This Row],[Date]],1)-1) -> 21 | H8: =MID(Common_Events[[#This Row],[Date]],FIND("-",Common_Events[[#This Row],[Date]],1)+1,3) -> Jul | I8: =DATEVALUE(Common_Events[[#This Row],[Month]]&" "&Common_Events[[#This Row],[Day]]&", "&Common_Events[[#This Row],[Year]]) -> 44763
A9: DGPT - LWS Open at Idlewild presented by Dynamic Discs & The Nati | B9: 8-Jul to 10-Jul-2022 | C9: MPO | D9: 1029.6667 | E9: 1038 | F9: =RIGHT(Common_Events[[#This Row],[Date]],4) -> 2022 | G9: =LEFT(Common_Events[[#This Row],[Date]],FIND("-",Common_Events[[#This Row],[Date]],1)-1) -> 8 | H9: =MID(Common_Events[[#This Row],[Date]],FIND("-",Common_Events[[#This Row],[Date]],1)+1,3) -> Jul | I9: =DATEVALUE(Common_Events[[#This Row],[Month]]&" "&Common_Events[[#This Row],[Day]]&", "&Common_Events[[#This Row],[Year]]) -> 44750
A10: DGPT - The Preserve Championship designed by Leiviska Disc Golf | B10: 24-Jun to 26-Jun-2022 | C10: MPO | D10: 1055 | E10: 1038.6667 | F10: =RIGHT(Common_Events[[#This Row],[Date]],4) -> 2022 | G10: =LEFT(Common_Events[[#This Row],[Date]],FIND("-",Common_Events[[#This Row],[Date]],1)-1) -> 24 | H10: =MID(Common_Events[[#This Row],[Date]],FIND("-",Common_Events[[#This Row],[Date]],1)+1,3) -> Jun | I10: =DATEVALUE(Common_Events[[#This Row],[Month]]&" "&Common_Events[[#This Row],[Day]]&", "&Common_Events[[#This Row],[Year]]) -> 44736
A11: DGPT - OTB Open presented by MVP Disc Sports | B11: 20-May to 22-May-2022 | C11: MPO | D11: 1044.6667 | E11: 1031.6667 | F11: =RIGHT(Common_Events[[#This Row],[Date]],4) -> 2022 | G11: =LEFT(Common_Events[[#This Row],[Date]],FIND("-",Common_Events[[#This Row],[Date]],1)-1) -> 20 | H11: =MID(Common_Events[[#This Row],[Date]],FIND("-",Common_Events[[#This Row],[Date]],1)+1,3) -> May | I11: =DATEVALUE(Common_Events[[#This Row],[Month]]&" "&Common_Events[[#This Row],[Day]]&", "&Common_Events[[#This Row],[Year]]) -> 44701
A12: DGPT - Dynamic Discs Open | B12: 28-Apr to 1-May-2022 | C12: MPO | D12: 1045 | E12: 1010.6667 | F12: =RIGHT(Common_Events[[#This Row],[Date]],4) -> 2022 | G12: =LEFT(Common_Events[[#This Row],[Date]],FIND("-",Common_Events[[#This Row],[Date]],1)-1) -> 28 | H12: =MID(Common_Events[[#This Row],[Date]],FIND("-",Common_Events[[#This Row],[Date]],1)+1,3) -> Apr | I12: =DATEVALUE(Common_Events[[#This Row],[Month]]&" "&Common_Events[[#This Row],[Day]]&", "&Common_Events[[#This Row],[Year]]) -> 44679
A13: DGPT - Play It Again Sports Jonesboro Open powered by Prodigy | B13: 22-Apr to 24-Apr-2022 | C13: MPO | D13: 1042.6667 | E13: 1059.3333 | F13: =RIGHT(Common_Events[[#This Row],[Date]],4) -> 2022 | G13: =LEFT(Common_Events[[#This Row],[Date]],FIND("-",Common_Events[[#This Row],[Date]],1)-1) -> 22 | H13: =MID(Common_Events[[#This Row],[Date]],FIND("-",Common_Events[[#This Row],[Date]],1)+1,3) -> Apr | I13: =DATEVALUE(Common_Events[[#This Row],[Month]]&" "&Common_Events[[#This Row],[Day]]&", "&Common_Events[[#This Row],[Year]]) -> 44673
... A186: United States Disc Golf Championship | B186: 6-Oct to 9-Oct-2010 | C186: MPO | D186: 995.75 | E186: 1037.25 | F186: =RIGHT(Common_Events[[#This Row],[Date]],4) -> 2010 | G186: =LEFT(Common_Events[[#This Row],[Date]],FIND("-",Common_Events[[#This Row],[Date]],1)-1) -> 6 | H186: =MID(Common_Events[[#This Row],[Date]],FIND("-",Common_Events[[#This Row],[Date]],1)+1,3) -> Oct | I186: =DATEVALUE(Common_Events[[#This Row],[Month]]&" "&Common_Events[[#This Row],[Day]]&", "&Common_Events[[#This Row],[Year]]) -> 40457

Sheet Player 1 Rounds
A1: Tournament | B1: Tier | C1: Date | D1: Division | E1: Round | F1: Score | G1: Rating | H1: Evaluated | I1: Included | J1: Event Commonality | K1: Same Division | L1: Year | M1: Day | N1: Month | O1: Start Date | P1: Column1 | Q1: New Name | R1: Opponent Score | S1: Win Loss
A2: 2012 PDGA Professional Disc Golf World Championships | B2: M | C2: 14-Jul to 21-Jul-2012 | D2: MPO | E2: 1 | F2: 57 | G2: 1056 | H2: No | I2: No | J2: =IF(COUNTIFS('Player 2 Rounds'!A:A,Player_1[[#This Row],[Tournament]],'Player 2 Rounds'!C:C,Player_1[[#This Row],[Date]])>0,TRUE(),FALSE()) -> TRUE | K2: =IF(COUNTIFS('Player 2 Rounds'!A:A,Player_1[[#This Row],[Tournament]],'Player 2 Rounds'!C:C,Player_1[[#This Row],[Date]],'Player 2 Rounds'!D:D,Player_1[[#This Row],[Division]])>0,TRUE(),FALSE()) -> TRUE | L2: =RIGHT(Player_1[[#This Row],[Date]],4) -> 2012 | M2: =LEFT(Player_1[[#This Row],[Date]],FIND("-",Player_1[[#This Row],[Date]],1)-1) -> 14 | N2: =MID(Player_1[[#This Row],[Date]],FIND("-",Player_1[[#This Row],[Date]],1)+1,3) -> Jul | O2: =DATEVALUE(Player_1[[#This Row],[Month]]&" "&Player_1[[#This Row],[Day]]&", "&Player_1[[#This Row],[Year]]) -> 41104 | P2: =COUNTIFS(A:A,Player_1[[#This Row],[Tournament]],E:E,Player_1[[#This Row],[Round]]) -> 1 | Q2: =IF(ISERROR(FIND(L2,A2,1))=TRUE(),L2&" "&A2,A2) -> 2012 PDGA Professional Disc Golf World Championships | R2: =SUMIFS('Player 2 Rounds'!F:F,'Player 2 Rounds'!Q:Q,Q2,'Player 2 Rounds'!E:E,E2) -> 57 | S2: =IF(AND(Player_1[[#This Row],[Opponent Score]]>0,Player_1[[#This Row],[Opponent Score]]>Player_1[[#This Row],[Score]],K:K=TRUE())=TRUE(),1,0) -> 0
A3: Scholl's Bicycle Centers Pittsburgh Flying Disc Open | B3: A | C3: 28-Jul to 29-Jul-2012 | D3: MPO | E3: 1 | F3: 61 | G3: 1023 | H3: No | I3: No | J3: =IF(COUNTIFS('Player 2 Rounds'!A:A,Player_1[[#This Row],[Tournament]],'Player 2 Rounds'!C:C,Player_1[[#This Row],[Date]])>0,TRUE(),FALSE()) -> TRUE | K3: =IF(COUNTIFS('Player 2 Rounds'!A:A,Player_1[[#This Row],[Tournament]],'Player 2 Rounds'!C:C,Player_1[[#This Row],[Date]],'Player 2 Rounds'!D:D,Player_1[[#This Row],[Division]])>0,TRUE(),FALSE()) -> TRUE | L3: =RIGHT(Player_1[[#This Row],[Date]],4) -> 2012 | M3: =LEFT(Player_1[[#This Row],[Date]],FIND("-",Player_1[[#This Row],[Date]],1)-1) -> 28 | N3: =MID(Player_1[[#This Row],[Date]],FIND("-",Player_1[[#This Row],[Date]],1)+1,3) -> Jul | O3: =DATEVALUE(Player_1[[#This Row],[Month]]&" "&Player_1[[#This Row],[Day]]&", "&Player_1[[#This Row],[Year]]) -> 41118 | P3: =COUNTIFS(A:A,Player_1[[#This Row],[Tournament]],E:E,Player_1[[#This Row],[Round]]) -> 1 | Q3: =IF(ISERROR(FIND(L3,A3,1))=TRUE(),L3&" "&A3,A3) -> 2012 Scholl's Bicycle Centers Pittsburgh Flying Disc Open | R3: =SUMIFS('Player 2 Rounds'!F:F,'Player 2 Rounds'!Q:Q,Q3,'Player 2 Rounds'!E:E,E3) -> 61 | S3: =IF(AND(Player_1[[#This Row],[Opponent Score]]>0,Player_1[[#This Row],[Opponent Score]]>Player_1[[#This Row],[Score]],K:K=TRUE())=TRUE(),1,0) -> 0
A4: DGPT - Vibram Open | B4: A | C4: 31-Aug to 3-Sep-2017 | D4: MPO | E4: 1 | F4: 53 | G4: 1062 | H4: No | I4: No | J4: =IF(COUNTIFS('Player 2 Rounds'!A:A,Player_1[[#This Row],[Tournament]],'Player 2 Rounds'!C:C,Player_1[[#This Row],[Date]])>0,TRUE(),FALSE()) -> TRUE | K4: =IF(COUNTIFS('Player 2 Rounds'!A:A,Player_1[[#This Row],[Tournament]],'Player 2 Rounds'!C:C,Player_1[[#This Row],[Date]],'Player 2 Rounds'!D:D,Player_1[[#This Row],[Division]])>0,TRUE(),FALSE()) -> TRUE | L4: =RIGHT(Player_1[[#This Row],[Date]],4) -> 2017 | M4: =LEFT(Player_1[[#This Row],[Date]],FIND("-",Player_1[[#This Row],[Date]],1)-1) -> 31 | N4: =MID(Player_1[[#This Row],[Date]],FIND("-",Player_1[[#This Row],[Date]],1)+1,3) -> Aug | O4: =DATEVALUE(Player_1[[#This Row],[Month]]&" "&Player_1[[#This Row],[Day]]&", "&Player_1[[#This Row],[Year]]) -> 42978 | P4: =COUNTIFS(A:A,Player_1[[#This Row],[Tournament]],E:E,Player_1[[#This Row],[Round]]) -> 1 | Q4: =IF(ISERROR(FIND(L4,A4,1))=TRUE(),L4&" "&A4,A4) -> 2017 DGPT - Vibram Open | R4: =SUMIFS('Player 2 Rounds'!F:F,'Player 2 Rounds'!Q:Q,Q4,'Player 2 Rounds'!E:E,E4) -> 58 | S4: =IF(AND(Player_1[[#This Row],[Opponent Score]]>0,Player_1[[#This Row],[Opponent Score]]>Player_1[[#This Row],[Score]],K:K=TRUE())=TRUE(),1,0) -> 1
A5: Madisonville Open | B5: A | C5: 6-Jul to 8-Jul-2012 | D5: MPO | E5: 1 | F5: 66 | G5: 1027 | H5: No | I5: No | J5: =IF(COUNTIFS('Player 2 Rounds'!A:A,Player_1[[#This Row],[Tournament]],'Player 2 Rounds'!C:C,Player_1[[#This Row],[Date]])>0,TRUE(),FALSE()) -> FALSE | K5: =IF(COUNTIFS('Player 2 Rounds'!A:A,Player_1[[#This Row],[Tournament]],'Player 2 Rounds'!C:C,Player_1[[#This Row],[Date]],'Player 2 Rounds'!D:D,Player_1[[#This Row],[Division]])>0,TRUE(),FALSE()) -> FALSE | L5: =RIGHT(Player_1[[#This Row],[Date]],4) -> 2012 | M5: =LEFT(Player_1[[#This Row],[Date]],FIND("-",Player_1[[#This Row],[Date]],1)-1) -> 6 | N5: =MID(Player_1[[#This Row],[Date]],FIND("-",Player_1[[#This Row],[Date]],1)+1,3) -> Jul | O5: =DATEVALUE(Player_1[[#This Row],[Month]]&" "&Player_1[[#This Row],[Day]]&", "&Player_1[[#This Row],[Year]]) -> 41096 | P5: =COUNTIFS(A:A,Player_1[[#This Row],[Tournament]],E:E,Player_1[[#This Row],[Round]]) -> 1 | Q5: =IF(ISERROR(FIND(L5,A5,1))=TRUE(),L5&" "&A5,A5) -> 2012 Madisonville Open | R5: =SUMIFS('Player 2 Rounds'!F:F,'Player 2 Rounds'!Q:Q,Q5,'Player 2 Rounds'!E:E,E5) -> 0 | S5: =IF(AND(Player_1[[#This Row],[Opponent Score]]>0,Player_1[[#This Row],[Opponent Score]]>Player_1[[#This Row],[Score]],K:K=TRUE())=TRUE(),1,0) -> 0
A6: Ed Headrick Disc Golf Hall of Fame Classic presented by ProActive Sports Disc Golf - National Tour Finale | B6: NT | C6: 13-Oct to 15-Oct-2017 | D6: MPO | E6: 1 | F6: 51 | G6: 1034 | H6: No | I6: No | J6: =IF(COUNTIFS('Player 2 Rounds'!A:A,Player_1[[#This Row],[Tournament]],'Player 2 Rounds'!C:C,Player_1[[#This Row],[Date]])>0,TRUE(),FALSE()) -> TRUE | K6: =IF(COUNTIFS('Player 2 Rounds'!A:A,Player_1[[#This Row],[Tournament]],'Player 2 Rounds'!C:C,Player_1[[#This Row],[Date]],'Player 2 Rounds'!D:D,Player_1[[#This Row],[Division]])>0,TRUE(),FALSE()) -> TRUE | L6: =RIGHT(Player_1[[#This Row],[Date]],4) -> 2017 | M6: =LEFT(Player_1[[#This Row],[Date]],FIND("-",Player_1[[#This Row],[Date]],1)-1) -> 13 | N6: =MID(Player_1[[#This Row],[Date]],FIND("-",Player_1[[#This Row],[Date]],1)+1,3) -> Oct | O6: =DATEVALUE(Player_1[[#This Row],[Month]]&" "&Player_1[[#This Row],[Day]]&", "&Player_1[[#This Row],[Year]]) -> 43021 | P6: =COUNTIFS(A:A,Player_1[[#This Row],[Tournament]],E:E,Player_1[[#This Row],[Round]]) -> 1 | Q6: =IF(ISERROR(FIND(L6,A6,1))=TRUE(),L6&" "&A6,A6) -> 2017 Ed Headrick Disc Golf Hall of Fame Classic presented by ProActive Sports Disc Golf - National Tour Finale | R6: =SUMIFS('Player 2 Rounds'!F:F,'Player 2 Rounds'!Q:Q,Q6,'Player 2 Rounds'!E:E,E6) -> 55 | S6: =IF(AND(Player_1[[#This Row],[Opponent Score]]>0,Player_1[[#This Row],[Opponent Score]]>Player_1[[#This Row],[Score]],K:K=TRUE())=TRUE(),1,0) -> 1
A7: Fort Steilacoom Open | B7: A | C7: 23-Jun to 24-Jun-2012 | D7: MPO | E7: 1 | F7: 53 | G7: 1014 | H7: No | I7: No | J7: =IF(COUNTIFS('Player 2 Rounds'!A:A,Player_1[[#This Row],[Tournament]],'Player 2 Rounds'!C:C,Player_1[[#This Row],[Date]])>0,TRUE(),FALSE()) -> FALSE | K7: =IF(COUNTIFS('Player 2 Rounds'!A:A,Player_1[[#This Row],[Tournament]],'Player 2 Rounds'!C:C,Player_1[[#This Row],[Date]],'Player 2 Rounds'!D:D,Player_1[[#This Row],[Division]])>0,TRUE(),FALSE()) -> FALSE | L7: =RIGHT(Player_1[[#This Row],[Date]],4) -> 2012 | M7: =LEFT(Player_1[[#This Row],[Date]],FIND("-",Player_1[[#This Row],[Date]],1)-1) -> 23 | N7: =MID(Player_1[[#This Row],[Date]],FIND("-",Player_1[[#This Row],[Date]],1)+1,3) -> Jun | O7: =DATEVALUE(Player_1[[#This Row],[Month]]&" "&Player_1[[#This Row],[Day]]&", "&Player_1[[#This Row],[Year]]) -> 41083 | P7: =COUNTIFS(A:A,Player_1[[#This Row],[Tournament]],E:E,Player_1[[#This Row],[Round]]) -> 3 | Q7: =IF(ISERROR(FIND(L7,A7,1))=TRUE(),L7&" "&A7,A7) -> 2012 Fort Steilacoom Open | R7: =SUMIFS('Player 2 Rounds'!F:F,'Player 2 Rounds'!Q:Q,Q7,'Player 2 Rounds'!E:E,E7) -> 0 | S7: =IF(AND(Player_1[[#This Row],[Opponent Score]]>0,Player_1[[#This Row],[Opponent Score]]>Player_1[[#This Row],[Score]],K:K=TRUE())=TRUE(),1,0) -> 0
A8: Discraft's Green Mountain Championship | B8: A | C8: 13-Sep to 16-Sep-2017 | D8: MPO | E8: 1 | F8: 50 | G8: 1049 | H8: No | I8: No | J8: =IF(COUNTIFS('Player 2 Rounds'!A:A,Player_1[[#This Row],[Tournament]],'Player 2 Rounds'!C:C,Player_1[[#This Row],[Date]])>0,TRUE(),FALSE()) -> TRUE | K8: =IF(COUNTIFS('Player 2 Rounds'!A:A,Player_1[[#This Row],[Tournament]],'Player 2 Rounds'!C:C,Player_1[[#This Row],[Date]],'Player 2 Rounds'!D:D,Player_1[[#This Row],[Division]])>0,TRUE(),FALSE()) -> TRUE | L8: =RIGHT(Player_1[[#This Row],[Date]],4) -> 2017 | M8: =LEFT(Player_1[[#This Row],[Date]],FIND("-",Player_1[[#This Row],[Date]],1)-1) -> 13 | N8: =MID(Player_1[[#This Row],[Date]],FIND("-",Player_1[[#This Row],[Date]],1)+1,3) -> Sep | O8: =DATEVALUE(Player_1[[#This Row],[Month]]&" "&Player_1[[#This Row],[Day]]&", "&Player_1[[#This Row],[Year]]) -> 42991 | P8: =COUNTIFS(A:A,Player_1[[#This Row],[Tournament]],E:E,Player_1[[#This Row],[Round]]) -> 1 | Q8: =IF(ISERROR(FIND(L8,A8,1))=TRUE(),L8&" "&A8,A8) -> 2017 Discraft's Green Mountain Championship | R8: =SUMIFS('Player 2 Rounds'!F:F,'Player 2 Rounds'!Q:Q,Q8,'Player 2 Rounds'!E:E,E8) -> 49 | S8: =IF(AND(Player_1[[#This Row],[Opponent Score]]>0,Player_1[[#This Row],[Opponent Score]]>Player_1[[#This Row],[Score]],K:K=TRUE())=TRUE(),1,0) -> 0
A9: European Open | B9: M | C9: 20-Jul to 23-Jul-2017 | D9: MPO | E9: 1 | F9: 60 | G9: 1021 | H9: No | I9: No | J9: =IF(COUNTIFS('Player 2 Rounds'!A:A,Player_1[[#This Row],[Tournament]],'Player 2 Rounds'!C:C,Player_1[[#This Row],[Date]])>0,TRUE(),FALSE()) -> TRUE | K9: =IF(COUNTIFS('Player 2 Rounds'!A:A,Player_1[[#This Row],[Tournament]],'Player 2 Rounds'!C:C,Player_1[[#This Row],[Date]],'Player 2 Rounds'!D:D,Player_1[[#This Row],[Division]])>0,TRUE(),FALSE()) -> TRUE | L9: =RIGHT(Player_1[[#This Row],[Date]],4) -> 2017 | M9: =LEFT(Player_1[[#This Row],[Date]],FIND("-",Player_1[[#This Row],[Date]],1)-1) -> 20 | N9: =MID(Player_1[[#This Row],[Date]],FIND("-",Player_1[[#This Row],[Date]],1)+1,3) -> Jul | O9: =DATEVALUE(Player_1[[#This Row],[Month]]&" "&Player_1[[#This Row],[Day]]&", "&Player_1[[#This Row],[Year]]) -> 42936 | P9: =COUNTIFS(A:A,Player_1[[#This Row],[Tournament]],E:E,Player_1[[#This Row],[Round]]) -> 4 | Q9: =IF(ISERROR(FIND(L9,A9,1))=TRUE(),L9&" "&A9,A9) -> 2017 European Open | R9: =SUMIFS('Player 2 Rounds'!F:F,'Player 2 Rounds'!Q:Q,Q9,'Player 2 Rounds'!E:E,E9) -> 55 | S9: =IF(AND(Player_1[[#This Row],[Opponent Score]]>0,Player_1[[#This Row],[Opponent Score]]>Player_1[[#This Row],[Score]],K:K=TRUE())=TRUE(),1,0) -> 0
A10: Vibram Open | B10: NT | C10: 16-Aug to 19-Aug-2012 | D10: MPO | E10: 1 | F10: 50 | G10: 1090 | H10: No | I10: No | J10: =IF(COUNTIFS('Player 2 Rounds'!A:A,Player_1[[#This Row],[Tournament]],'Player 2 Rounds'!C:C,Player_1[[#This Row],[Date]])>0,TRUE(),FALSE()) -> TRUE | K10: =IF(COUNTIFS('Player 2 Rounds'!A:A,Player_1[[#This Row],[Tournament]],'Player 2 Rounds'!C:C,Player_1[[#This Row],[Date]],'Player 2 Rounds'!D:D,Player_1[[#This Row],[Division]])>0,TRUE(),FALSE()) -> TRUE | L10: =RIGHT(Player_1[[#This Row],[Date]],4) -> 2012 | M10: =LEFT(Player_1[[#This Row],[Date]],FIND("-",Player_1[[#This Row],[Date]],1)-1) -> 16 | N10: =MID(Player_1[[#This Row],[Date]],FIND("-",Player_1[[#This Row],[Date]],1)+1,3) -> Aug | O10: =DATEVALUE(Player_1[[#This Row],[Month]]&" "&Player_1[[#This Row],[Day]]&", "&Player_1[[#This Row],[Year]]) -> 41137 | P10: =COUNTIFS(A:A,Player_1[[#This Row],[Tournament]],E:E,Player_1[[#This Row],[Round]]) -> 2 | Q10: =IF(ISERROR(FIND(L10,A10,1))=TRUE(),L10&" "&A10,A10) -> 2012 Vibram Open | R10: =SUMIFS('Player 2 Rounds'!F:F,'Player 2 Rounds'!Q:Q,Q10,'Player 2 Rounds'!E:E,E10) -> 58 | S10: =IF(AND(Player_1[[#This Row],[Opponent Score]]>0,Player_1[[#This Row],[Opponent Score]]>Player_1[[#This Row],[Score]],K:K=TRUE())=TRUE(),1,0) -> 1
A11: Prodiscus Estonian Open - EPT#4 | B11: A | C11: 14-Jul to 16-Jul-2017 | D11: MPO | E11: 1 | F11: 53 | G11: 1031 | H11: No | I11: No | J11: =IF(COUNTIFS('Player 2 Rounds'!A:A,Player_1[[#This Row],[Tournament]],'Player 2 Rounds'!C:C,Player_1[[#This Row],[Date]])>0,TRUE(),FALSE()) -> TRUE | K11: =IF(COUNTIFS('Player 2 Rounds'!A:A,Player_1[[#This Row],[Tournament]],'Player 2 Rounds'!C:C,Player_1[[#This Row],[Date]],'Player 2 Rounds'!D:D,Player_1[[#This Row],[Division]])>0,TRUE(),FALSE()) -> TRUE | L11: =RIGHT(Player_1[[#This Row],[Date]],4) -> 2017 | M11: =LEFT(Player_1[[#This Row],[Date]],FIND("-",Player_1[[#This Row],[Date]],1)-1) -> 14 | N11: =MID(Player_1[[#This Row],[Date]],FIND("-",Player_1[[#This Row],[Date]],1)+1,3) -> Jul | O11: =DATEVALUE(Player_1[[#This Row],[Month]]&" "&Player_1[[#This Row],[Day]]&", "&Player_1[[#This Row],[Year]]) -> 42930 | P11: =COUNTIFS(A:A,Player_1[[#This Row],[Tournament]],E:E,Player_1[[#This Row],[Round]]) -> 1 | Q11: =IF(ISERROR(FIND(L11,A11,1))=TRUE(),L11&" "&A11,A11) -> 2017 Prodiscus Estonian Open - EPT#4 | R11: =SUMIFS('Player 2 Rounds'!F:F,'Player 2 Rounds'!Q:Q,Q11,'Player 2 Rounds'!E:E,E11) -> 53 | S11: =IF(AND(Player_1[[#This Row],[Opponent Score]]>0,Player_1[[#This Row],[Opponent Score]]>Player_1[[#This Row],[Score]],K:K=TRUE())=TRUE(),1,0) -> 0
A12: Ledgestone Insurance Open presented by Discraft | B12: A | C12: 3-Aug to 6-Aug-2017 | D12: MPO | E12: 1 | F12: 54 | G12: 1074 | H12: No | I12: No | J12: =IF(COUNTIFS('Player 2 Rounds'!A:A,Player_1[[#This Row],[Tournament]],'Player 2 Rounds'!C:C,Player_1[[#This Row],[Date]])>0,TRUE(),FALSE()) -> TRUE | K12: =IF(COUNTIFS('Player 2 Rounds'!A:A,Player_1[[#This Row],[Tournament]],'Player 2 Rounds'!C:C,Player_1[[#This Row],[Date]],'Player 2 Rounds'!D:D,Player_1[[#This Row],[Division]])>0,TRUE(),FALSE()) -> TRUE | L12: =RIGHT(Player_1[[#This Row],[Date]],4) -> 2017 | M12: =LEFT(Player_1[[#This Row],[Date]],FIND("-",Player_1[[#This Row],[Date]],1)-1) -> 3 | N12: =MID(Player_1[[#This Row],[Date]],FIND("-",Player_1[[#This Row],[Date]],1)+1,3) -> Aug | O12: =DATEVALUE(Player_1[[#This Row],[Month]]&" "&Player_1[[#This Row],[Day]]&", "&Player_1[[#This Row],[Year]]) -> 42950 | P12: =COUNTIFS(A:A,Player_1[[#This Row],[Tournament]],E:E,Player_1[[#This Row],[Round]]) -> 3 | Q12: =IF(ISERROR(FIND(L12,A12,1))=TRUE(),L12&" "&A12,A12) -> 2017 Ledgestone Insurance Open presented by Discraft | R12: =SUMIFS('Player 2 Rounds'!F:F,'Player 2 Rounds'!Q:Q,Q12,'Player 2 Rounds'!E:E,E12) -> 57 | S12: =IF(AND(Player_1[[#This Row],[Opponent Score]]>0,Player_1[[#This Row],[Opponent Score]]>Player_1[[#This Row],[Score]],K:K=TRUE())=TRUE(),1,0) -> 1
A13: Pittsburgh Flying Disc Open Presented by Discraft | B13: NT | C13: 25-Aug to 27-Aug-2017 | D13: MPO | E13: 1 | F13: 54 | G13: 1053 | H13: No | I13: No | J13: =IF(COUNTIFS('Player 2 Rounds'!A:A,Player_1[[#This Row],[Tournament]],'Player 2 Rounds'!C:C,Player_1[[#This Row],[Date]])>0,TRUE(),FALSE()) -> TRUE | K13: =IF(COUNTIFS('Player 2 Rounds'!A:A,Player_1[[#This Row],[Tournament]],'Player 2 Rounds'!C:C,Player_1[[#This Row],[Date]],'Player 2 Rounds'!D:D,Player_1[[#This Row],[Division]])>0,TRUE(),FALSE()) -> TRUE | L13: =RIGHT(Player_1[[#This Row],[Date]],4) -> 2017 | M13: =LEFT(Player_1[[#This Row],[Date]],FIND("-",Player_1[[#This Row],[Date]],1)-1) -> 25 | N13: =MID(Player_1[[#This Row],[Date]],FIND("-",Player_1[[#This Row],[Date]],1)+1,3) -> Aug | O13: =DATEVALUE(Player_1[[#This Row],[Month]]&" "&Player_1[[#This Row],[Day]]&", "&Player_1[[#This Row],[Year]]) -> 42972 | P13: =COUNTIFS(A:A,Player_1[[#This Row],[Tournament]],E:E,Player_1[[#This Row],[Round]]) -> 1 | Q13: =IF(ISERROR(FIND(L13,A13,1))=TRUE(),L13&" "&A13,A13) -> 2017 Pittsburgh Flying Disc Open Presented by Discraft | R13: =SUMIFS('Player 2 Rounds'!F:F,'Player 2 Rounds'!Q:Q,Q13,'Player 2 Rounds'!E:E,E13) -> 54 | S13: =IF(AND(Player_1[[#This Row],[Opponent Score]]>0,Player_1[[#This Row],[Opponent Score]]>Player_1[[#This Row],[Score]],K:K=TRUE())=TRUE(),1,0) -> 0
... A1121: 2013 PDGA Professional Disc Golf World Championships | B1121: M | C1121: 3-Aug to 10-Aug-2013 | D1121: MPO | E1121: 6 | F1121: 50 | G1121: 1077 | H1121: No | I1121: No | J1121: =IF(COUNTIFS('Player 2 Rounds'!A:A,Player_1[[#This Row],[Tournament]],'Player 2 Rounds'!C:C,Player_1[[#This Row],[Date]])>0,TRUE(),FALSE()) -> TRUE | K1121: =IF(COUNTIFS('Player 2 Rounds'!A:A,Player_1[[#This Row],[Tournament]],'Player 2 Rounds'!C:C,Player_1[[#This Row],[Date]],'Player 2 Rounds'!D:D,Player_1[[#This Row],[Division]])>0,TRUE(),FALSE()) -> TRUE | L1121: =RIGHT(Player_1[[#This Row],[Date]],4) -> 2013 | M1121: =LEFT(Player_1[[#This Row],[Date]],FIND("-",Player_1[[#This Row],[Date]],1)-1) -> 3 | N1121: =MID(Player_1[[#This Row],[Date]],FIND("-",Player_1[[#This Row],[Date]],1)+1,3) -> Aug | O1121: =DATEVALUE(Player_1[[#This Row],[Month]]&" "&Player_1[[#This Row],[Day]]&", "&Player_1[[#This Row],[Year]]) -> 41489 | P1121: =COUNTIFS(A:A,Player_1[[#This Row],[Tournament]],E:E,Player_1[[#This Row],[Round]]) -> 1 | Q1121: =IF(ISERROR(FIND(L1121,A1121,1))=TRUE(),L1121&" "&A1121,A1121) -> 2013 PDGA Professional Disc Golf World Championships | R1121: =SUMIFS('Player 2 Rounds'!F:F,'Player 2 Rounds'!Q:Q,Q1121,'Player 2 Rounds'!E:E,E1121) -> 54 | S1121: =IF(AND(Player_1[[#This Row],[Opponent Score]]>0,Player_1[[#This Row],[Opponent Score]]>Player_1[[#This Row],[Score]],K:K=TRUE())=TRUE(),1,0) -> 1
A1122: EuroTour #7 - Twin Lake Annual 2014 presented by Latitude 64 | B1122: A | C1122: 25-Jul to 27-Jul-2014 | D1122: MPO | F1122: 55 | G1122: 1017 | H1122: No | I1122: No | J1122: =IF(COUNTIFS('Player 2 Rounds'!A:A,Player_1[[#This Row],[Tournament]],'Player 2 Rounds'!C:C,Player_1[[#This Row],[Date]])>0,TRUE(),FALSE()) -> FALSE | K1122: =IF(COUNTIFS('Player 2 Rounds'!A:A,Player_1[[#This Row],[Tournament]],'Player 2 Rounds'!C:C,Player_1[[#This Row],[Date]],'Player 2 Rounds'!D:D,Player_1[[#This Row],[Division]])>0,TRUE(),FALSE()) -> FALSE | L1122: =RIGHT(Player_1[[#This Row],[Date]],4) -> 2014 | M1122: =LEFT(Player_1[[#This Row],[Date]],FIND("-",Player_1[[#This Row],[Date]],1)-1) -> 25 | N1122: =MID(Player_1[[#This Row],[Date]],FIND("-",Player_1[[#This Row],[Date]],1)+1,3) -> Jul | O1122: =DATEVALUE(Player_1[[#This Row],[Month]]&" "&Player_1[[#This Row],[Day]]&", "&Player_1[[#This Row],[Year]]) -> 41845 | P1122: =COUNTIFS(A:A,Player_1[[#This Row],[Tournament]],E:E,Player_1[[#This Row],[Round]]) -> 0 | Q1122: =IF(ISERROR(FIND(L1122,A1122,1))=TRUE(),L1122&" "&A1122,A1122) -> EuroTour #7 - Twin Lake Annual 2014 presented by Latitude 64 | R1122: =SUMIFS('Player 2 Rounds'!F:F,'Player 2 Rounds'!Q:Q,Q1122,'Player 2 Rounds'!E:E,E1122) -> 0 | S1122: =IF(AND(Player_1[[#This Row],[Opponent Score]]>0,Player_1[[#This Row],[Opponent Score]]>Player_1[[#This Row],[Score]],K:K=TRUE())=TRUE(),1,0) -> 0
A1123: DGPT - Dynamic Discs Open | B1123: ES | C1123: 28-Apr to 1-May-2022 | D1123: MPO | F1123: 60 | G1123: 1044 | H1123: Yes | I1123: Yes | J1123: =IF(COUNTIFS('Player 2 Rounds'!A:A,Player_1[[#This Row],[Tournament]],'Player 2 Rounds'!C:C,Player_1[[#This Row],[Date]])>0,TRUE(),FALSE()) -> TRUE | K1123: =IF(COUNTIFS('Player 2 Rounds'!A:A,Player_1[[#This Row],[Tournament]],'Player 2 Rounds'!C:C,Player_1[[#This Row],[Date]],'Player 2 Rounds'!D:D,Player_1[[#This Row],[Division]])>0,TRUE(),FALSE()) -> TRUE | L1123: =RIGHT(Player_1[[#This Row],[Date]],4) -> 2022 | M1123: =LEFT(Player_1[[#This Row],[Date]],FIND("-",Player_1[[#This Row],[Date]],1)-1) -> 28 | N1123: =MID(Player_1[[#This Row],[Date]],FIND("-",Player_1[[#This Row],[Date]],1)+1,3) -> Apr | O1123: =DATEVALUE(Player_1[[#This Row],[Month]]&" "&Player_1[[#This Row],[Day]]&", "&Player_1[[#This Row],[Year]]) -> 44679 | P1123: =COUNTIFS(A:A,Player_1[[#This Row],[Tournament]],E:E,Player_1[[#This Row],[Round]]) -> 0 | Q1123: =IF(ISERROR(FIND(L1123,A1123,1))=TRUE(),L1123&" "&A1123,A1123) -> 2022 DGPT - Dynamic Discs Open | R1123: =SUMIFS('Player 2 Rounds'!F:F,'Player 2 Rounds'!Q:Q,Q1123,'Player 2 Rounds'!E:E,E1123) -> 0 | S1123: =IF(AND(Player_1[[#This Row],[Opponent Score]]>0,Player_1[[#This Row],[Opponent Score]]>Player_1[[#This Row],[Score]],K:K=TRUE())=TRUE(),1,0) -> 0
A1124: The 25th Annual Memorial Championship presented by Discraft | B1124: NT | C1124: 27-Feb to 2-Mar-2013 | D1124: MPO | F1124: 51 | G1124: 1019 | H1124: No | I1124: No | J1124: =IF(COUNTIFS('Player 2 Rounds'!A:A,Player_1[[#This Row],[Tournament]],'Player 2 Rounds'!C:C,Player_1[[#This Row],[Date]])>0,TRUE(),FALSE()) -> TRUE | K1124: =IF(COUNTIFS('Player 2 Rounds'!A:A,Player_1[[#This Row],[Tournament]],'Player 2 Rounds'!C:C,Player_1[[#This Row],[Date]],'Player 2 Rounds'!D:D,Player_1[[#This Row],[Division]])>0,TRUE(),FALSE()) -> TRUE | L1124: =RIGHT(Player_1[[#This Row],[Date]],4) -> 2013 | M1124: =LEFT(Player_1[[#This Row],[Date]],FIND("-",Player_1[[#This Row],[Date]],1)-1) -> 27 | N1124: =MID(Player_1[[#This Row],[Date]],FIND("-",Player_1[[#This Row],[Date]],1)+1,3) -> Feb | O1124: =DATEVALUE(Player_1[[#This Row],[Month]]&" "&Player_1[[#This Row],[Day]]&", "&Player_1[[#This Row],[Year]]) -> 41332 | P1124: =COUNTIFS(A:A,Player_1[[#This Row],[Tournament]],E:E,Player_1[[#This Row],[Round]]) -> 0 | Q1124: =IF(ISERROR(FIND(L1124,A1124,1))=TRUE(),L1124&" "&A1124,A1124) -> 2013 The 25th Annual Memorial Championship presented by Discraft | R1124: =SUMIFS('Player 2 Rounds'!F:F,'Player 2 Rounds'!Q:Q,Q1124,'Player 2 Rounds'!E:E,E1124) -> 0 | S1124: =IF(AND(Player_1[[#This Row],[Opponent Score]]>0,Player_1[[#This Row],[Opponent Score]]>Player_1[[#This Row],[Score]],K:K=TRUE())=TRUE(),1,0) -> 0
A1125: Ledgestone Insurance Open presented by Discraft | B1125: A | C1125: 18-Aug to 21-Aug-2016 | D1125: MPO | F1125: 57 | G1125: 1060 | H1125: No | I1125: No | J1125: =IF(COUNTIFS('Player 2 Rounds'!A:A,Player_1[[#This Row],[Tournament]],'Player 2 Rounds'!C:C,Player_1[[#This Row],[Date]])>0,TRUE(),FALSE()) -> TRUE | K1125: =IF(COUNTIFS('Player 2 Rounds'!A:A,Player_1[[#This Row],[Tournament]],'Player 2 Rounds'!C:C,Player_1[[#This Row],[Date]],'Player 2 Rounds'!D:D,Player_1[[#This Row],[Division]])>0,TRUE(),FALSE()) -> TRUE | L1125: =RIGHT(Player_1[[#This Row],[Date]],4) -> 2016 | M1125: =LEFT(Player_1[[#This Row],[Date]],FIND("-",Player_1[[#This Row],[Date]],1)-1) -> 18 | N1125: =MID(Player_1[[#This Row],[Date]],FIND("-",Player_1[[#This Row],[Date]],1)+1,3) -> Aug | O1125: =DATEVALUE(Player_1[[#This Row],[Month]]&" "&Player_1[[#This Row],[Day]]&", "&Player_1[[#This Row],[Year]]) -> 42600 | P1125: =COUNTIFS(A:A,Player_1[[#This Row],[Tournament]],E:E,Player_1[[#This Row],[Round]]) -> 0 | Q1125: =IF(ISERROR(FIND(L1125,A1125,1))=TRUE(),L1125&" "&A1125,A1125) -> 2016 Ledgestone Insurance Open presented by Discraft | R1125: =SUMIFS('Player 2 Rounds'!F:F,'Player 2 Rounds'!Q:Q,Q1125,'Player 2 Rounds'!E:E,E1125) -> 0 | S1125: =IF(AND(Player_1[[#This Row],[Opponent Score]]>0,Player_1[[#This Row],[Opponent Score]]>Player_1[[#This Row],[Score]],K:K=TRUE())=TRUE(),1,0) -> 0
A1126: 2019 PDGA Professional Disc Golf World Championships | B1126: M | C1126: 13-Aug to 17-Aug-2019 | D1126: MPO | F1126: 49 | G1126: 1107 | H1126: No | I1126: No | J1126: =IF(COUNTIFS('Player 2 Rounds'!A:A,Player_1[[#This Row],[Tournament]],'Player 2 Rounds'!C:C,Player_1[[#This Row],[Date]])>0,TRUE(),FALSE()) -> TRUE | K1126: =IF(COUNTIFS('Player 2 Rounds'!A:A,Player_1[[#This Row],[Tournament]],'Player 2 Rounds'!C:C,Player_1[[#This Row],[Date]],'Player 2 Rounds'!D:D,Player_1[[#This Row],[Division]])>0,TRUE(),FALSE()) -> TRUE | L1126: =RIGHT(Player_1[[#This Row],[Date]],4) -> 2019 | M1126: =LEFT(Player_1[[#This Row],[Date]],FIND("-",Player_1[[#This Row],[Date]],1)-1) -> 13 | N1126: =MID(Player_1[[#This Row],[Date]],FIND("-",Player_1[[#This Row],[Date]],1)+1,3) -> Aug | O1126: =DATEVALUE(Player_1[[#This Row],[Month]]&" "&Player_1[[#This Row],[Day]]&", "&Player_1[[#This Row],[Year]]) -> 43690 | P1126: =COUNTIFS(A:A,Player_1[[#This Row],[Tournament]],E:E,Player_1[[#This Row],[Round]]) -> 0 | Q1126: =IF(ISERROR(FIND(L1126,A1126,1))=TRUE(),L1126&" "&A1126,A1126) -> 2019 PDGA Professional Disc Golf World Championships | R1126: =SUMIFS('Player 2 Rounds'!F:F,'Player 2 Rounds'!Q:Q,Q1126,'Player 2 Rounds'!E:E,E1126) -> 0 | S1126: =IF(AND(Player_1[[#This Row],[Opponent Score]]>0,Player_1[[#This Row],[Opponent Score]]>Player_1[[#This Row],[Score]],K:K=TRUE())=TRUE(),1,0) -> 0
A1127: Toronto Island Maple Leaf presented by Discmania | B1127: A | C1127: 13-Sep to 14-Sep-2014 | D1127: MPO | F1127: 55 | G1127: 1042 | H1127: No | I1127: No | J1127: =IF(COUNTIFS('Player 2 Rounds'!A:A,Player_1[[#This Row],[Tournament]],'Player 2 Rounds'!C:C,Player_1[[#This Row],[Date]])>0,TRUE(),FALSE()) -> FALSE | K1127: =IF(COUNTIFS('Player 2 Rounds'!A:A,Player_1[[#This Row],[Tournament]],'Player 2 Rounds'!C:C,Player_1[[#This Row],[Date]],'Player 2 Rounds'!D:D,Player_1[[#This Row],[Division]])>0,TRUE(),FALSE()) -> FALSE | L1127: =RIGHT(Player_1[[#This Row],[Date]],4) -> 2014 | M1127: =LEFT(Player_1[[#This Row],[Date]],FIND("-",Player_1[[#This Row],[Date]],1)-1) -> 13 | N1127: =MID(Player_1[[#This Row],[Date]],FIND("-",Player_1[[#This Row],[Date]],1)+1,3) -> Sep | O1127: =DATEVALUE(Player_1[[#This Row],[Month]]&" "&Player_1[[#This Row],[Day]]&", "&Player_1[[#This Row],[Year]]) -> 41895 | P1127: =COUNTIFS(A:A,Player_1[[#This Row],[Tournament]],E:E,Player_1[[#This Row],[Round]]) -> 0 | Q1127: =IF(ISERROR(FIND(L1127,A1127,1))=TRUE(),L1127&" "&A1127,A1127) -> 2014 Toronto Island Maple Leaf presented by Discmania | R1127: =SUMIFS('Player 2 Rounds'!F:F,'Player 2 Rounds'!Q:Q,Q1127,'Player 2 Rounds'!E:E,E1127) -> 0 | S1127: =IF(AND(Player_1[[#This Row],[Opponent Score]]>0,Player_1[[#This Row],[Opponent Score]]>Player_1[[#This Row],[Score]],K:K=TRUE())=TRUE(),1,0) -> 0
A1128: DGPT - Discraft Ledgestone Open | B1128: ES | C1128: 11-Aug to 14-Aug-2022 | D1128: MPO | F1128: 56 | G1128: 1059 | H1128: Yes | I1128: Yes | J1128: =IF(COUNTIFS('Player 2 Rounds'!A:A,Player_1[[#This Row],[Tournament]],'Player 2 Rounds'!C:C,Player_1[[#This Row],[Date]])>0,TRUE(),FALSE()) -> TRUE | K1128: =IF(COUNTIFS('Player 2 Rounds'!A:A,Player_1[[#This Row],[Tournament]],'Player 2 Rounds'!C:C,Player_1[[#This Row],[Date]],'Player 2 Rounds'!D:D,Player_1[[#This Row],[Division]])>0,TRUE(),FALSE()) -> TRUE | L1128: =RIGHT(Player_1[[#This Row],[Date]],4) -> 2022 | M1128: =LEFT(Player_1[[#This Row],[Date]],FIND("-",Player_1[[#This Row],[Date]],1)-1) -> 11 | N1128: =MID(Player_1[[#This Row],[Date]],FIND("-",Player_1[[#This Row],[Date]],1)+1,3) -> Aug | O1128: =DATEVALUE(Player_1[[#This Row],[Month]]&" "&Player_1[[#This Row],[Day]]&", "&Player_1[[#This Row],[Year]]) -> 44784 | P1128: =COUNTIFS(A:A,Player_1[[#This Row],[Tournament]],E:E,Player_1[[#This Row],[Round]]) -> 0 | Q1128: =IF(ISERROR(FIND(L1128,A1128,1))=TRUE(),L1128&" "&A1128,A1128) -> 2022 DGPT - Discraft Ledgestone Open | R1128: =SUMIFS('Player 2 Rounds'!F:F,'Player 2 Rounds'!Q:Q,Q1128,'Player 2 Rounds'!E:E,E1128) -> 0 | S1128: =IF(AND(Player_1[[#This Row],[Opponent Score]]>0,Player_1[[#This Row],[Opponent Score]]>Player_1[[#This Row],[Score]],K:K=TRUE())=TRUE(),1,0) -> 0
A1129: DGPT - Memorial Championship presented by Discraft | B1129: A | C1129: 28-Feb to 3-Mar-2018 | D1129: MPO | F1129: 51 | G1129: 1052 | H1129: No | I1129: No | J1129: =IF(COUNTIFS('Player 2 Rounds'!A:A,Player_1[[#This Row],[Tournament]],'Player 2 Rounds'!C:C,Player_1[[#This Row],[Date]])>0,TRUE(),FALSE()) -> TRUE | K1129: =IF(COUNTIFS('Player 2 Rounds'!A:A,Player_1[[#This Row],[Tournament]],'Player 2 Rounds'!C:C,Player_1[[#This Row],[Date]],'Player 2 Rounds'!D:D,Player_1[[#This Row],[Division]])>0,TRUE(),FALSE()) -> TRUE | L1129: =RIGHT(Player_1[[#This Row],[Date]],4) -> 2018 | M1129: =LEFT(Player_1[[#This Row],[Date]],FIND("-",Player_1[[#This Row],[Date]],1)-1) -> 28 | N1129: =MID(Player_1[[#This Row],[Date]],FIND("-",Player_1[[#This Row],[Date]],1)+1,3) -> Feb | O1129: =DATEVALUE(Player_1[[#This Row],[Month]]&" "&Player_1[[#This Row],[Day]]&", "&Player_1[[#This Row],[Year]]) -> 43159 | P1129: =COUNTIFS(A:A,Player_1[[#This Row],[Tournament]],E:E,Player_1[[#This Row],[Round]]) -> 0 | Q1129: =IF(ISERROR(FIND(L1129,A1129,1))=TRUE(),L1129&" "&A1129,A1129) -> 2018 DGPT - Memorial Championship presented by Discraft | R1129: =SUMIFS('Player 2 Rounds'!F:F,'Player 2 Rounds'!Q:Q,Q1129,'Player 2 Rounds'!E:E,E1129) -> 0 | S1129: =IF(AND(Player_1[[#This Row],[Opponent Score]]>0,Player_1[[#This Row],[Opponent Score]]>Player_1[[#This Row],[Score]],K:K=TRUE())=TRUE(),1,0) -> 0
A1130: Utah Open Presented by Lucky Disc Golf | B1130: A | C1130: 2-May to 5-May-2019 | D1130: MPO | F1130: 51 | G1130: 1050 | H1130: No | I1130: No | J1130: =IF(COUNTIFS('Player 2 Rounds'!A:A,Player_1[[#This Row],[Tournament]],'Player 2 Rounds'!C:C,Player_1[[#This Row],[Date]])>0,TRUE(),FALSE()) -> FALSE | K1130: =IF(COUNTIFS('Player 2 Rounds'!A:A,Player_1[[#This Row],[Tournament]],'Player 2 Rounds'!C:C,Player_1[[#This Row],[Date]],'Player 2 Rounds'!D:D,Player_1[[#This Row],[Division]])>0,TRUE(),FALSE()) -> FALSE | L1130: =RIGHT(Player_1[[#This Row],[Date]],4) -> 2019 | M1130: =LEFT(Player_1[[#This Row],[Date]],FIND("-",Player_1[[#This Row],[Date]],1)-1) -> 2 | N1130: =MID(Player_1[[#This Row],[Date]],FIND("-",Player_1[[#This Row],[Date]],1)+1,3) -> May | O1130: =DATEVALUE(Player_1[[#This Row],[Month]]&" "&Player_1[[#This Row],[Day]]&", "&Player_1[[#This Row],[Year]]) -> 43587 | P1130: =COUNTIFS(A:A,Player_1[[#This Row],[Tournament]],E:E,Player_1[[#This Row],[Round]]) -> 0 | Q1130: =IF(ISERROR(FIND(L1130,A1130,1))=TRUE(),L1130&" "&A1130,A1130) -> 2019 Utah Open Presented by Lucky Disc Golf | R1130: =SUMIFS('Player 2 Rounds'!F:F,'Player 2 Rounds'!Q:Q,Q1130,'Player 2 Rounds'!E:E,E1130) -> 0 | S1130: =IF(AND(Player_1[[#This Row],[Opponent Score]]>0,Player_1[[#This Row],[Opponent Score]]>Player_1[[#This Row],[Score]],K:K=TRUE())=TRUE(),1,0) -> 0
A1131: European Masters | B1131: M | C1131: 17-Jul to 20-Jul-2014 | D1131: MPO | F1131: 57 | G1131: 1038 | H1131: No | I1131: No | J1131: =IF(COUNTIFS('Player 2 Rounds'!A:A,Player_1[[#This Row],[Tournament]],'Player 2 Rounds'!C:C,Player_1[[#This Row],[Date]])>0,TRUE(),FALSE()) -> TRUE | K1131: =IF(COUNTIFS('Player 2 Rounds'!A:A,Player_1[[#This Row],[Tournament]],'Player 2 Rounds'!C:C,Player_1[[#This Row],[Date]],'Player 2 Rounds'!D:D,Player_1[[#This Row],[Division]])>0,TRUE(),FALSE()) -> TRUE | L1131: =RIGHT(Player_1[[#This Row],[Date]],4) -> 2014 | M1131: =LEFT(Player_1[[#This Row],[Date]],FIND("-",Player_1[[#This Row],[Date]],1)-1) -> 17 | N1131: =MID(Player_1[[#This Row],[Date]],FIND("-",Player_1[[#This Row],[Date]],1)+1,3) -> Jul | O1131: =DATEVALUE(Player_1[[#This Row],[Month]]&" "&Player_1[[#This Row],[Day]]&", "&Player_1[[#This Row],[Year]]) -> 41837 | P1131: =COUNTIFS(A:A,Player_1[[#This Row],[Tournament]],E:E,Player_1[[#This Row],[Round]]) -> 0 | Q1131: =IF(ISERROR(FIND(L1131,A1131,1))=TRUE(),L1131&" "&A1131,A1131) -> 2014 European Masters | R1131: =SUMIFS('Player 2 Rounds'!F:F,'Player 2 Rounds'!Q:Q,Q1131,'Player 2 Rounds'!E:E,E1131) -> 0 | S1131: =IF(AND(Player_1[[#This Row],[Opponent Score]]>0,Player_1[[#This Row],[Opponent Score]]>Player_1[[#This Row],[Score]],K:K=TRUE())=TRUE(),1,0) -> 0
A1132: Las Vegas Challenge presented by Innova Champion Discs - National Tour | B1132: NT | C1132: 22-Feb to 25-Feb-2018 | D1132: MPO | F1132: 50 | G1132: 1075 | H1132: No | I1132: No | J1132: =IF(COUNTIFS('Player 2 Rounds'!A:A,Player_1[[#This Row],[Tournament]],'Player 2 Rounds'!C:C,Player_1[[#This Row],[Date]])>0,TRUE(),FALSE()) -> TRUE | K1132: =IF(COUNTIFS('Player 2 Rounds'!A:A,Player_1[[#This Row],[Tournament]],'Player 2 Rounds'!C:C,Player_1[[#This Row],[Date]],'Player 2 Rounds'!D:D,Player_1[[#This Row],[Division]])>0,TRUE(),FALSE()) -> TRUE | L1132: =RIGHT(Player_1[[#This Row],[Date]],4) -> 2018 | M1132: =LEFT(Player_1[[#This Row],[Date]],FIND("-",Player_1[[#This Row],[Date]],1)-1) -> 22 | N1132: =MID(Player_1[[#This Row],[Date]],FIND("-",Player_1[[#This Row],[Date]],1)+1,3) -> Feb | O1132: =DATEVALUE(Player_1[[#This Row],[Month]]&" "&Player_1[[#This Row],[Day]]&", "&Player_1[[#This Row],[Year]]) -> 43153 | P1132: =COUNTIFS(A:A,Player_1[[#This Row],[Tournament]],E:E,Player_1[[#This Row],[Round]]) -> 0 | Q1132: =IF(ISERROR(FIND(L1132,A1132,1))=TRUE(),L1132&" "&A1132,A1132) -> 2018 Las Vegas Challenge presented by Innova Champion Discs - National Tour | R1132: =SUMIFS('Player 2 Rounds'!F:F,'Player 2 Rounds'!Q:Q,Q1132,'Player 2 Rounds'!E:E,E1132) -> 0 | S1132: =IF(AND(Player_1[[#This Row],[Opponent Score]]>0,Player_1[[#This Row],[Opponent Score]]>Player_1[[#This Row],[Score]],K:K=TRUE())=TRUE(),1,0) -> 0
A1133: DGPT - Memorial Championship presented by Discraft | B1133: A | C1133: 1-Mar to 4-Mar-2017 | D1133: MPO | F1133: 47 | G1133: 1046 | H1133: No | I1133: No | J1133: =IF(COUNTIFS('Player 2 Rounds'!A:A,Player_1[[#This Row],[Tournament]],'Player 2 Rounds'!C:C,Player_1[[#This Row],[Date]])>0,TRUE(),FALSE()) -> TRUE | K1133: =IF(COUNTIFS('Player 2 Rounds'!A:A,Player_1[[#This Row],[Tournament]],'Player 2 Rounds'!C:C,Player_1[[#This Row],[Date]],'Player 2 Rounds'!D:D,Player_1[[#This Row],[Division]])>0,TRUE(),FALSE()) -> TRUE | L1133: =RIGHT(Player_1[[#This Row],[Date]],4) -> 2017 | M1133: =LEFT(Player_1[[#This Row],[Date]],FIND("-",Player_1[[#This Row],[Date]],1)-1) -> 1 | N1133: =MID(Player_1[[#This Row],[Date]],FIND("-",Player_1[[#This Row],[Date]],1)+1,3) -> Mar | O1133: =DATEVALUE(Player_1[[#This Row],[Month]]&" "&Player_1[[#This Row],[Day]]&", "&Player_1[[#This Row],[Year]]) -> 42795 | P1133: =COUNTIFS(A:A,Player_1[[#This Row],[Tournament]],E:E,Player_1[[#This Row],[Round]]) -> 0 | Q1133: =IF(ISERROR(FIND(L1133,A1133,1))=TRUE(),L1133&" "&A1133,A1133) -> 2017 DGPT - Memorial Championship presented by Discraft | R1133: =SUMIFS('Player 2 Rounds'!F:F,'Player 2 Rounds'!Q:Q,Q1133,'Player 2 Rounds'!E:E,E1133) -> 0 | S1133: =IF(AND(Player_1[[#This Row],[Opponent Score]]>0,Player_1[[#This Row],[Opponent Score]]>Player_1[[#This Row],[Score]],K:K=TRUE())=TRUE(),1,0) -> 0
... A1189: 2015 PDGA Professional Disc Golf World Championships | B1189: M | C1189: 4-Aug to 8-Aug-2015 | D1189: MPO | F1189: 57 | G1189: 1049 | H1189: No | I1189: No | J1189: =IF(COUNTIFS('Player 2 Rounds'!A:A,Player_1[[#This Row],[Tournament]],'Player 2 Rounds'!C:C,Player_1[[#This Row],[Date]])>0,TRUE(),FALSE()) -> TRUE | K1189: =IF(COUNTIFS('Player 2 Rounds'!A:A,Player_1[[#This Row],[Tournament]],'Player 2 Rounds'!C:C,Player_1[[#This Row],[Date]],'Player 2 Rounds'!D:D,Player_1[[#This Row],[Division]])>0,TRUE(),FALSE()) -> TRUE | L1189: =RIGHT(Player_1[[#This Row],[Date]],4) -> 2015 | M1189: =LEFT(Player_1[[#This Row],[Date]],FIND("-",Player_1[[#This Row],[Date]],1)-1) -> 4 | N1189: =MID(Player_1[[#This Row],[Date]],FIND("-",Player_1[[#This Row],[Date]],1)+1,3) -> Aug | O1189: =DATEVALUE(Player_1[[#This Row],[Month]]&" "&Player_1[[#This Row],[Day]]&", "&Player_1[[#This Row],[Year]]) -> 42220 | P1189: =COUNTIFS(A:A,Player_1[[#This Row],[Tournament]],E:E,Player_1[[#This Row],[Round]]) -> 0 | Q1189: =IF(ISERROR(FIND(L1189,A1189,1))=TRUE(),L1189&" "&A1189,A1189) -> 2015 PDGA Professional Disc Golf World Championships | R1189: =SUMIFS('Player 2 Rounds'!F:F,'Player 2 Rounds'!Q:Q,Q1189,'Player 2 Rounds'!E:E,E1189) -> 0 | S1189: =IF(AND(Player_1[[#This Row],[Opponent Score]]>0,Player_1[[#This Row],[Opponent Score]]>Player_1[[#This Row],[Score]],K:K=TRUE())=TRUE(),1,0) -> 0

Sheet Player 2 Rounds
A1: Tournament | B1: Tier | C1: Date | D1: Division | E1: Round | F1: Score | G1: Rating | H1: Evaluated | I1: Included | J1: Event Commonality | K1: Same Division | L1: Year | M1: Day | N1: Month | O1: Start Date | P1: Column1 | Q1: New Name | R1: Opponent Score | S1: Win Loss
A2: Ed Headrick Disc Golf Hall of Fame Classic presented by ProActive Sports Disc Golf - National Tour Finale | B2: NT | C2: 13-Oct to 15-Oct-2017 | D2: MPO | E2: 1 | F2: 55 | G2: 998 | H2: No | I2: No | J2: =IF(COUNTIFS('Player 1 Rounds'!A:A,Player_2[[#This Row],[Tournament]],'Player 1 Rounds'!C:C,Player_2[[#This Row],[Date]])>0,TRUE(),FALSE()) -> TRUE | K2: =IF(COUNTIFS('Player 1 Rounds'!A:A,Player_2[[#This Row],[Tournament]],'Player 1 Rounds'!C:C,Player_2[[#This Row],[Date]],'Player 1 Rounds'!D:D,Player_2[[#This Row],[Division]])>0,TRUE(),FALSE()) -> TRUE | L2: =RIGHT(Player_2[[#This Row],[Date]],4) -> 2017 | M2: =LEFT(Player_2[[#This Row],[Date]],FIND("-",Player_2[[#This Row],[Date]],1)-1) -> 13 | N2: =MID(Player_2[[#This Row],[Date]],FIND("-",Player_2[[#This Row],[Date]],1)+1,3) -> Oct | O2: =DATEVALUE(Player_2[[#This Row],[Month]]&" "&Player_2[[#This Row],[Day]]&", "&Player_2[[#This Row],[Year]]) -> 43021 | P2: =COUNTIFS(A:A,Player_2[[#This Row],[Tournament]],E:E,Player_2[[#This Row],[Round]]) -> 1 | Q2: =IF(ISERROR(FIND(L2,A2,1))=TRUE(),L2&" "&A2,A2) -> 2017 Ed Headrick Disc Golf Hall of Fame Classic presented by ProActive Sports Disc Golf - National Tour Finale | R2: =SUMIFS('Player 1 Rounds'!F:F,'Player 1 Rounds'!Q:Q,Q2,'Player 1 Rounds'!E:E,E2) -> 51 | S2: =IF(AND(Player_2[[#This Row],[Opponent Score]]>0,Player_2[[#This Row],[Opponent Score]]>Player_2[[#This Row],[Score]],K:K=TRUE())=TRUE(),1,0) -> 0
A3: Moccasin Lake Open | B3: B | C3: 12-Nov to 13-Nov-2011 | D3: MPO | E3: 1 | F3: 57 | G3: 1031 | H3: No | I3: No | J3: =IF(COUNTIFS('Player 1 Rounds'!A:A,Player_2[[#This Row],[Tournament]],'Player 1 Rounds'!C:C,Player_2[[#This Row],[Date]])>0,TRUE(),FALSE()) -> TRUE | K3: =IF(COUNTIFS('Player 1 Rounds'!A:A,Player_2[[#This Row],[Tournament]],'Player 1 Rounds'!C:C,Player_2[[#This Row],[Date]],'Player 1 Rounds'!D:D,Player_2[[#This Row],[Division]])>0,TRUE(),FALSE()) -> TRUE | L3: =RIGHT(Player_2[[#This Row],[Date]],4) -> 2011 | M3: =LEFT(Player_2[[#This Row],[Date]],FIND("-",Player_2[[#This Row],[Date]],1)-1) -> 12 | N3: =MID(Player_2[[#This Row],[Date]],FIND("-",Player_2[[#This Row],[Date]],1)+1,3) -> Nov | O3: =DATEVALUE(Player_2[[#This Row],[Month]]&" "&Player_2[[#This Row],[Day]]&", "&Player_2[[#This Row],[Year]]) -> 40859 | P3: =COUNTIFS(A:A,Player_2[[#This Row],[Tournament]],E:E,Player_2[[#This Row],[Round]]) -> 1 | Q3: =IF(ISERROR(FIND(L3,A3,1))=TRUE(),L3&" "&A3,A3) -> 2011 Moccasin Lake Open | R3: =SUMIFS('Player 1 Rounds'!F:F,'Player 1 Rounds'!Q:Q,Q3,'Player 1 Rounds'!E:E,E3) -> 61 | S3: =IF(AND(Player_2[[#This Row],[Opponent Score]]>0,Player_2[[#This Row],[Opponent Score]]>Player_2[[#This Row],[Score]],K:K=TRUE())=TRUE(),1,0) -> 1
A4: Discraft's Green Mountain Championship | B4: A | C4: 13-Sep to 16-Sep-2017 | D4: MPO | E4: 1 | F4: 49 | G4: 1058 | H4: No | I4: No | J4: =IF(COUNTIFS('Player 1 Rounds'!A:A,Player_2[[#This Row],[Tournament]],'Player 1 Rounds'!C:C,Player_2[[#This Row],[Date]])>0,TRUE(),FALSE()) -> TRUE | K4: =IF(COUNTIFS('Player 1 Rounds'!A:A,Player_2[[#This Row],[Tournament]],'Player 1 Rounds'!C:C,Player_2[[#This Row],[Date]],'Player 1 Rounds'!D:D,Player_2[[#This Row],[Division]])>0,TRUE(),FALSE()) -> TRUE | L4: =RIGHT(Player_2[[#This Row],[Date]],4) -> 2017 | M4: =LEFT(Player_2[[#This Row],[Date]],FIND("-",Player_2[[#This Row],[Date]],1)-1) -> 13 | N4: =MID(Player_2[[#This Row],[Date]],FIND("-",Player_2[[#This Row],[Date]],1)+1,3) -> Sep | O4: =DATEVALUE(Player_2[[#This Row],[Month]]&" "&Player_2[[#This Row],[Day]]&", "&Player_2[[#This Row],[Year]]) -> 42991 | P4: =COUNTIFS(A:A,Player_2[[#This Row],[Tournament]],E:E,Player_2[[#This Row],[Round]]) -> 1 | Q4: =IF(ISERROR(FIND(L4,A4,1))=TRUE(),L4&" "&A4,A4) -> 2017 Discraft's Green Mountain Championship | R4: =SUMIFS('Player 1 Rounds'!F:F,'Player 1 Rounds'!Q:Q,Q4,'Player 1 Rounds'!E:E,E4) -> 50 | S4: =IF(AND(Player_2[[#This Row],[Opponent Score]]>0,Player_2[[#This Row],[Opponent Score]]>Player_2[[#This Row],[Score]],K:K=TRUE())=TRUE(),1,0) -> 1
A5: Cloud 9 Open | B5: B | C5: 5-Nov to 6-Nov-2011 | D5: MPO | E5: 1 | F5: 53 | G5: 1010 | H5: No | I5: No | J5: =IF(COUNTIFS('Player 1 Rounds'!A:A,Player_2[[#This Row],[Tournament]],'Player 1 Rounds'!C:C,Player_2[[#This Row],[Date]])>0,TRUE(),FALSE()) -> FALSE | K5: =IF(COUNTIFS('Player 1 Rounds'!A:A,Player_2[[#This Row],[Tournament]],'Player 1 Rounds'!C:C,Player_2[[#This Row],[Date]],'Player 1 Rounds'!D:D,Player_2[[#This Row],[Division]])>0,TRUE(),FALSE()) -> FALSE | L5: =RIGHT(Player_2[[#This Row],[Date]],4) -> 2011 | M5: =LEFT(Player_2[[#This Row],[Date]],FIND("-",Player_2[[#This Row],[Date]],1)-1) -> 5 | N5: =MID(Player_2[[#This Row],[Date]],FIND("-",Player_2[[#This Row],[Date]],1)+1,3) -> Nov | O5: =DATEVALUE(Player_2[[#This Row],[Month]]&" "&Player_2[[#This Row],[Day]]&", "&Player_2[[#This Row],[Year]]) -> 40852 | P5: =COUNTIFS(A:A,Player_2[[#This Row],[Tournament]],E:E,Player_2[[#This Row],[Round]]) -> 1 | Q5: =IF(ISERROR(FIND(L5,A5,1))=TRUE(),L5&" "&A5,A5) -> 2011 Cloud 9 Open | R5: =SUMIFS('Player 1 Rounds'!F:F,'Player 1 Rounds'!Q:Q,Q5,'Player 1 Rounds'!E:E,E5) -> 0 | S5: =IF(AND(Player_2[[#This Row],[Opponent Score]]>0,Player_2[[#This Row],[Opponent Score]]>Player_2[[#This Row],[Score]],K:K=TRUE())=TRUE(),1,0) -> 0
A6: 20th Annual Fall Colors presented by Dynamic Discs | B6: A | C6: 4-Nov to 5-Nov-2017 | D6: MPO | E6: 1 | F6: 43 | G6: 1055 | H6: No | I6: No | J6: =IF(COUNTIFS('Player 1 Rounds'!A:A,Player_2[[#This Row],[Tournament]],'Player 1 Rounds'!C:C,Player_2[[#This Row],[Date]])>0,TRUE(),FALSE()) -> FALSE | K6: =IF(COUNTIFS('Player 1 Rounds'!A:A,Player_2[[#This Row],[Tournament]],'Player 1 Rounds'!C:C,Player_2[[#This Row],[Date]],'Player 1 Rounds'!D:D,Player_2[[#This Row],[Division]])>0,TRUE(),FALSE()) -> FALSE | L6: =RIGHT(Player_2[[#This Row],[Date]],4) -> 2017 | M6: =LEFT(Player_2[[#This Row],[Date]],FIND("-",Player_2[[#This Row],[Date]],1)-1) -> 4 | N6: =MID(Player_2[[#This Row],[Date]],FIND("-",Player_2[[#This Row],[Date]],1)+1,3) -> Nov | O6: =DATEVALUE(Player_2[[#This Row],[Month]]&" "&Player_2[[#This Row],[Day]]&", "&Player_2[[#This Row],[Year]]) -> 43043 | P6: =COUNTIFS(A:A,Player_2[[#This Row],[Tournament]],E:E,Player_2[[#This Row],[Round]]) -> 1 | Q6: =IF(ISERROR(FIND(L6,A6,1))=TRUE(),L6&" "&A6,A6) -> 2017 20th Annual Fall Colors presented by Dynamic Discs | R6: =SUMIFS('Player 1 Rounds'!F:F,'Player 1 Rounds'!Q:Q,Q6,'Player 1 Rounds'!E:E,E6) -> 0 | S6: =IF(AND(Player_2[[#This Row],[Opponent Score]]>0,Player_2[[#This Row],[Opponent Score]]>Player_2[[#This Row],[Score]],K:K=TRUE())=TRUE(),1,0) -> 0
A7: Vibram Open at Maple Hill | B7: NT | C7: 2-Sep to 4-Sep-2011 | D7: MPO | E7: 1 | F7: 60 | G7: 1021 | H7: No | I7: No | J7: =IF(COUNTIFS('Player 1 Rounds'!A:A,Player_2[[#This Row],[Tournament]],'Player 1 Rounds'!C:C,Player_2[[#This Row],[Date]])>0,TRUE(),FALSE()) -> TRUE | K7: =IF(COUNTIFS('Player 1 Rounds'!A:A,Player_2[[#This Row],[Tournament]],'Player 1 Rounds'!C:C,Player_2[[#This Row],[Date]],'Player 1 Rounds'!D:D,Player_2[[#This Row],[Division]])>0,TRUE(),FALSE()) -> TRUE | L7: =RIGHT(Player_2[[#This Row],[Date]],4) -> 2011 | M7: =LEFT(Player_2[[#This Row],[Date]],FIND("-",Player_2[[#This Row],[Date]],1)-1) -> 2 | N7: =MID(Player_2[[#This Row],[Date]],FIND("-",Player_2[[#This Row],[Date]],1)+1,3) -> Sep | O7: =DATEVALUE(Player_2[[#This Row],[Month]]&" "&Player_2[[#This Row],[Day]]&", "&Player_2[[#This Row],[Year]]) -> 40788 | P7: =COUNTIFS(A:A,Player_2[[#This Row],[Tournament]],E:E,Player_2[[#This Row],[Round]]) -> 1 | Q7: =IF(ISERROR(FIND(L7,A7,1))=TRUE(),L7&" "&A7,A7) -> 2011 Vibram Open at Maple Hill | R7: =SUMIFS('Player 1 Rounds'!F:F,'Player 1 Rounds'!Q:Q,Q7,'Player 1 Rounds'!E:E,E7) -> 55 | S7: =IF(AND(Player_2[[#This Row],[Opponent Score]]>0,Player_2[[#This Row],[Opponent Score]]>Player_2[[#This Row],[Score]],K:K=TRUE())=TRUE(),1,0) -> 0
A8: The PDGA Championship | B8: M | C8: 23-Sep to 25-Sep-2011 | D8: MPO | E8: 1 | F8: 59 | G8: 1041 | H8: No | I8: No | J8: =IF(COUNTIFS('Player 1 Rounds'!A:A,Player_2[[#This Row],[Tournament]],'Player 1 Rounds'!C:C,Player_2[[#This Row],[Date]])>0,TRUE(),FALSE()) -> TRUE | K8: =IF(COUNTIFS('Player 1 Rounds'!A:A,Player_2[[#This Row],[Tournament]],'Player 1 Rounds'!C:C,Player_2[[#This Row],[Date]],'Player 1 Rounds'!D:D,Player_2[[#This Row],[Division]])>0,TRUE(),FALSE()) -> TRUE | L8: =RIGHT(Player_2[[#This Row],[Date]],4) -> 2011 | M8: =LEFT(Player_2[[#This Row],[Date]],FIND("-",Player_2[[#This Row],[Date]],1)-1) -> 23 | N8: =MID(Player_2[[#This Row],[Date]],FIND("-",Player_2[[#This Row],[Date]],1)+1,3) -> Sep | O8: =DATEVALUE(Player_2[[#This Row],[Month]]&" "&Player_2[[#This Row],[Day]]&", "&Player_2[[#This Row],[Year]]) -> 40809 | P8: =COUNTIFS(A:A,Player_2[[#This Row],[Tournament]],E:E,Player_2[[#This Row],[Round]]) -> 1 | Q8: =IF(ISERROR(FIND(L8,A8,1))=TRUE(),L8&" "&A8,A8) -> 2011 The PDGA Championship | R8: =SUMIFS('Player 1 Rounds'!F:F,'Player 1 Rounds'!Q:Q,Q8,'Player 1 Rounds'!E:E,E8) -> 58 | S8: =IF(AND(Player_2[[#This Row],[Opponent Score]]>0,Player_2[[#This Row],[Opponent Score]]>Player_2[[#This Row],[Score]],K:K=TRUE())=TRUE(),1,0) -> 0
A9: Pittsburgh Flying Disc Open Presented by Discraft | B9: NT | C9: 25-Aug to 27-Aug-2017 | D9: MPO | E9: 1 | F9: 54 | G9: 1053 | H9: No | I9: No | J9: =IF(COUNTIFS('Player 1 Rounds'!A:A,Player_2[[#This Row],[Tournament]],'Player 1 Rounds'!C:C,Player_2[[#This Row],[Date]])>0,TRUE(),FALSE()) -> TRUE | K9: =IF(COUNTIFS('Player 1 Rounds'!A:A,Player_2[[#This Row],[Tournament]],'Player 1 Rounds'!C:C,Player_2[[#This Row],[Date]],'Player 1 Rounds'!D:D,Player_2[[#This Row],[Division]])>0,TRUE(),FALSE()) -> TRUE | L9: =RIGHT(Player_2[[#This Row],[Date]],4) -> 2017 | M9: =LEFT(Player_2[[#This Row],[Date]],FIND("-",Player_2[[#This Row],[Date]],1)-1) -> 25 | N9: =MID(Player_2[[#This Row],[Date]],FIND("-",Player_2[[#This Row],[Date]],1)+1,3) -> Aug | O9: =DATEVALUE(Player_2[[#This Row],[Month]]&" "&Player_2[[#This Row],[Day]]&", "&Player_2[[#This Row],[Year]]) -> 42972 | P9: =COUNTIFS(A:A,Player_2[[#This Row],[Tournament]],E:E,Player_2[[#This Row],[Round]]) -> 1 | Q9: =IF(ISERROR(FIND(L9,A9,1))=TRUE(),L9&" "&A9,A9) -> 2017 Pittsburgh Flying Disc Open Presented by Discraft | R9: =SUMIFS('Player 1 Rounds'!F:F,'Player 1 Rounds'!Q:Q,Q9,'Player 1 Rounds'!E:E,E9) -> 54 | S9: =IF(AND(Player_2[[#This Row],[Opponent Score]]>0,Player_2[[#This Row],[Opponent Score]]>Player_2[[#This Row],[Score]],K:K=TRUE())=TRUE(),1,0) -> 0
A10: DGPT - Idlewild Open driven by Innova & The Nati | B10: B | C10: 17-Aug to 19-Aug-2017 | D10: MPO | E10: 1 | F10: 67 | G10: 1005 | H10: No | I10: No | J10: =IF(COUNTIFS('Player 1 Rounds'!A:A,Player_2[[#This Row],[Tournament]],'Player 1 Rounds'!C:C,Player_2[[#This Row],[Date]])>0,TRUE(),FALSE()) -> FALSE | K10: =IF(COUNTIFS('Player 1 Rounds'!A:A,Player_2[[#This Row],[Tournament]],'Player 1 Rounds'!C:C,Player_2[[#This Row],[Date]],'Player 1 Rounds'!D:D,Player_2[[#This Row],[Division]])>0,TRUE(),FALSE()) -> FALSE | L10: =RIGHT(Player_2[[#This Row],[Date]],4) -> 2017 | M10: =LEFT(Player_2[[#This Row],[Date]],FIND("-",Player_2[[#This Row],[Date]],1)-1) -> 17 | N10: =MID(Player_2[[#This Row],[Date]],FIND("-",Player_2[[#This Row],[Date]],1)+1,3) -> Aug | O10: =DATEVALUE(Player_2[[#This Row],[Month]]&" "&Player_2[[#This Row],[Day]]&", "&Player_2[[#This Row],[Year]]) -> 42964 | P10: =COUNTIFS(A:A,Player_2[[#This Row],[Tournament]],E:E,Player_2[[#This Row],[Round]]) -> 1 | Q10: =IF(ISERROR(FIND(L10,A10,1))=TRUE(),L10&" "&A10,A10) -> 2017 DGPT - Idlewild Open driven by Innova & The Nati | R10: =SUMIFS('Player 1 Rounds'!F:F,'Player 1 Rounds'!Q:Q,Q10,'Player 1 Rounds'!E:E,E10) -> 0 | S10: =IF(AND(Player_2[[#This Row],[Opponent Score]]>0,Player_2[[#This Row],[Opponent Score]]>Player_2[[#This Row],[Score]],K:K=TRUE())=TRUE(),1,0) -> 0
A11: 34th annual Wintertime Open - Pro | B11: B | C11: 18-Feb to 19-Feb-2012 | D11: MPO | E11: 1 | F11: 53 | G11: 1046 | H11: No | I11: No | J11: =IF(COUNTIFS('Player 1 Rounds'!A:A,Player_2[[#This Row],[Tournament]],'Player 1 Rounds'!C:C,Player_2[[#This Row],[Date]])>0,TRUE(),FALSE()) -> FALSE | K11: =IF(COUNTIFS('Player 1 Rounds'!A:A,Player_2[[#This Row],[Tournament]],'Player 1 Rounds'!C:C,Player_2[[#This Row],[Date]],'Player 1 Rounds'!D:D,Player_2[[#This Row],[Division]])>0,TRUE(),FALSE()) -> FALSE | L11: =RIGHT(Player_2[[#This Row],[Date]],4) -> 2012 | M11: =LEFT(Player_2[[#This Row],[Date]],FIND("-",Player_2[[#This Row],[Date]],1)-1) -> 18 | N11: =MID(Player_2[[#This Row],[Date]],FIND("-",Player_2[[#This Row],[Date]],1)+1,3) -> Feb | O11: =DATEVALUE(Player_2[[#This Row],[Month]]&" "&Player_2[[#This Row],[Day]]&", "&Player_2[[#This Row],[Year]]) -> 40957 | P11: =COUNTIFS(A:A,Player_2[[#This Row],[Tournament]],E:E,Player_2[[#This Row],[Round]]) -> 1 | Q11: =IF(ISERROR(FIND(L11,A11,1))=TRUE(),L11&" "&A11,A11) -> 2012 34th annual Wintertime Open - Pro | R11: =SUMIFS('Player 1 Rounds'!F:F,'Player 1 Rounds'!Q:Q,Q11,'Player 1 Rounds'!E:E,E11) -> 0 | S11: =IF(AND(Player_2[[#This Row],[Opponent Score]]>0,Player_2[[#This Row],[Opponent Score]]>Player_2[[#This Row],[Score]],K:K=TRUE())=TRUE(),1,0) -> 0
A12: Ice Bowl in Paradise | B12: C | C12: 21-Jan-2012 | D12: MPO | E12: 1 | F12: 63 | G12: 977 | H12: No | I12: No | J12: =IF(COUNTIFS('Player 1 Rounds'!A:A,Player_2[[#This Row],[Tournament]],'Player 1 Rounds'!C:C,Player_2[[#This Row],[Date]])>0,TRUE(),FALSE()) -> FALSE | K12: =IF(COUNTIFS('Player 1 Rounds'!A:A,Player_2[[#This Row],[Tournament]],'Player 1 Rounds'!C:C,Player_2[[#This Row],[Date]],'Player 1 Rounds'!D:D,Player_2[[#This Row],[Division]])>0,TRUE(),FALSE()) -> FALSE | L12: =RIGHT(Player_2[[#This Row],[Date]],4) -> 2012 | M12: =LEFT(Player_2[[#This Row],[Date]],FIND("-",Player_2[[#This Row],[Date]],1)-1) -> 21 | N12: =MID(Player_2[[#This Row],[Date]],FIND("-",Player_2[[#This Row],[Date]],1)+1,3) -> Jan | O12: =DATEVALUE(Player_2[[#This Row],[Month]]&" "&Player_2[[#This Row],[Day]]&", "&Player_2[[#This Row],[Year]]) -> 40929 | P12: =COUNTIFS(A:A,Player_2[[#This Row],[Tournament]],E:E,Player_2[[#This Row],[Round]]) -> 4 | Q12: =IF(ISERROR(FIND(L12,A12,1))=TRUE(),L12&" "&A12,A12) -> 2012 Ice Bowl in Paradise | R12: =SUMIFS('Player 1 Rounds'!F:F,'Player 1 Rounds'!Q:Q,Q12,'Player 1 Rounds'!E:E,E12) -> 0 | S12: =IF(AND(Player_2[[#This Row],[Opponent Score]]>0,Player_2[[#This Row],[Opponent Score]]>Player_2[[#This Row],[Score]],K:K=TRUE())=TRUE(),1,0) -> 0
A13: 2017 Nantucket Disc Golf Open - Pros | B13: B | C13: 9-Sep-2017 | D13: MPO | E13: 1 | F13: 61 | G13: 1009 | H13: No | I13: No | J13: =IF(COUNTIFS('Player 1 Rounds'!A:A,Player_2[[#This Row],[Tournament]],'Player 1 Rounds'!C:C,Player_2[[#This Row],[Date]])>0,TRUE(),FALSE()) -> FALSE | K13: =IF(COUNTIFS('Player 1 Rounds'!A:A,Player_2[[#This Row],[Tournament]],'Player 1 Rounds'!C:C,Player_2[[#This Row],[Date]],'Player 1 Rounds'!D:D,Player_2[[#This Row],[Division]])>0,TRUE(),FALSE()) -> FALSE | L13: =RIGHT(Player_2[[#This Row],[Date]],4) -> 2017 | M13: =LEFT(Player_2[[#This Row],[Date]],FIND("-",Player_2[[#This Row],[Date]],1)-1) -> 9 | N13: =MID(Player_2[[#This Row],[Date]],FIND("-",Player_2[[#This Row],[Date]],1)+1,3) -> Sep | O13: =DATEVALUE(Player_2[[#This Row],[Month]]&" "&Player_2[[#This Row],[Day]]&", "&Player_2[[#This Row],[Year]]) -> 42987 | P13: =COUNTIFS(A:A,Player_2[[#This Row],[Tournament]],E:E,Player_2[[#This Row],[Round]]) -> 1 | Q13: =IF(ISERROR(FIND(L13,A13,1))=TRUE(),L13&" "&A13,A13) -> 2017 Nantucket Disc Golf Open - Pros | R13: =SUMIFS('Player 1 Rounds'!F:F,'Player 1 Rounds'!Q:Q,Q13,'Player 1 Rounds'!E:E,E13) -> 0 | S13: =IF(AND(Player_2[[#This Row],[Opponent Score]]>0,Player_2[[#This Row],[Opponent Score]]>Player_2[[#This Row],[Score]],K:K=TRUE())=TRUE(),1,0) -> 0
... A1177: 2012 PDGA Professional Disc Golf World Championships | B1177: M | C1177: 14-Jul to 21-Jul-2012 | D1177: MPO | E1177: 6 | F1177: 47 | G1177: 1057 | H1177: No | I1177: No | J1177: =IF(COUNTIFS('Player 1 Rounds'!A:A,Player_2[[#This Row],[Tournament]],'Player 1 Rounds'!C:C,Player_2[[#This Row],[Date]])>0,TRUE(),FALSE()) -> TRUE | K1177: =IF(COUNTIFS('Player 1 Rounds'!A:A,Player_2[[#This Row],[Tournament]],'Player 1 Rounds'!C:C,Player_2[[#This Row],[Date]],'Player 1 Rounds'!D:D,Player_2[[#This Row],[Division]])>0,TRUE(),FALSE()) -> TRUE | L1177: =RIGHT(Player_2[[#This Row],[Date]],4) -> 2012 | M1177: =LEFT(Player_2[[#This Row],[Date]],FIND("-",Player_2[[#This Row],[Date]],1)-1) -> 14 | N1177: =MID(Player_2[[#This Row],[Date]],FIND("-",Player_2[[#This Row],[Date]],1)+1,3) -> Jul | O1177: =DATEVALUE(Player_2[[#This Row],[Month]]&" "&Player_2[[#This Row],[Day]]&", "&Player_2[[#This Row],[Year]]) -> 41104 | P1177: =COUNTIFS(A:A,Player_2[[#This Row],[Tournament]],E:E,Player_2[[#This Row],[Round]]) -> 1 | Q1177: =IF(ISERROR(FIND(L1177,A1177,1))=TRUE(),L1177&" "&A1177,A1177) -> 2012 PDGA Professional Disc Golf World Championships | R1177: =SUMIFS('Player 1 Rounds'!F:F,'Player 1 Rounds'!Q:Q,Q1177,'Player 1 Rounds'!E:E,E1177) -> 47 | S1177: =IF(AND(Player_2[[#This Row],[Opponent Score]]>0,Player_2[[#This Row],[Opponent Score]]>Player_2[[#This Row],[Score]],K:K=TRUE())=TRUE(),1,0) -> 0
A1178: European Open presented by Discmania | B1178: M | C1178: 21-Jul to 24-Jul-2022 | D1178: MPO | F1178: 54 | G1178: 1051 | H1178: Yes | I1178: Yes | J1178: =IF(COUNTIFS('Player 1 Rounds'!A:A,Player_2[[#This Row],[Tournament]],'Player 1 Rounds'!C:C,Player_2[[#This Row],[Date]])>0,TRUE(),FALSE()) -> TRUE | K1178: =IF(COUNTIFS('Player 1 Rounds'!A:A,Player_2[[#This Row],[Tournament]],'Player 1 Rounds'!C:C,Player_2[[#This Row],[Date]],'Player 1 Rounds'!D:D,Player_2[[#This Row],[Division]])>0,TRUE(),FALSE()) -> TRUE | L1178: =RIGHT(Player_2[[#This Row],[Date]],4) -> 2022 | M1178: =LEFT(Player_2[[#This Row],[Date]],FIND("-",Player_2[[#This Row],[Date]],1)-1) -> 21 | N1178: =MID(Player_2[[#This Row],[Date]],FIND("-",Player_2[[#This Row],[Date]],1)+1,3) -> Jul | O1178: =DATEVALUE(Player_2[[#This Row],[Month]]&" "&Player_2[[#This Row],[Day]]&", "&Player_2[[#This Row],[Year]]) -> 44763 | P1178: =COUNTIFS(A:A,Player_2[[#This Row],[Tournament]],E:E,Player_2[[#This Row],[Round]]) -> 0 | Q1178: =IF(ISERROR(FIND(L1178,A1178,1))=TRUE(),L1178&" "&A1178,A1178) -> 2022 European Open presented by Discmania | R1178: =SUMIFS('Player 1 Rounds'!F:F,'Player 1 Rounds'!Q:Q,Q1178,'Player 1 Rounds'!E:E,E1178) -> 0 | S1178: =IF(AND(Player_2[[#This Row],[Opponent Score]]>0,Player_2[[#This Row],[Opponent Score]]>Player_2[[#This Row],[Score]],K:K=TRUE())=TRUE(),1,0) -> 0
A1179: Southern California Championships - Pro Weekend | B1179: B | C1179: 14-Nov to 15-Nov-2009 | D1179: MPO | F1179: 62 | G1179: 1016 | H1179: No | I1179: No | J1179: =IF(COUNTIFS('Player 1 Rounds'!A:A,Player_2[[#This Row],[Tournament]],'Player 1 Rounds'!C:C,Player_2[[#This Row],[Date]])>0,TRUE(),FALSE()) -> FALSE | K1179: =IF(COUNTIFS('Player 1 Rounds'!A:A,Player_2[[#This Row],[Tournament]],'Player 1 Rounds'!C:C,Player_2[[#This Row],[Date]],'Player 1 Rounds'!D:D,Player_2[[#This Row],[Division]])>0,TRUE(),FALSE()) -> FALSE | L1179: =RIGHT(Player_2[[#This Row],[Date]],4) -> 2009 | M1179: =LEFT(Player_2[[#This Row],[Date]],FIND("-",Player_2[[#This Row],[Date]],1)-1) -> 14 | N1179: =MID(Player_2[[#This Row],[Date]],FIND("-",Player_2[[#This Row],[Date]],1)+1,3) -> Nov | O1179: =DATEVALUE(Player_2[[#This Row],[Month]]&" "&Player_2[[#This Row],[Day]]&", "&Player_2[[#This Row],[Year]]) -> 40131 | P1179: =COUNTIFS(A:A,Player_2[[#This Row],[Tournament]],E:E,Player_2[[#This Row],[Round]]) -> 0 | Q1179: =IF(ISERROR(FIND(L1179,A1179,1))=TRUE(),L1179&" "&A1179,A1179) -> 2009 Southern California Championships - Pro Weekend | R1179: =SUMIFS('Player 1 Rounds'!F:F,'Player 1 Rounds'!Q:Q,Q1179,'Player 1 Rounds'!E:E,E1179) -> 0 | S1179: =IF(AND(Player_2[[#This Row],[Opponent Score]]>0,Player_2[[#This Row],[Opponent Score]]>Player_2[[#This Row],[Score]],K:K=TRUE())=TRUE(),1,0) -> 0
A1180: United States Disc Golf Championship | B1180: M | C1180: 7-Oct to 10-Oct-2009 | D1180: MPO | F1180: 59 | G1180: 1050 | H1180: No | I1180: No | J1180: =IF(COUNTIFS('Player 1 Rounds'!A:A,Player_2[[#This Row],[Tournament]],'Player 1 Rounds'!C:C,Player_2[[#This Row],[Date]])>0,TRUE(),FALSE()) -> FALSE | K1180: =IF(COUNTIFS('Player 1 Rounds'!A:A,Player_2[[#This Row],[Tournament]],'Player 1 Rounds'!C:C,Player_2[[#This Row],[Date]],'Player 1 Rounds'!D:D,Player_2[[#This Row],[Division]])>0,TRUE(),FALSE()) -> FALSE | L1180: =RIGHT(Player_2[[#This Row],[Date]],4) -> 2009 | M1180: =LEFT(Player_2[[#This Row],[Date]],FIND("-",Player_2[[#This Row],[Date]],1)-1) -> 7 | N1180: =MID(Player_2[[#This Row],[Date]],FIND("-",Player_2[[#This Row],[Date]],1)+1,3) -> Oct | O1180: =DATEVALUE(Player_2[[#This Row],[Month]]&" "&Player_2[[#This Row],[Day]]&", "&Player_2[[#This Row],[Year]]) -> 40093 | P1180: =COUNTIFS(A:A,Player_2[[#This Row],[Tournament]],E:E,Player_2[[#This Row],[Round]]) -> 0 | Q1180: =IF(ISERROR(FIND(L1180,A1180,1))=TRUE(),L1180&" "&A1180,A1180) -> 2009 United States Disc Golf Championship | R1180: =SUMIFS('Player 1 Rounds'!F:F,'Player 1 Rounds'!Q:Q,Q1180,'Player 1 Rounds'!E:E,E1180) -> 0 | S1180: =IF(AND(Player_2[[#This Row],[Opponent Score]]>0,Player_2[[#This Row],[Opponent Score]]>Player_2[[#This Row],[Score]],K:K=TRUE())=TRUE(),1,0) -> 0
A1181: 2019 Dynamic Discs Glass Blown Open - National Tour | B1181: NT | C1181: 24-Apr to 27-Apr-2019 | D1181: MPO | F1181: 67 | G1181: 1010 | H1181: No | I1181: No | J1181: =IF(COUNTIFS('Player 1 Rounds'!A:A,Player_2[[#This Row],[Tournament]],'Player 1 Rounds'!C:C,Player_2[[#This Row],[Date]])>0,TRUE(),FALSE()) -> TRUE | K1181: =IF(COUNTIFS('Player 1 Rounds'!A:A,Player_2[[#This Row],[Tournament]],'Player 1 Rounds'!C:C,Player_2[[#This Row],[Date]],'Player 1 Rounds'!D:D,Player_2[[#This Row],[Division]])>0,TRUE(),FALSE()) -> TRUE | L1181: =RIGHT(Player_2[[#This Row],[Date]],4) -> 2019 | M1181: =LEFT(Player_2[[#This Row],[Date]],FIND("-",Player_2[[#This Row],[Date]],1)-1) -> 24 | N1181: =MID(Player_2[[#This Row],[Date]],FIND("-",Player_2[[#This Row],[Date]],1)+1,3) -> Apr | O1181: =DATEVALUE(Player_2[[#This Row],[Month]]&" "&Player_2[[#This Row],[Day]]&", "&Player_2[[#This Row],[Year]]) -> 43579 | P1181: =COUNTIFS(A:A,Player_2[[#This Row],[Tournament]],E:E,Player_2[[#This Row],[Round]]) -> 0 | Q1181: =IF(ISERROR(FIND(L1181,A1181,1))=TRUE(),L1181&" "&A1181,A1181) -> 2019 Dynamic Discs Glass Blown Open - National Tour | R1181: =SUMIFS('Player 1 Rounds'!F:F,'Player 1 Rounds'!Q:Q,Q1181,'Player 1 Rounds'!E:E,E1181) -> 0 | S1181: =IF(AND(Player_2[[#This Row],[Opponent Score]]>0,Player_2[[#This Row],[Opponent Score]]>Player_2[[#This Row],[Score]],K:K=TRUE())=TRUE(),1,0) -> 0
A1182: Vibram presents the Maple Hill Open | B1182: NT | C1182: 25-Jun to 28-Jun-2015 | D1182: MPO | F1182: 63 | G1182: 984 | H1182: No | I1182: No | J1182: =IF(COUNTIFS('Player 1 Rounds'!A:A,Player_2[[#This Row],[Tournament]],'Player 1 Rounds'!C:C,Player_2[[#This Row],[Date]])>0,TRUE(),FALSE()) -> TRUE | K1182: =IF(COUNTIFS('Player 1 Rounds'!A:A,Player_2[[#This Row],[Tournament]],'Player 1 Rounds'!C:C,Player_2[[#This Row],[Date]],'Player 1 Rounds'!D:D,Player_2[[#This Row],[Division]])>0,TRUE(),FALSE()) -> TRUE | L1182: =RIGHT(Player_2[[#This Row],[Date]],4) -> 2015 | M1182: =LEFT(Player_2[[#This Row],[Date]],FIND("-",Player_2[[#This Row],[Date]],1)-1) -> 25 | N1182: =MID(Player_2[[#This Row],[Date]],FIND("-",Player_2[[#This Row],[Date]],1)+1,3) -> Jun | O1182: =DATEVALUE(Player_2[[#This Row],[Month]]&" "&Player_2[[#This Row],[Day]]&", "&Player_2[[#This Row],[Year]]) -> 42180 | P1182: =COUNTIFS(A:A,Player_2[[#This Row],[Tournament]],E:E,Player_2[[#This Row],[Round]]) -> 0 | Q1182: =IF(ISERROR(FIND(L1182,A1182,1))=TRUE(),L1182&" "&A1182,A1182) -> 2015 Vibram presents the Maple Hill Open | R1182: =SUMIFS('Player 1 Rounds'!F:F,'Player 1 Rounds'!Q:Q,Q1182,'Player 1 Rounds'!E:E,E1182) -> 0 | S1182: =IF(AND(Player_2[[#This Row],[Opponent Score]]>0,Player_2[[#This Row],[Opponent Score]]>Player_2[[#This Row],[Score]],K:K=TRUE())=TRUE(),1,0) -> 0
A1183: DGPT - Memorial Championship Presented by Discraft | B1183: A | C1183: 28-Feb to 3-Mar-2019 | D1183: MPO | F1183: 49 | G1183: 1071 | H1183: No | I1183: No | J1183: =IF(COUNTIFS('Player 1 Rounds'!A:A,Player_2[[#This Row],[Tournament]],'Player 1 Rounds'!C:C,Player_2[[#This Row],[Date]])>0,TRUE(),FALSE()) -> TRUE | K1183: =IF(COUNTIFS('Player 1 Rounds'!A:A,Player_2[[#This Row],[Tournament]],'Player 1 Rounds'!C:C,Player_2[[#This Row],[Date]],'Player 1 Rounds'!D:D,Player_2[[#This Row],[Division]])>0,TRUE(),FALSE()) -> TRUE | L1183: =RIGHT(Player_2[[#This Row],[Date]],4) -> 2019 | M1183: =LEFT(Player_2[[#This Row],[Date]],FIND("-",Player_2[[#This Row],[Date]],1)-1) -> 28 | N1183: =MID(Player_2[[#This Row],[Date]],FIND("-",Player_2[[#This Row],[Date]],1)+1,3) -> Feb | O1183: =DATEVALUE(Player_2[[#This Row],[Month]]&" "&Player_2[[#This Row],[Day]]&", "&Player_2[[#This Row],[Year]]) -> 43524 | P1183: =COUNTIFS(A:A,Player_2[[#This Row],[Tournament]],E:E,Player_2[[#This Row],[Round]]) -> 0 | Q1183: =IF(ISERROR(FIND(L1183,A1183,1))=TRUE(),L1183&" "&A1183,A1183) -> 2019 DGPT - Memorial Championship Presented by Discraft | R1183: =SUMIFS('Player 1 Rounds'!F:F,'Player 1 Rounds'!Q:Q,Q1183,'Player 1 Rounds'!E:E,E1183) -> 0 | S1183: =IF(AND(Player_2[[#This Row],[Opponent Score]]>0,Player_2[[#This Row],[Opponent Score]]>Player_2[[#This Row],[Score]],K:K=TRUE())=TRUE(),1,0) -> 0
A1184: Las Vegas Challenge presented by Innova Champion Discs - National Tour | B1184: NT | C1184: 21-Feb to 24-Feb-2019 | D1184: MPO | F1184: 56 | G1184: 1029 | H1184: No | I1184: No | J1184: =IF(COUNTIFS('Player 1 Rounds'!A:A,Player_2[[#This Row],[Tournament]],'Player 1 Rounds'!C:C,Player_2[[#This Row],[Date]])>0,TRUE(),FALSE()) -> TRUE | K1184: =IF(COUNTIFS('Player 1 Rounds'!A:A,Player_2[[#This Row],[Tournament]],'Player 1 Rounds'!C:C,Player_2[[#This Row],[Date]],'Player 1 Rounds'!D:D,Player_2[[#This Row],[Division]])>0,TRUE(),FALSE()) -> TRUE | L1184: =RIGHT(Player_2[[#This Row],[Date]],4) -> 2019 | M1184: =LEFT(Player_2[[#This Row],[Date]],FIND("-",Player_2[[#This Row],[Date]],1)-1) -> 21 | N1184: =MID(Player_2[[#This Row],[Date]],FIND("-",Player_2[[#This Row],[Date]],1)+1,3) -> Feb | O1184: =DATEVALUE(Player_2[[#This Row],[Month]]&" "&Player_2[[#This Row],[Day]]&", "&Player_2[[#This Row],[Year]]) -> 43517 | P1184: =COUNTIFS(A:A,Player_2[[#This Row],[Tournament]],E:E,Player_2[[#This Row],[Round]]) -> 0 | Q1184: =IF(ISERROR(FIND(L1184,A1184,1))=TRUE(),L1184&" "&A1184,A1184) -> 2019 Las Vegas Challenge presented by Innova Champion Discs - National Tour | R1184: =SUMIFS('Player 1 Rounds'!F:F,'Player 1 Rounds'!Q:Q,Q1184,'Player 1 Rounds'!E:E,E1184) -> 0 | S1184: =IF(AND(Player_2[[#This Row],[Opponent Score]]>0,Player_2[[#This Row],[Opponent Score]]>Player_2[[#This Row],[Score]],K:K=TRUE())=TRUE(),1,0) -> 0
A1185: United States Disc Golf Championship | B1185: M | C1185: 6-Oct to 9-Oct-2010 | D1185: MPO | F1185: 60 | G1185: 1058 | H1185: No | I1185: No | J1185: =IF(COUNTIFS('Player 1 Rounds'!A:A,Player_2[[#This Row],[Tournament]],'Player 1 Rounds'!C:C,Player_2[[#This Row],[Date]])>0,TRUE(),FALSE()) -> TRUE | K1185: =IF(COUNTIFS('Player 1 Rounds'!A:A,Player_2[[#This Row],[Tournament]],'Player 1 Rounds'!C:C,Player_2[[#This Row],[Date]],'Player 1 Rounds'!D:D,Player_2[[#This Row],[Division]])>0,TRUE(),FALSE()) -> TRUE | L1185: =RIGHT(Player_2[[#This Row],[Date]],4) -> 2010 | M1185: =LEFT(Player_2[[#This Row],[Date]],FIND("-",Player_2[[#This Row],[Date]],1)-1) -> 6 | N1185: =MID(Player_2[[#This Row],[Date]],FIND("-",Player_2[[#This Row],[Date]],1)+1,3) -> Oct | O1185: =DATEVALUE(Player_2[[#This Row],[Month]]&" "&Player_2[[#This Row],[Day]]&", "&Player_2[[#This Row],[Year]]) -> 40457 | P1185: =COUNTIFS(A:A,Player_2[[#This Row],[Tournament]],E:E,Player_2[[#This Row],[Round]]) -> 0 | Q1185: =IF(ISERROR(FIND(L1185,A1185,1))=TRUE(),L1185&" "&A1185,A1185) -> 2010 United States Disc Golf Championship | R1185: =SUMIFS('Player 1 Rounds'!F:F,'Player 1 Rounds'!Q:Q,Q1185,'Player 1 Rounds'!E:E,E1185) -> 0 | S1185: =IF(AND(Player_2[[#This Row],[Opponent Score]]>0,Player_2[[#This Row],[Opponent Score]]>Player_2[[#This Row],[Score]],K:K=TRUE())=TRUE(),1,0) -> 0
A1186: DGPT - Portland Open presented by Dynamic Discs | B1186: ES | C1186: 2-Jun to 5-Jun-2022 | D1186: MPO | F1186: 63 | G1186: 1018 | H1186: Yes | I1186: Yes | J1186: =IF(COUNTIFS('Player 1 Rounds'!A:A,Player_2[[#This Row],[Tournament]],'Player 1 Rounds'!C:C,Player_2[[#This Row],[Date]])>0,TRUE(),FALSE()) -> FALSE | K1186: =IF(COUNTIFS('Player 1 Rounds'!A:A,Player_2[[#This Row],[Tournament]],'Player 1 Rounds'!C:C,Player_2[[#This Row],[Date]],'Player 1 Rounds'!D:D,Player_2[[#This Row],[Division]])>0,TRUE(),FALSE()) -> FALSE | L1186: =RIGHT(Player_2[[#This Row],[Date]],4) -> 2022 | M1186: =LEFT(Player_2[[#This Row],[Date]],FIND("-",Player_2[[#This Row],[Date]],1)-1) -> 2 | N1186: =MID(Player_2[[#This Row],[Date]],FIND("-",Player_2[[#This Row],[Date]],1)+1,3) -> Jun | O1186: =DATEVALUE(Player_2[[#This Row],[Month]]&" "&Player_2[[#This Row],[Day]]&", "&Player_2[[#This Row],[Year]]) -> 44714 | P1186: =COUNTIFS(A:A,Player_2[[#This Row],[Tournament]],E:E,Player_2[[#This Row],[Round]]) -> 0 | Q1186: =IF(ISERROR(FIND(L1186,A1186,1))=TRUE(),L1186&" "&A1186,A1186) -> 2022 DGPT - Portland Open presented by Dynamic Discs | R1186: =SUMIFS('Player 1 Rounds'!F:F,'Player 1 Rounds'!Q:Q,Q1186,'Player 1 Rounds'!E:E,E1186) -> 0 | S1186: =IF(AND(Player_2[[#This Row],[Opponent Score]]>0,Player_2[[#This Row],[Opponent Score]]>Player_2[[#This Row],[Score]],K:K=TRUE())=TRUE(),1,0) -> 0
A1187: European Open | B1187: M | C1187: 18-Jul to 21-Jul-2013 | D1187: MPO | F1187: 56 | G1187: 1063 | H1187: No | I1187: No | J1187: =IF(COUNTIFS('Player 1 Rounds'!A:A,Player_2[[#This Row],[Tournament]],'Player 1 Rounds'!C:C,Player_2[[#This Row],[Date]])>0,TRUE(),FALSE()) -> TRUE | K1187: =IF(COUNTIFS('Player 1 Rounds'!A:A,Player_2[[#This Row],[Tournament]],'Player 1 Rounds'!C:C,Player_2[[#This Row],[Date]],'Player 1 Rounds'!D:D,Player_2[[#This Row],[Division]])>0,TRUE(),FALSE()) -> TRUE | L1187: =RIGHT(Player_2[[#This Row],[Date]],4) -> 2013 | M1187: =LEFT(Player_2[[#This Row],[Date]],FIND("-",Player_2[[#This Row],[Date]],1)-1) -> 18 | N1187: =MID(Player_2[[#This Row],[Date]],FIND("-",Player_2[[#This Row],[Date]],1)+1,3) -> Jul | O1187: =DATEVALUE(Player_2[[#This Row],[Month]]&" "&Player_2[[#This Row],[Day]]&", "&Player_2[[#This Row],[Year]]) -> 41473 | P1187: =COUNTIFS(A:A,Player_2[[#This Row],[Tournament]],E:E,Player_2[[#This Row],[Round]]) -> 0 | Q1187: =IF(ISERROR(FIND(L1187,A1187,1))=TRUE(),L1187&" "&A1187,A1187) -> 2013 European Open | R1187: =SUMIFS('Player 1 Rounds'!F:F,'Player 1 Rounds'!Q:Q,Q1187,'Player 1 Rounds'!E:E,E1187) -> 0 | S1187: =IF(AND(Player_2[[#This Row],[Opponent Score]]>0,Player_2[[#This Row],[Opponent Score]]>Player_2[[#This Row],[Score]],K:K=TRUE())=TRUE(),1,0) -> 0
A1188: Scandinavian Open presented by Latitude 64 | B1188: M | C1188: 8-Jul to 11-Jul-2015 | D1188: MPO | F1188: 56 | G1188: 1060 | H1188: No | I1188: No | J1188: =IF(COUNTIFS('Player 1 Rounds'!A:A,Player_2[[#This Row],[Tournament]],'Player 1 Rounds'!C:C,Player_2[[#This Row],[Date]])>0,TRUE(),FALSE()) -> TRUE | K1188: =IF(COUNTIFS('Player 1 Rounds'!A:A,Player_2[[#This Row],[Tournament]],'Player 1 Rounds'!C:C,Player_2[[#This Row],[Date]],'Player 1 Rounds'!D:D,Player_2[[#This Row],[Division]])>0,TRUE(),FALSE()) -> TRUE | L1188: =RIGHT(Player_2[[#This Row],[Date]],4) -> 2015 | M1188: =LEFT(Player_2[[#This Row],[Date]],FIND("-",Player_2[[#This Row],[Date]],1)-1) -> 8 | N1188: =MID(Player_2[[#This Row],[Date]],FIND("-",Player_2[[#This Row],[Date]],1)+1,3) -> Jul | O1188: =DATEVALUE(Player_2[[#This Row],[Month]]&" "&Player_2[[#This Row],[Day]]&", "&Player_2[[#This Row],[Year]]) -> 42193 | P1188: =COUNTIFS(A:A,Player_2[[#This Row],[Tournament]],E:E,Player_2[[#This Row],[Round]]) -> 0 | Q1188: =IF(ISERROR(FIND(L1188,A1188,1))=TRUE(),L1188&" "&A1188,A1188) -> 2015 Scandinavian Open presented by Latitude 64 | R1188: =SUMIFS('Player 1 Rounds'!F:F,'Player 1 Rounds'!Q:Q,Q1188,'Player 1 Rounds'!E:E,E1188) -> 0 | S1188: =IF(AND(Player_2[[#This Row],[Opponent Score]]>0,Player_2[[#This Row],[Opponent Score]]>Player_2[[#This Row],[Score]],K:K=TRUE())=TRUE(),1,0) -> 0
A1189: European Open | B1189: M | C1189: 16-Jul to 19-Jul-2015 | D1189: MPO | F1189: 59 | G1189: 1032 | H1189: No | I1189: No | J1189: =IF(COUNTIFS('Player 1 Rounds'!A:A,Player_2[[#This Row],[Tournament]],'Player 1 Rounds'!C:C,Player_2[[#This Row],[Date]])>0,TRUE(),FALSE()) -> TRUE | K1189: =IF(COUNTIFS('Player 1 Rounds'!A:A,Player_2[[#This Row],[Tournament]],'Player 1 Rounds'!C:C,Player_2[[#This Row],[Date]],'Player 1 Rounds'!D:D,Player_2[[#This Row],[Division]])>0,TRUE(),FALSE()) -> TRUE | L1189: =RIGHT(Player_2[[#This Row],[Date]],4) -> 2015 | M1189: =LEFT(Player_2[[#This Row],[Date]],FIND("-",Player_2[[#This Row],[Date]],1)-1) -> 16 | N1189: =MID(Player_2[[#This Row],[Date]],FIND("-",Player_2[[#This Row],[Date]],1)+1,3) -> Jul | O1189: =DATEVALUE(Player_2[[#This Row],[Month]]&" "&Player_2[[#This Row],[Day]]&", "&Player_2[[#This Row],[Year]]) -> 42201 | P1189: =COUNTIFS(A:A,Player_2[[#This Row],[Tournament]],E:E,Player_2[[#This Row],[Round]]) -> 0 | Q1189: =IF(ISERROR(FIND(L1189,A1189,1))=TRUE(),L1189&" "&A1189,A1189) -> 2015 European Open | R1189: =SUMIFS('Player 1 Rounds'!F:F,'Player 1 Rounds'!Q:Q,Q1189,'Player 1 Rounds'!E:E,E1189) -> 0 | S1189: =IF(AND(Player_2[[#This Row],[Opponent Score]]>0,Player_2[[#This Row],[Opponent Score]]>Player_2[[#This Row],[Score]],K:K=TRUE())=TRUE(),1,0) -> 0
... A1245: 2013 PDGA Professional Disc Golf World Championships | B1245: M | C1245: 3-Aug to 10-Aug-2013 | D1245: MPO | F1245: 45 | G1245: 1072 | H1245: No | I1245: No | J1245: =IF(COUNTIFS('Player 1 Rounds'!A:A,Player_2[[#This Row],[Tournament]],'Player 1 Rounds'!C:C,Player_2[[#This Row],[Date]])>0,TRUE(),FALSE()) -> TRUE | K1245: =IF(COUNTIFS('Player 1 Rounds'!A:A,Player_2[[#This Row],[Tournament]],'Player 1 Rounds'!C:C,Player_2[[#This Row],[Date]],'Player 1 Rounds'!D:D,Player_2[[#This Row],[Division]])>0,TRUE(),FALSE()) -> TRUE | L1245: =RIGHT(Player_2[[#This Row],[Date]],4) -> 2013 | M1245: =LEFT(Player_2[[#This Row],[Date]],FIND("-",Player_2[[#This Row],[Date]],1)-1) -> 3 | N1245: =MID(Player_2[[#This Row],[Date]],FIND("-",Player_2[[#This Row],[Date]],1)+1,3) -> Aug | O1245: =DATEVALUE(Player_2[[#This Row],[Month]]&" "&Player_2[[#This Row],[Day]]&", "&Player_2[[#This Row],[Year]]) -> 41489 | P1245: =COUNTIFS(A:A,Player_2[[#This Row],[Tournament]],E:E,Player_2[[#This Row],[Round]]) -> 0 | Q1245: =IF(ISERROR(FIND(L1245,A1245,1))=TRUE(),L1245&" "&A1245,A1245) -> 2013 PDGA Professional Disc Golf World Championships | R1245: =SUMIFS('Player 1 Rounds'!F:F,'Player 1 Rounds'!Q:Q,Q1245,'Player 1 Rounds'!E:E,E1245) -> 0 | S1245: =IF(AND(Player_2[[#This Row],[Opponent Score]]>0,Player_2[[#This Row],[Opponent Score]]>Player_2[[#This Row],[Score]],K:K=TRUE())=TRUE(),1,0) -> 0

Sheet Player 1 Name
A1: Player 1 Name
A2: Richard Wysocki

Sheet Player 2 Name
A1: Player 2 Name
A2: Paul McBeth

Sheet Sheet4
A1: Player 1 PDGA | C1: Player 2 PDGA
A2: =TEXT(IF('Player Entry'!C2="Enter Here",18,'Player Entry'!C2),"0") -> 38008 | C2: =TEXT(IF('Player Entry'!C3="Enter Here",23,'Player Entry'!C3),"0") -> 27523
