{"text_format":"3","workbook":"xlsx","n_sheets":2,"sheets":["Sheet1","SummarySheet"],"not_rendered":{"macros":1},"read":"whole","date_system":"1900"}

{"sheet":"Sheet1","index":0,"n_rows":502,"n_cols":13,"rows_kept":502}
[{"$nulls":6},"y","# Combinations","P(Y=y when hypothesis is true)","p(Y<=y when hypothesis is true) = p(erroneously rejecting a correct hypothesis) = alpha","p(Y=y when true putting percentage is the alternative)","p(Y>y when true putting percentage is the alternative) = p(erroneously accepting an incorrect hypothesis) = beta","alpha plus beta (minimum value in this column provides us with the best test)"]
["# putts","True putting % hypothesis","alternative","Best Test","Best Test Beta","Best Test Alpha",0,{"$f":"IF(ISERROR(COMBIN(A$3,A$3-ROW()+2)),\"\",COMBIN(A$3,A$3-ROW()+2))","v":1},{"$f":"IF(ISERROR(H2*B$3^G2*(1-B$3)^(A$3-G2))=TRUE,\"\",H2*B$3^G2*(1-B$3)^(A$3-G2))","v":8.881784197001648e-66},{"$f":"SUM(I$2:I2)","v":8.881784197001648e-66},{"$f":"IF(ISERROR(H2*(C$3)^G2*(1-C$3)^(A$3-G2))=TRUE,\"\",H2*(C$3)^G2*(1-C$3)^(A$3-G2))","v":6.376215002140538e-42},{"$f":"SUM(K3:K$502)","v":0.999999999999999},{"$f":"L2+J2","v":0.999999999999999}]
[50,0.95,0.85,{"$f":"INDEX(G:G,MATCH(MIN(M:M),M:M,0),1)","v":45},{"$f":"VLOOKUP(D3,G:L,6,FALSE)","v":{"v":0.11210520805497706,"d":"11.2%"}},{"$f":"VLOOKUP(D3,G:J,4,FALSE)","v":{"v":0.103616810144144,"d":"10.4%"}},1,{"$f":"IF(ISERROR(COMBIN(A$3,A$3-ROW()+2)),\"\",COMBIN(A$3,A$3-ROW()+2))","v":50},{"$f":"IF(ISERROR(H3*B$3^G3*(1-B$3)^(A$3-G3))=TRUE,\"\",H3*B$3^G3*(1-B$3)^(A$3-G3))","v":8.437694987151558e-63},{"$f":"SUM(I$2:I3)","v":8.446576771348559e-63},{"$f":"IF(ISERROR(H3*(C$3)^G3*(1-C$3)^(A$3-G3))=TRUE,\"\",H3*(C$3)^G3*(1-C$3)^(A$3-G3))","v":1.8065942506064857E-39},{"$f":"SUM(K4:K$502)","v":0.999999999999999},{"$f":"L3+J3","v":0.999999999999999}]
[{"$nulls":6},2,1225,3.927747016519047E-60,{"$f":"SUM(I$2:I4)","v":3.9361935932903957E-60},2.5081550179253365E-37,{"$f":"SUM(K5:K$502)","v":0.999999999999999},0.999999999999999]
[{"$nulls":6},3,19600,1.194035093021789E-57,{"$f":"SUM(I$2:I5)","v":1.1979712866150793E-57},2.2740605495856386E-35,{"$f":"SUM(K6:K$502)","v":0.999999999999999},0.999999999999999]
[{"$nulls":6},4,230300,2.6656833451711415E-55,{"$f":"SUM(I$2:I6)","v":2.677663058037292e-55},1.5141453159324372E-33,{"$f":"SUM(K7:K$502)","v":0.999999999999999},0.999999999999999]
[{"$nulls":6},5,2118760,4.659614487359152e-53,{"$f":"SUM(I$2:I7)","v":4.686391117939525e-53},{"$f":"IF(ISERROR(H7*(C$3)^G7*(1-C$3)^(A$3-G7))=TRUE,\"\",H7*(C$3)^G7*(1-C$3)^(A$3-G7))","v":7.893744247061105e-32},{"$f":"SUM(K8:K$502)","v":0.999999999999999},0.999999999999999]
[{"$nulls":6},6,15890700,6.639950644486786e-51,{"$f":"SUM(I$2:I8)","v":6.686814555666181e-51},3.3548413050009694E-30,{"$f":"SUM(K9:K$502)","v":0.999999999999999},0.999999999999999]
[{"$nulls":6},7,99884400,7.929998198272782e-49,{"$f":"SUM(I$2:I9)","v":7.996866343829444e-49},1.1949625219717734E-28,{"$f":"SUM(K10:K$502)","v":0.999999999999999},0.999999999999999]
[{"$nulls":6},8,536878649.9999999,8.09851065998607e-47,{"$f":"SUM(I$2:I10)","v":8.178479323424364E-47},3.639656681505692e-27,{"$f":"SUM(K11:K$502)","v":0.999999999999999},0.999999999999999]
[{"$nulls":6},9,2505433700,7.180679451854309e-45,{"$f":"SUM(I$2:I11)","v":7.262464245088553e-45},9.62486989109283e-26,{"$f":"SUM(K12:K$502)","v":0.999999999999999},0.999999999999999]
[{"$nulls":6},10,10272278170,5.5937492929945025E-43,{"$f":"SUM(I$2:I12)","v":5.666373935445388e-43},2.2361781046972335E-24,{"$f":"SUM(K13:K$502)","v":0.999999999999999},0.999999999999999]
[{"$nulls":6},11,37353738799.999985,3.8647722387961964E-41,{"$f":"SUM(I$2:I13)","v":3.9214359781506503E-41},4.607882155133692e-23,{"$f":"SUM(K14:K$502)","v":0.999999999999999},0.999999999999999]
[{"$nulls":6},12,121399651100,2.38649685745665e-39,{"$f":"SUM(I$2:I14)","v":2.4257112172381566E-39},8.486182969037883e-22,{"$f":"SUM(K15:K$502)","v":0.999999999999999},0.999999999999999]
[{"$nulls":6},13,354860518599.9999,1.3254236392951533E-37,{"$f":"SUM(I$2:I15)","v":1.349680751467535E-37},1.4056600507688383E-20,{"$f":"SUM(K16:K$502)","v":0.999999999999999},0.999999999999999]
[{"$nulls":6},14,937845656300,6.655520131603515e-36,{"$f":"SUM(I$2:I16)","v":6.790488206750269e-36},2.10514326650857e-19,{"$f":"SUM(K17:K$502)","v":0.999999999999999},0.999999999999999]
[{"$nulls":6},15,2250829575120.0005,3.0349171800112014E-34,{"$f":"SUM(I$2:I17)","v":3.102822062078704E-34},2.862994842451655E-18,{"$f":"SUM(K18:K$502)","v":0.999999999999999},0.999999999999999]
[{"$nulls":6},16,4923689695575,1.2613874529421542E-32,{"$f":"SUM(I$2:I18)","v":1.2924156735629413E-32},3.548920690122364E-17,{"$f":"SUM(K19:K$502)","v":0.999999999999999},0.999999999999999]
[{"$nulls":6},17,9847379391150,4.793272321180182e-31,{"$f":"SUM(I$2:I19)","v":4.922513888536476e-31},4.022110115472011e-16,{"$f":"SUM(K20:K$502)","v":0.9999999999999986},0.9999999999999986]
[{"$nulls":6},18,18053528883775.008,1.6696565252110958E-29,{"$f":"SUM(I$2:I20)","v":1.7188816640964605E-29},4.17852550885148e-15,{"$f":"SUM(K21:K$502)","v":0.9999999999999943},0.9999999999999943]
[{"$nulls":6},19,30405943383199.99,5.342900880675498e-28,{"$f":"SUM(I$2:I21)","v":5.514789047085143e-28},3.987926099675794e-14,{"$f":"SUM(K22:K$502)","v":0.9999999999999546},0.9999999999999546]
[{"$nulls":6},20,47129212243960,1.5734843093589328E-26,{"$f":"SUM(I$2:I22)","v":1.6286321998297842E-26},3.50272842421524e-13,{"$f":"SUM(K23:K$502)","v":0.9999999999996042},0.9999999999996042]
[{"$nulls":6},21,67327446062800,4.270885982545673e-25,{"$f":"SUM(I$2:I23)","v":4.433749202528651e-25},2.835542057698051e-12,{"$f":"SUM(K24:K$502)","v":0.9999999999967687},0.9999999999967687]
[{"$nulls":6},22,88749815264599.97,1.0696628074466645E-23,{"$f":"SUM(I$2:I24)","v":1.1140002994719511E-23},2.1180639915835432E-11,{"$f":"SUM(K25:K$502)","v":0.9999999999755881},0.9999999999755881]
[{"$nulls":6},23,108043253365600.03,2.47417658070272e-22,{"$f":"SUM(I$2:I25)","v":2.585576610649915e-22},1.4611571883967634E-10,{"$f":"SUM(K26:K$502)","v":0.9999999998294723},0.9999999998294723]
[{"$nulls":6},24,121548660036300.05,5.28855244125206e-21,{"$f":"SUM(I$2:I26)","v":5.5471101023170515E-21},9.314877076029367e-10,{"$f":"SUM(K27:K$502)","v":0.9999999988979847},0.9999999988979847]
[{"$nulls":6},25,126410606437751.98,1.0450179623914051E-19,{"$f":"SUM(I$2:I27)","v":1.1004890634145757E-19},5.4895675568066378E-9,{"$f":"SUM(K28:K$502)","v":0.999999993408417},0.999999993408417]
[{"$nulls":6},26,121548660036300.05,1.90916743129199E-18,{"$f":"SUM(I$2:I28)","v":2.0192163376334476E-18},2.9911105277472071E-8,{"$f":"SUM(K29:K$502)","v":0.9999999634973119},0.9999999634973119]
[{"$nulls":6},27,108043253365600.03,3.224371661737579e-17,{"$f":"SUM(I$2:I29)","v":3.4262932955009235E-17},1.5066334510134078E-7,{"$f":"SUM(K30:K$502)","v":0.9999998128339668},0.9999998128339668]
[{"$nulls":6},28,88749815264599.97,5.032322914926142e-16,{"$f":"SUM(I$2:I30)","v":5.374952244476235e-16},7.013019992217165E-7,{"$f":"SUM(K31:K$502)","v":0.9999991115319674},0.999999111531968]
[{"$nulls":6},29,67327446062800,7.253486132548713e-15,{"$f":"SUM(I$2:I31)","v":7.790981356996336e-15},3.0147925024014026E-6,{"$f":"SUM(K32:K$502)","v":0.9999960967394651},0.9999960967394729]
[{"$nulls":6},30,47129212243960,9.647136556289777e-14,{"$f":"SUM(I$2:I32)","v":1.042623469198941e-13},1.1958676926192231E-5,{"$f":"SUM(K33:K$502)","v":0.9999841380625388},0.9999841380626431]
[{"$nulls":6},31,30405943383199.99,1.1825522230290682E-12,{"$f":"SUM(I$2:I33)","v":1.2868145699489624E-12},4.3719894138767251E-5,{"$f":"SUM(K34:K$502)","v":0.9999404181684001},0.9999404181696869]
[{"$nulls":6},32,18053528883775.008,1.3340667266046675E-11,{"$f":"SUM(I$2:I34)","v":1.462748183599564e-11},1.4709922715439413E-4,{"$f":"SUM(K35:K$502)","v":0.9997933189412457},0.9997933189558732]
[{"$nulls":6},33,9847379391150,1.3825782439357443E-10,{"$f":"SUM(I$2:I35)","v":1.5288530622957007E-10},4.5467033847721794E-4,{"$f":"SUM(K36:K$502)","v":0.9993386486027686},0.9993386487556538]
[{"$nulls":6},34,4923689695575,1.3134493317389561E-9,{"$f":"SUM(I$2:I36)","v":1.4663346379685261E-9},1.2882326256854505E-3,{"$f":"SUM(K37:K$502)","v":0.998050415977083},0.9980504174434176]
[{"$nulls":6},35,2250829575120.0005,1.1408245624246923E-8,{"$f":"SUM(I$2:I37)","v":1.287458026221545E-8},3.3371359446327862E-3,{"$f":"SUM(K38:K$502)","v":0.9947132800324504},0.9947132929070307]
[{"$nulls":6},36,937845656300,9.0315277858621361E-8,{"$f":"SUM(I$2:I38)","v":1.0318985812083681E-7},0.007879348758160742,{"$f":"SUM(K39:K$502)","v":0.9868339312742896},0.9868340344641477]
[{"$nulls":6},37,354860518599.9999,6.4929361919981794E-7,{"$f":"SUM(I$2:I39)","v":7.5248347732065479E-7},0.01689445949947978,{"$f":"SUM(K40:K$502)","v":0.9699394717748099},0.9699402242582872]
[{"$nulls":6},38,121399651100,4.2204085247988125E-6,{"$f":"SUM(I$2:I40)","v":4.9728920021194671E-6},0.03275153990688625,{"$f":"SUM(K41:K$502)","v":0.9371879318679236},0.9371929047599257]
[{"$nulls":6},39,37353738799.999985,2.4673157529593031E-5,{"$f":"SUM(I$2:I41)","v":2.96460495317125e-05},0.057105249068417005,{"$f":"SUM(K42:K$502)","v":0.8800826827995066},0.8801123288490383]
[{"$nulls":6},40,10272278170,1.2891724809212352E-4,{"$f":"SUM(I$2:I42)","v":1.5856329762383602E-4},0.08898901313161653,{"$f":"SUM(K43:K$502)","v":0.79109366966789},0.7912522329655138]
[{"$nulls":6},41,2505433700,5.9742139359764493E-4,{"$f":"SUM(I$2:I43)","v":7.55984691221481E-4},0.12299294497865698,{"$f":"SUM(K44:K$502)","v":0.6681007246892331},0.6688567093804546]
[{"$nulls":6},42,536878649.9999999,2.432358531076124E-3,{"$f":"SUM(I$2:I44)","v":3.188343222297605E-3},0.14934857604551197,{"$f":"SUM(K45:K$502)","v":0.5187521486437212},0.5219404918660188]
[{"$nulls":6},43,99884400,0.008598104574966755,{"$f":"SUM(I$2:I45)","v":0.01178644779726436},0.15745276234255526,{"$f":"SUM(K46:K$502)","v":0.3612993863011658},0.37308583409843016]
[{"$nulls":6},44,15890700,0.025989725192513122,{"$f":"SUM(I$2:I46)","v":0.03777617298977748},0.14194605089972784,{"$f":"SUM(K47:K$502)","v":0.21935333540143806},0.2571295083912155]
[{"$nulls":6},45,2118760,0.06584063715436653,{"$f":"SUM(I$2:I47)","v":0.103616810144144},0.107248127346461,{"$f":"SUM(K48:K$502)","v":0.11210520805497706},0.21572201819912107]
[{"$nulls":6},46,230300,0.13597522890575683,{"$f":"SUM(I$2:I48)","v":0.23959203904990084},0.06605862916267524,{"$f":"SUM(K49:K$502)","v":0.04604657889230181},0.28563861794220263]
[{"$nulls":6},47,19600,0.21987483823058535,{"$f":"SUM(I$2:I49)","v":0.4594668772804862},0.03185806229121926,{"$f":"SUM(K50:K$502)","v":0.014188516601082548},0.47365539388156874]
[{"$nulls":6},48,1225,0.2611013703988198,{"$f":"SUM(I$2:I50)","v":0.720568247679306},0.011283063728140155,{"$f":"SUM(K51:K$502)","v":0.002905452872942394},0.7234737005522485]
[{"$nulls":6},49,50,0.20248677704398257,{"$f":"SUM(I$2:I51)","v":0.9230550247232886},2.609688209229695E-3,{"$f":"SUM(K52:K$502)","v":2.9576466371269874E-4},0.9233507893870013]
[{"$nulls":6},50,1,0.0769449752767133,{"$f":"SUM(I$2:I52)","v":1.000000000000002},2.9576466371269874E-4,{"$f":"SUM(K53:K$502)","v":0},1.000000000000002]
[{"$nulls":6},51,"","",{"$f":"SUM(I$2:I53)","v":1.000000000000002},"",{"$f":"SUM(K54:K$502)","v":0},1.000000000000002]
[{"$nulls":6},52,"","",{"$f":"SUM(I$2:I54)","v":1.000000000000002},"",{"$f":"SUM(K55:K$502)","v":0},1.000000000000002]
[{"$nulls":6},53,"","",{"$f":"SUM(I$2:I55)","v":1.000000000000002},"",{"$f":"SUM(K56:K$502)","v":0},1.000000000000002]
[{"$nulls":6},54,"","",{"$f":"SUM(I$2:I56)","v":1.000000000000002},"",{"$f":"SUM(K57:K$502)","v":0},1.000000000000002]
[{"$nulls":6},55,"","",{"$f":"SUM(I$2:I57)","v":1.000000000000002},"",{"$f":"SUM(K58:K$502)","v":0},1.000000000000002]
[{"$nulls":6},56,"","",{"$f":"SUM(I$2:I58)","v":1.000000000000002},"",{"$f":"SUM(K59:K$502)","v":0},1.000000000000002]
[{"$nulls":6},57,"","",{"$f":"SUM(I$2:I59)","v":1.000000000000002},"",{"$f":"SUM(K60:K$502)","v":0},1.000000000000002]
[{"$nulls":6},58,"","",{"$f":"SUM(I$2:I60)","v":1.000000000000002},"",{"$f":"SUM(K61:K$502)","v":0},1.000000000000002]
[{"$nulls":6},59,"","",{"$f":"SUM(I$2:I61)","v":1.000000000000002},"",{"$f":"SUM(K62:K$502)","v":0},1.000000000000002]
[{"$nulls":6},60,"","",{"$f":"SUM(I$2:I62)","v":1.000000000000002},"",{"$f":"SUM(K63:K$502)","v":0},1.000000000000002]
[{"$nulls":6},61,"","",{"$f":"SUM(I$2:I63)","v":1.000000000000002},"",{"$f":"SUM(K64:K$502)","v":0},1.000000000000002]
[{"$nulls":6},62,"","",{"$f":"SUM(I$2:I64)","v":1.000000000000002},"",{"$f":"SUM(K65:K$502)","v":0},1.000000000000002]
[{"$nulls":6},63,"","",{"$f":"SUM(I$2:I65)","v":1.000000000000002},"",{"$f":"SUM(K66:K$502)","v":0},1.000000000000002]
[{"$nulls":6},64,"","",{"$f":"SUM(I$2:I66)","v":1.000000000000002},{"$f":"IF(ISERROR(H66*(C$3)^G66*(1-C$3)^(A$3-G66))=TRUE,\"\",H66*(C$3)^G66*(1-C$3)^(A$3-G66))","v":""},{"$f":"SUM(K67:K$502)","v":0},1.000000000000002]
[{"$nulls":6},65,{"$f":"IF(ISERROR(COMBIN(A$3,A$3-ROW()+2)),\"\",COMBIN(A$3,A$3-ROW()+2))","v":""},{"$f":"IF(ISERROR(H67*B$3^G67*(1-B$3)^(A$3-G67))=TRUE,\"\",H67*B$3^G67*(1-B$3)^(A$3-G67))","v":""},{"$f":"SUM(I$2:I67)","v":1.000000000000002},"",{"$f":"SUM(K68:K$502)","v":0},{"$f":"L67+J67","v":1.000000000000002}]
[{"$nulls":6},66,"","",{"$f":"SUM(I$2:I68)","v":1.000000000000002},"",{"$f":"SUM(K69:K$502)","v":0},1.000000000000002]
[{"$nulls":6},67,"","",{"$f":"SUM(I$2:I69)","v":1.000000000000002},"",{"$f":"SUM(K70:K$502)","v":0},1.000000000000002]
[{"$nulls":6},68,"","",{"$f":"SUM(I$2:I70)","v":1.000000000000002},"",{"$f":"SUM(K71:K$502)","v":0},1.000000000000002]
[{"$nulls":6},69,"","",{"$f":"SUM(I$2:I71)","v":1.000000000000002},"",{"$f":"SUM(K72:K$502)","v":0},1.000000000000002]
[{"$nulls":6},70,"","",{"$f":"SUM(I$2:I72)","v":1.000000000000002},"",{"$f":"SUM(K73:K$502)","v":0},1.000000000000002]
[{"$nulls":6},71,"","",{"$f":"SUM(I$2:I73)","v":1.000000000000002},"",{"$f":"SUM(K74:K$502)","v":0},1.000000000000002]
[{"$nulls":6},72,"","",{"$f":"SUM(I$2:I74)","v":1.000000000000002},"",{"$f":"SUM(K75:K$502)","v":0},1.000000000000002]
[{"$nulls":6},73,"","",{"$f":"SUM(I$2:I75)","v":1.000000000000002},"",{"$f":"SUM(K76:K$502)","v":0},1.000000000000002]
[{"$nulls":6},74,"","",{"$f":"SUM(I$2:I76)","v":1.000000000000002},"",{"$f":"SUM(K77:K$502)","v":0},1.000000000000002]
[{"$nulls":6},75,"","",{"$f":"SUM(I$2:I77)","v":1.000000000000002},"",{"$f":"SUM(K78:K$502)","v":0},1.000000000000002]
[{"$nulls":6},76,"","",{"$f":"SUM(I$2:I78)","v":1.000000000000002},"",{"$f":"SUM(K79:K$502)","v":0},1.000000000000002]
[{"$nulls":6},77,"","",{"$f":"SUM(I$2:I79)","v":1.000000000000002},"",{"$f":"SUM(K80:K$502)","v":0},1.000000000000002]
[{"$nulls":6},78,"","",{"$f":"SUM(I$2:I80)","v":1.000000000000002},"",{"$f":"SUM(K81:K$502)","v":0},1.000000000000002]
[{"$nulls":6},79,"","",{"$f":"SUM(I$2:I81)","v":1.000000000000002},"",{"$f":"SUM(K82:K$502)","v":0},1.000000000000002]
[{"$nulls":6},80,"","",{"$f":"SUM(I$2:I82)","v":1.000000000000002},"",{"$f":"SUM(K83:K$502)","v":0},1.000000000000002]
[{"$nulls":6},81,"","",{"$f":"SUM(I$2:I83)","v":1.000000000000002},"",{"$f":"SUM(K84:K$502)","v":0},1.000000000000002]
[{"$nulls":6},82,"","",{"$f":"SUM(I$2:I84)","v":1.000000000000002},"",{"$f":"SUM(K85:K$502)","v":0},1.000000000000002]
[{"$nulls":6},83,"","",{"$f":"SUM(I$2:I85)","v":1.000000000000002},"",{"$f":"SUM(K86:K$502)","v":0},1.000000000000002]
[{"$nulls":6},84,"","",{"$f":"SUM(I$2:I86)","v":1.000000000000002},"",{"$f":"SUM(K87:K$502)","v":0},1.000000000000002]
[{"$nulls":6},85,"","",{"$f":"SUM(I$2:I87)","v":1.000000000000002},"",{"$f":"SUM(K88:K$502)","v":0},1.000000000000002]
[{"$nulls":6},86,"","",{"$f":"SUM(I$2:I88)","v":1.000000000000002},"",{"$f":"SUM(K89:K$502)","v":0},1.000000000000002]
[{"$nulls":6},87,"","",{"$f":"SUM(I$2:I89)","v":1.000000000000002},"",{"$f":"SUM(K90:K$502)","v":0},1.000000000000002]
[{"$nulls":6},88,"","",{"$f":"SUM(I$2:I90)","v":1.000000000000002},"",{"$f":"SUM(K91:K$502)","v":0},1.000000000000002]
[{"$nulls":6},89,"","",{"$f":"SUM(I$2:I91)","v":1.000000000000002},"",{"$f":"SUM(K92:K$502)","v":0},1.000000000000002]
[{"$nulls":6},90,"","",{"$f":"SUM(I$2:I92)","v":1.000000000000002},"",{"$f":"SUM(K93:K$502)","v":0},1.000000000000002]
[{"$nulls":6},91,"","",{"$f":"SUM(I$2:I93)","v":1.000000000000002},"",{"$f":"SUM(K94:K$502)","v":0},1.000000000000002]
[{"$nulls":6},92,"","",{"$f":"SUM(I$2:I94)","v":1.000000000000002},"",{"$f":"SUM(K95:K$502)","v":0},1.000000000000002]
[{"$nulls":6},93,"","",{"$f":"SUM(I$2:I95)","v":1.000000000000002},"",{"$f":"SUM(K96:K$502)","v":0},1.000000000000002]
[{"$nulls":6},94,"","",{"$f":"SUM(I$2:I96)","v":1.000000000000002},"",{"$f":"SUM(K97:K$502)","v":0},1.000000000000002]
[{"$nulls":6},95,"","",{"$f":"SUM(I$2:I97)","v":1.000000000000002},"",{"$f":"SUM(K98:K$502)","v":0},1.000000000000002]
[{"$nulls":6},96,"","",{"$f":"SUM(I$2:I98)","v":1.000000000000002},"",{"$f":"SUM(K99:K$502)","v":0},1.000000000000002]
[{"$nulls":6},97,"","",{"$f":"SUM(I$2:I99)","v":1.000000000000002},"",{"$f":"SUM(K100:K$502)","v":0},1.000000000000002]
[{"$nulls":6},98,"","",{"$f":"SUM(I$2:I100)","v":1.000000000000002},"",{"$f":"SUM(K101:K$502)","v":0},1.000000000000002]
[{"$nulls":6},99,"","",{"$f":"SUM(I$2:I101)","v":1.000000000000002},"",{"$f":"SUM(K102:K$502)","v":0},1.000000000000002]
[{"$nulls":6},100,"","",{"$f":"SUM(I$2:I102)","v":1.000000000000002},"",{"$f":"SUM(K103:K$502)","v":0},1.000000000000002]
[{"$nulls":6},101,"","",{"$f":"SUM(I$2:I103)","v":1.000000000000002},"",{"$f":"SUM(K104:K$502)","v":0},1.000000000000002]
[{"$nulls":6},102,"","",{"$f":"SUM(I$2:I104)","v":1.000000000000002},"",{"$f":"SUM(K105:K$502)","v":0},1.000000000000002]
[{"$nulls":6},103,"","",{"$f":"SUM(I$2:I105)","v":1.000000000000002},"",{"$f":"SUM(K106:K$502)","v":0},1.000000000000002]
[{"$nulls":6},104,"","",{"$f":"SUM(I$2:I106)","v":1.000000000000002},"",{"$f":"SUM(K107:K$502)","v":0},1.000000000000002]
[{"$nulls":6},105,"","",{"$f":"SUM(I$2:I107)","v":1.000000000000002},"",{"$f":"SUM(K108:K$502)","v":0},1.000000000000002]
[{"$nulls":6},106,"","",{"$f":"SUM(I$2:I108)","v":1.000000000000002},"",{"$f":"SUM(K109:K$502)","v":0},1.000000000000002]
[{"$nulls":6},107,"","",{"$f":"SUM(I$2:I109)","v":1.000000000000002},"",{"$f":"SUM(K110:K$502)","v":0},1.000000000000002]
[{"$nulls":6},108,"","",{"$f":"SUM(I$2:I110)","v":1.000000000000002},"",{"$f":"SUM(K111:K$502)","v":0},1.000000000000002]
[{"$nulls":6},109,"","",{"$f":"SUM(I$2:I111)","v":1.000000000000002},"",{"$f":"SUM(K112:K$502)","v":0},1.000000000000002]
[{"$nulls":6},110,"","",{"$f":"SUM(I$2:I112)","v":1.000000000000002},"",{"$f":"SUM(K113:K$502)","v":0},1.000000000000002]
[{"$nulls":6},111,"","",{"$f":"SUM(I$2:I113)","v":1.000000000000002},"",{"$f":"SUM(K114:K$502)","v":0},1.000000000000002]
[{"$nulls":6},112,"","",{"$f":"SUM(I$2:I114)","v":1.000000000000002},"",{"$f":"SUM(K115:K$502)","v":0},1.000000000000002]
[{"$nulls":6},113,"","",{"$f":"SUM(I$2:I115)","v":1.000000000000002},"",{"$f":"SUM(K116:K$502)","v":0},1.000000000000002]
[{"$nulls":6},114,"","",{"$f":"SUM(I$2:I116)","v":1.000000000000002},"",{"$f":"SUM(K117:K$502)","v":0},1.000000000000002]
[{"$nulls":6},115,"","",{"$f":"SUM(I$2:I117)","v":1.000000000000002},"",{"$f":"SUM(K118:K$502)","v":0},1.000000000000002]
[{"$nulls":6},116,"","",{"$f":"SUM(I$2:I118)","v":1.000000000000002},"",{"$f":"SUM(K119:K$502)","v":0},1.000000000000002]
[{"$nulls":6},117,"","",{"$f":"SUM(I$2:I119)","v":1.000000000000002},"",{"$f":"SUM(K120:K$502)","v":0},1.000000000000002]
[{"$nulls":6},118,"","",{"$f":"SUM(I$2:I120)","v":1.000000000000002},"",{"$f":"SUM(K121:K$502)","v":0},1.000000000000002]
[{"$nulls":6},119,"","",{"$f":"SUM(I$2:I121)","v":1.000000000000002},"",{"$f":"SUM(K122:K$502)","v":0},1.000000000000002]
[{"$nulls":6},120,"","",{"$f":"SUM(I$2:I122)","v":1.000000000000002},"",{"$f":"SUM(K123:K$502)","v":0},1.000000000000002]
[{"$nulls":6},121,"","",{"$f":"SUM(I$2:I123)","v":1.000000000000002},"",{"$f":"SUM(K124:K$502)","v":0},1.000000000000002]
[{"$nulls":6},122,"","",{"$f":"SUM(I$2:I124)","v":1.000000000000002},"",{"$f":"SUM(K125:K$502)","v":0},1.000000000000002]
[{"$nulls":6},123,"","",{"$f":"SUM(I$2:I125)","v":1.000000000000002},"",{"$f":"SUM(K126:K$502)","v":0},1.000000000000002]
[{"$nulls":6},124,"","",{"$f":"SUM(I$2:I126)","v":1.000000000000002},"",{"$f":"SUM(K127:K$502)","v":0},1.000000000000002]
[{"$nulls":6},125,"","",{"$f":"SUM(I$2:I127)","v":1.000000000000002},"",{"$f":"SUM(K128:K$502)","v":0},1.000000000000002]
[{"$nulls":6},126,"","",{"$f":"SUM(I$2:I128)","v":1.000000000000002},"",{"$f":"SUM(K129:K$502)","v":0},1.000000000000002]
[{"$nulls":6},127,"","",{"$f":"SUM(I$2:I129)","v":1.000000000000002},"",{"$f":"SUM(K130:K$502)","v":0},1.000000000000002]
[{"$nulls":6},128,"","",{"$f":"SUM(I$2:I130)","v":1.000000000000002},{"$f":"IF(ISERROR(H130*(C$3)^G130*(1-C$3)^(A$3-G130))=TRUE,\"\",H130*(C$3)^G130*(1-C$3)^(A$3-G130))","v":""},{"$f":"SUM(K131:K$502)","v":0},1.000000000000002]
[{"$nulls":6},129,{"$f":"IF(ISERROR(COMBIN(A$3,A$3-ROW()+2)),\"\",COMBIN(A$3,A$3-ROW()+2))","v":""},{"$f":"IF(ISERROR(H131*B$3^G131*(1-B$3)^(A$3-G131))=TRUE,\"\",H131*B$3^G131*(1-B$3)^(A$3-G131))","v":""},{"$f":"SUM(I$2:I131)","v":1.000000000000002},"",{"$f":"SUM(K132:K$502)","v":0},{"$f":"L131+J131","v":1.000000000000002}]
[{"$nulls":6},130,"","",{"$f":"SUM(I$2:I132)","v":1.000000000000002},"",{"$f":"SUM(K133:K$502)","v":0},1.000000000000002]
[{"$nulls":6},131,"","",{"$f":"SUM(I$2:I133)","v":1.000000000000002},"",{"$f":"SUM(K134:K$502)","v":0},1.000000000000002]
[{"$nulls":6},132,"","",{"$f":"SUM(I$2:I134)","v":1.000000000000002},"",{"$f":"SUM(K135:K$502)","v":0},1.000000000000002]
[{"$nulls":6},133,"","",{"$f":"SUM(I$2:I135)","v":1.000000000000002},"",{"$f":"SUM(K136:K$502)","v":0},1.000000000000002]
[{"$nulls":6},134,"","",{"$f":"SUM(I$2:I136)","v":1.000000000000002},"",{"$f":"SUM(K137:K$502)","v":0},1.000000000000002]
[{"$nulls":6},135,"","",{"$f":"SUM(I$2:I137)","v":1.000000000000002},"",{"$f":"SUM(K138:K$502)","v":0},1.000000000000002]
[{"$nulls":6},136,"","",{"$f":"SUM(I$2:I138)","v":1.000000000000002},"",{"$f":"SUM(K139:K$502)","v":0},1.000000000000002]
[{"$nulls":6},137,"","",{"$f":"SUM(I$2:I139)","v":1.000000000000002},"",{"$f":"SUM(K140:K$502)","v":0},1.000000000000002]
[{"$nulls":6},138,"","",{"$f":"SUM(I$2:I140)","v":1.000000000000002},"",{"$f":"SUM(K141:K$502)","v":0},1.000000000000002]
[{"$nulls":6},139,"","",{"$f":"SUM(I$2:I141)","v":1.000000000000002},"",{"$f":"SUM(K142:K$502)","v":0},1.000000000000002]
[{"$nulls":6},140,"","",{"$f":"SUM(I$2:I142)","v":1.000000000000002},"",{"$f":"SUM(K143:K$502)","v":0},1.000000000000002]
[{"$nulls":6},141,"","",{"$f":"SUM(I$2:I143)","v":1.000000000000002},"",{"$f":"SUM(K144:K$502)","v":0},1.000000000000002]
[{"$nulls":6},142,"","",{"$f":"SUM(I$2:I144)","v":1.000000000000002},"",{"$f":"SUM(K145:K$502)","v":0},1.000000000000002]
[{"$nulls":6},143,"","",{"$f":"SUM(I$2:I145)","v":1.000000000000002},"",{"$f":"SUM(K146:K$502)","v":0},1.000000000000002]
[{"$nulls":6},144,"","",{"$f":"SUM(I$2:I146)","v":1.000000000000002},"",{"$f":"SUM(K147:K$502)","v":0},1.000000000000002]
[{"$nulls":6},145,"","",{"$f":"SUM(I$2:I147)","v":1.000000000000002},"",{"$f":"SUM(K148:K$502)","v":0},1.000000000000002]
[{"$nulls":6},146,"","",{"$f":"SUM(I$2:I148)","v":1.000000000000002},"",{"$f":"SUM(K149:K$502)","v":0},1.000000000000002]
[{"$nulls":6},147,"","",{"$f":"SUM(I$2:I149)","v":1.000000000000002},"",{"$f":"SUM(K150:K$502)","v":0},1.000000000000002]
[{"$nulls":6},148,"","",{"$f":"SUM(I$2:I150)","v":1.000000000000002},"",{"$f":"SUM(K151:K$502)","v":0},1.000000000000002]
[{"$nulls":6},149,"","",{"$f":"SUM(I$2:I151)","v":1.000000000000002},"",{"$f":"SUM(K152:K$502)","v":0},1.000000000000002]
[{"$nulls":6},150,"","",{"$f":"SUM(I$2:I152)","v":1.000000000000002},"",{"$f":"SUM(K153:K$502)","v":0},1.000000000000002]
[{"$nulls":6},151,"","",{"$f":"SUM(I$2:I153)","v":1.000000000000002},"",{"$f":"SUM(K154:K$502)","v":0},1.000000000000002]
[{"$nulls":6},152,"","",{"$f":"SUM(I$2:I154)","v":1.000000000000002},"",{"$f":"SUM(K155:K$502)","v":0},1.000000000000002]
[{"$nulls":6},153,"","",{"$f":"SUM(I$2:I155)","v":1.000000000000002},"",{"$f":"SUM(K156:K$502)","v":0},1.000000000000002]
[{"$nulls":6},154,"","",{"$f":"SUM(I$2:I156)","v":1.000000000000002},"",{"$f":"SUM(K157:K$502)","v":0},1.000000000000002]
[{"$nulls":6},155,"","",{"$f":"SUM(I$2:I157)","v":1.000000000000002},"",{"$f":"SUM(K158:K$502)","v":0},1.000000000000002]
[{"$nulls":6},156,"","",{"$f":"SUM(I$2:I158)","v":1.000000000000002},"",{"$f":"SUM(K159:K$502)","v":0},1.000000000000002]
[{"$nulls":6},157,"","",{"$f":"SUM(I$2:I159)","v":1.000000000000002},"",{"$f":"SUM(K160:K$502)","v":0},1.000000000000002]
[{"$nulls":6},158,"","",{"$f":"SUM(I$2:I160)","v":1.000000000000002},"",{"$f":"SUM(K161:K$502)","v":0},1.000000000000002]
[{"$nulls":6},159,"","",{"$f":"SUM(I$2:I161)","v":1.000000000000002},"",{"$f":"SUM(K162:K$502)","v":0},1.000000000000002]
[{"$nulls":6},160,"","",{"$f":"SUM(I$2:I162)","v":1.000000000000002},"",{"$f":"SUM(K163:K$502)","v":0},1.000000000000002]
[{"$nulls":6},161,"","",{"$f":"SUM(I$2:I163)","v":1.000000000000002},"",{"$f":"SUM(K164:K$502)","v":0},1.000000000000002]
[{"$nulls":6},162,"","",{"$f":"SUM(I$2:I164)","v":1.000000000000002},"",{"$f":"SUM(K165:K$502)","v":0},1.000000000000002]
[{"$nulls":6},163,"","",{"$f":"SUM(I$2:I165)","v":1.000000000000002},"",{"$f":"SUM(K166:K$502)","v":0},1.000000000000002]
[{"$nulls":6},164,"","",{"$f":"SUM(I$2:I166)","v":1.000000000000002},"",{"$f":"SUM(K167:K$502)","v":0},1.000000000000002]
[{"$nulls":6},165,"","",{"$f":"SUM(I$2:I167)","v":1.000000000000002},"",{"$f":"SUM(K168:K$502)","v":0},1.000000000000002]
[{"$nulls":6},166,"","",{"$f":"SUM(I$2:I168)","v":1.000000000000002},"",{"$f":"SUM(K169:K$502)","v":0},1.000000000000002]
[{"$nulls":6},167,"","",{"$f":"SUM(I$2:I169)","v":1.000000000000002},"",{"$f":"SUM(K170:K$502)","v":0},1.000000000000002]
[{"$nulls":6},168,"","",{"$f":"SUM(I$2:I170)","v":1.000000000000002},"",{"$f":"SUM(K171:K$502)","v":0},1.000000000000002]
[{"$nulls":6},169,"","",{"$f":"SUM(I$2:I171)","v":1.000000000000002},"",{"$f":"SUM(K172:K$502)","v":0},1.000000000000002]
[{"$nulls":6},170,"","",{"$f":"SUM(I$2:I172)","v":1.000000000000002},"",{"$f":"SUM(K173:K$502)","v":0},1.000000000000002]
[{"$nulls":6},171,"","",{"$f":"SUM(I$2:I173)","v":1.000000000000002},"",{"$f":"SUM(K174:K$502)","v":0},1.000000000000002]
[{"$nulls":6},172,"","",{"$f":"SUM(I$2:I174)","v":1.000000000000002},"",{"$f":"SUM(K175:K$502)","v":0},1.000000000000002]
[{"$nulls":6},173,"","",{"$f":"SUM(I$2:I175)","v":1.000000000000002},"",{"$f":"SUM(K176:K$502)","v":0},1.000000000000002]
[{"$nulls":6},174,"","",{"$f":"SUM(I$2:I176)","v":1.000000000000002},"",{"$f":"SUM(K177:K$502)","v":0},1.000000000000002]
[{"$nulls":6},175,"","",{"$f":"SUM(I$2:I177)","v":1.000000000000002},"",{"$f":"SUM(K178:K$502)","v":0},1.000000000000002]
[{"$nulls":6},176,"","",{"$f":"SUM(I$2:I178)","v":1.000000000000002},"",{"$f":"SUM(K179:K$502)","v":0},1.000000000000002]
[{"$nulls":6},177,"","",{"$f":"SUM(I$2:I179)","v":1.000000000000002},"",{"$f":"SUM(K180:K$502)","v":0},1.000000000000002]
[{"$nulls":6},178,"","",{"$f":"SUM(I$2:I180)","v":1.000000000000002},"",{"$f":"SUM(K181:K$502)","v":0},1.000000000000002]
[{"$nulls":6},179,"","",{"$f":"SUM(I$2:I181)","v":1.000000000000002},"",{"$f":"SUM(K182:K$502)","v":0},1.000000000000002]
[{"$nulls":6},180,"","",{"$f":"SUM(I$2:I182)","v":1.000000000000002},"",{"$f":"SUM(K183:K$502)","v":0},1.000000000000002]
[{"$nulls":6},181,"","",{"$f":"SUM(I$2:I183)","v":1.000000000000002},"",{"$f":"SUM(K184:K$502)","v":0},1.000000000000002]
[{"$nulls":6},182,"","",{"$f":"SUM(I$2:I184)","v":1.000000000000002},"",{"$f":"SUM(K185:K$502)","v":0},1.000000000000002]
[{"$nulls":6},183,"","",{"$f":"SUM(I$2:I185)","v":1.000000000000002},"",{"$f":"SUM(K186:K$502)","v":0},1.000000000000002]
[{"$nulls":6},184,"","",{"$f":"SUM(I$2:I186)","v":1.000000000000002},"",{"$f":"SUM(K187:K$502)","v":0},1.000000000000002]
[{"$nulls":6},185,"","",{"$f":"SUM(I$2:I187)","v":1.000000000000002},"",{"$f":"SUM(K188:K$502)","v":0},1.000000000000002]
[{"$nulls":6},186,"","",{"$f":"SUM(I$2:I188)","v":1.000000000000002},"",{"$f":"SUM(K189:K$502)","v":0},1.000000000000002]
[{"$nulls":6},187,"","",{"$f":"SUM(I$2:I189)","v":1.000000000000002},"",{"$f":"SUM(K190:K$502)","v":0},1.000000000000002]
[{"$nulls":6},188,"","",{"$f":"SUM(I$2:I190)","v":1.000000000000002},"",{"$f":"SUM(K191:K$502)","v":0},1.000000000000002]
[{"$nulls":6},189,"","",{"$f":"SUM(I$2:I191)","v":1.000000000000002},"",{"$f":"SUM(K192:K$502)","v":0},1.000000000000002]
[{"$nulls":6},190,"","",{"$f":"SUM(I$2:I192)","v":1.000000000000002},"",{"$f":"SUM(K193:K$502)","v":0},1.000000000000002]
[{"$nulls":6},191,"","",{"$f":"SUM(I$2:I193)","v":1.000000000000002},"",{"$f":"SUM(K194:K$502)","v":0},1.000000000000002]
[{"$nulls":6},192,"","",{"$f":"SUM(I$2:I194)","v":1.000000000000002},{"$f":"IF(ISERROR(H194*(C$3)^G194*(1-C$3)^(A$3-G194))=TRUE,\"\",H194*(C$3)^G194*(1-C$3)^(A$3-G194))","v":""},{"$f":"SUM(K195:K$502)","v":0},1.000000000000002]
[{"$nulls":6},193,{"$f":"IF(ISERROR(COMBIN(A$3,A$3-ROW()+2)),\"\",COMBIN(A$3,A$3-ROW()+2))","v":""},{"$f":"IF(ISERROR(H195*B$3^G195*(1-B$3)^(A$3-G195))=TRUE,\"\",H195*B$3^G195*(1-B$3)^(A$3-G195))","v":""},{"$f":"SUM(I$2:I195)","v":1.000000000000002},"",{"$f":"SUM(K196:K$502)","v":0},{"$f":"L195+J195","v":1.000000000000002}]
[{"$nulls":6},194,"","",{"$f":"SUM(I$2:I196)","v":1.000000000000002},"",{"$f":"SUM(K197:K$502)","v":0},1.000000000000002]
[{"$nulls":6},195,"","",{"$f":"SUM(I$2:I197)","v":1.000000000000002},"",{"$f":"SUM(K198:K$502)","v":0},1.000000000000002]
[{"$nulls":6},196,"","",{"$f":"SUM(I$2:I198)","v":1.000000000000002},"",{"$f":"SUM(K199:K$502)","v":0},1.000000000000002]
[{"$nulls":6},197,"","",{"$f":"SUM(I$2:I199)","v":1.000000000000002},"",{"$f":"SUM(K200:K$502)","v":0},1.000000000000002]
[{"$nulls":6},198,"","",{"$f":"SUM(I$2:I200)","v":1.000000000000002},"",{"$f":"SUM(K201:K$502)","v":0},1.000000000000002]
[{"$nulls":6},199,"","",{"$f":"SUM(I$2:I201)","v":1.000000000000002},"",{"$f":"SUM(K202:K$502)","v":0},1.000000000000002]
[{"$nulls":6},200,"","",{"$f":"SUM(I$2:I202)","v":1.000000000000002},"",{"$f":"SUM(K203:K$502)","v":0},1.000000000000002]
[{"$nulls":6},201,"","",{"$f":"SUM(I$2:I203)","v":1.000000000000002},"",{"$f":"SUM(K204:K$502)","v":0},1.000000000000002]
[{"$nulls":6},202,"","",{"$f":"SUM(I$2:I204)","v":1.000000000000002},"",{"$f":"SUM(K205:K$502)","v":0},1.000000000000002]
[{"$nulls":6},203,"","",{"$f":"SUM(I$2:I205)","v":1.000000000000002},"",{"$f":"SUM(K206:K$502)","v":0},1.000000000000002]
[{"$nulls":6},204,"","",{"$f":"SUM(I$2:I206)","v":1.000000000000002},"",{"$f":"SUM(K207:K$502)","v":0},1.000000000000002]
[{"$nulls":6},205,"","",{"$f":"SUM(I$2:I207)","v":1.000000000000002},"",{"$f":"SUM(K208:K$502)","v":0},1.000000000000002]
[{"$nulls":6},206,"","",{"$f":"SUM(I$2:I208)","v":1.000000000000002},"",{"$f":"SUM(K209:K$502)","v":0},1.000000000000002]
[{"$nulls":6},207,"","",{"$f":"SUM(I$2:I209)","v":1.000000000000002},"",{"$f":"SUM(K210:K$502)","v":0},1.000000000000002]
[{"$nulls":6},208,"","",{"$f":"SUM(I$2:I210)","v":1.000000000000002},"",{"$f":"SUM(K211:K$502)","v":0},1.000000000000002]
[{"$nulls":6},209,"","",{"$f":"SUM(I$2:I211)","v":1.000000000000002},"",{"$f":"SUM(K212:K$502)","v":0},1.000000000000002]
[{"$nulls":6},210,"","",{"$f":"SUM(I$2:I212)","v":1.000000000000002},"",{"$f":"SUM(K213:K$502)","v":0},1.000000000000002]
[{"$nulls":6},211,"","",{"$f":"SUM(I$2:I213)","v":1.000000000000002},"",{"$f":"SUM(K214:K$502)","v":0},1.000000000000002]
[{"$nulls":6},212,"","",{"$f":"SUM(I$2:I214)","v":1.000000000000002},"",{"$f":"SUM(K215:K$502)","v":0},1.000000000000002]
[{"$nulls":6},213,"","",{"$f":"SUM(I$2:I215)","v":1.000000000000002},"",{"$f":"SUM(K216:K$502)","v":0},1.000000000000002]
[{"$nulls":6},214,"","",{"$f":"SUM(I$2:I216)","v":1.000000000000002},"",{"$f":"SUM(K217:K$502)","v":0},1.000000000000002]
[{"$nulls":6},215,"","",{"$f":"SUM(I$2:I217)","v":1.000000000000002},"",{"$f":"SUM(K218:K$502)","v":0},1.000000000000002]
[{"$nulls":6},216,"","",{"$f":"SUM(I$2:I218)","v":1.000000000000002},"",{"$f":"SUM(K219:K$502)","v":0},1.000000000000002]
[{"$nulls":6},217,"","",{"$f":"SUM(I$2:I219)","v":1.000000000000002},"",{"$f":"SUM(K220:K$502)","v":0},1.000000000000002]
[{"$nulls":6},218,"","",{"$f":"SUM(I$2:I220)","v":1.000000000000002},"",{"$f":"SUM(K221:K$502)","v":0},1.000000000000002]
[{"$nulls":6},219,"","",{"$f":"SUM(I$2:I221)","v":1.000000000000002},"",{"$f":"SUM(K222:K$502)","v":0},1.000000000000002]
[{"$nulls":6},220,"","",{"$f":"SUM(I$2:I222)","v":1.000000000000002},"",{"$f":"SUM(K223:K$502)","v":0},1.000000000000002]
[{"$nulls":6},221,"","",{"$f":"SUM(I$2:I223)","v":1.000000000000002},"",{"$f":"SUM(K224:K$502)","v":0},1.000000000000002]
[{"$nulls":6},222,"","",{"$f":"SUM(I$2:I224)","v":1.000000000000002},"",{"$f":"SUM(K225:K$502)","v":0},1.000000000000002]
[{"$nulls":6},223,"","",{"$f":"SUM(I$2:I225)","v":1.000000000000002},"",{"$f":"SUM(K226:K$502)","v":0},1.000000000000002]
[{"$nulls":6},224,"","",{"$f":"SUM(I$2:I226)","v":1.000000000000002},"",{"$f":"SUM(K227:K$502)","v":0},1.000000000000002]
[{"$nulls":6},225,"","",{"$f":"SUM(I$2:I227)","v":1.000000000000002},"",{"$f":"SUM(K228:K$502)","v":0},1.000000000000002]
[{"$nulls":6},226,"","",{"$f":"SUM(I$2:I228)","v":1.000000000000002},"",{"$f":"SUM(K229:K$502)","v":0},1.000000000000002]
[{"$nulls":6},227,"","",{"$f":"SUM(I$2:I229)","v":1.000000000000002},"",{"$f":"SUM(K230:K$502)","v":0},1.000000000000002]
[{"$nulls":6},228,"","",{"$f":"SUM(I$2:I230)","v":1.000000000000002},"",{"$f":"SUM(K231:K$502)","v":0},1.000000000000002]
[{"$nulls":6},229,"","",{"$f":"SUM(I$2:I231)","v":1.000000000000002},"",{"$f":"SUM(K232:K$502)","v":0},1.000000000000002]
[{"$nulls":6},230,"","",{"$f":"SUM(I$2:I232)","v":1.000000000000002},"",{"$f":"SUM(K233:K$502)","v":0},1.000000000000002]
[{"$nulls":6},231,"","",{"$f":"SUM(I$2:I233)","v":1.000000000000002},"",{"$f":"SUM(K234:K$502)","v":0},1.000000000000002]
[{"$nulls":6},232,"","",{"$f":"SUM(I$2:I234)","v":1.000000000000002},"",{"$f":"SUM(K235:K$502)","v":0},1.000000000000002]
[{"$nulls":6},233,"","",{"$f":"SUM(I$2:I235)","v":1.000000000000002},"",{"$f":"SUM(K236:K$502)","v":0},1.000000000000002]
[{"$nulls":6},234,"","",{"$f":"SUM(I$2:I236)","v":1.000000000000002},"",{"$f":"SUM(K237:K$502)","v":0},1.000000000000002]
[{"$nulls":6},235,"","",{"$f":"SUM(I$2:I237)","v":1.000000000000002},"",{"$f":"SUM(K238:K$502)","v":0},1.000000000000002]
[{"$nulls":6},236,"","",{"$f":"SUM(I$2:I238)","v":1.000000000000002},"",{"$f":"SUM(K239:K$502)","v":0},1.000000000000002]
[{"$nulls":6},237,"","",{"$f":"SUM(I$2:I239)","v":1.000000000000002},"",{"$f":"SUM(K240:K$502)","v":0},1.000000000000002]
[{"$nulls":6},238,"","",{"$f":"SUM(I$2:I240)","v":1.000000000000002},"",{"$f":"SUM(K241:K$502)","v":0},1.000000000000002]
[{"$nulls":6},239,"","",{"$f":"SUM(I$2:I241)","v":1.000000000000002},"",{"$f":"SUM(K242:K$502)","v":0},1.000000000000002]
[{"$nulls":6},240,"","",{"$f":"SUM(I$2:I242)","v":1.000000000000002},"",{"$f":"SUM(K243:K$502)","v":0},1.000000000000002]
[{"$nulls":6},241,"","",{"$f":"SUM(I$2:I243)","v":1.000000000000002},"",{"$f":"SUM(K244:K$502)","v":0},1.000000000000002]
[{"$nulls":6},242,"","",{"$f":"SUM(I$2:I244)","v":1.000000000000002},"",{"$f":"SUM(K245:K$502)","v":0},1.000000000000002]
[{"$nulls":6},243,"","",{"$f":"SUM(I$2:I245)","v":1.000000000000002},"",{"$f":"SUM(K246:K$502)","v":0},1.000000000000002]
[{"$nulls":6},244,"","",{"$f":"SUM(I$2:I246)","v":1.000000000000002},"",{"$f":"SUM(K247:K$502)","v":0},1.000000000000002]
[{"$nulls":6},245,"","",{"$f":"SUM(I$2:I247)","v":1.000000000000002},"",{"$f":"SUM(K248:K$502)","v":0},1.000000000000002]
[{"$nulls":6},246,"","",{"$f":"SUM(I$2:I248)","v":1.000000000000002},"",{"$f":"SUM(K249:K$502)","v":0},1.000000000000002]
[{"$nulls":6},247,"","",{"$f":"SUM(I$2:I249)","v":1.000000000000002},"",{"$f":"SUM(K250:K$502)","v":0},1.000000000000002]
[{"$nulls":6},248,"","",{"$f":"SUM(I$2:I250)","v":1.000000000000002},"",{"$f":"SUM(K251:K$502)","v":0},1.000000000000002]
[{"$nulls":6},249,"","",{"$f":"SUM(I$2:I251)","v":1.000000000000002},"",{"$f":"SUM(K252:K$502)","v":0},1.000000000000002]
[{"$nulls":6},250,"","",{"$f":"SUM(I$2:I252)","v":1.000000000000002},"",{"$f":"SUM(K253:K$502)","v":0},1.000000000000002]
[{"$nulls":6},251,"","",{"$f":"SUM(I$2:I253)","v":1.000000000000002},"",{"$f":"SUM(K254:K$502)","v":0},1.000000000000002]
[{"$nulls":6},252,"","",{"$f":"SUM(I$2:I254)","v":1.000000000000002},"",{"$f":"SUM(K255:K$502)","v":0},1.000000000000002]
[{"$nulls":6},253,"","",{"$f":"SUM(I$2:I255)","v":1.000000000000002},"",{"$f":"SUM(K256:K$502)","v":0},1.000000000000002]
[{"$nulls":6},254,"","",{"$f":"SUM(I$2:I256)","v":1.000000000000002},"",{"$f":"SUM(K257:K$502)","v":0},1.000000000000002]
[{"$nulls":6},255,"","",{"$f":"SUM(I$2:I257)","v":1.000000000000002},"",{"$f":"SUM(K258:K$502)","v":0},1.000000000000002]
[{"$nulls":6},256,"","",{"$f":"SUM(I$2:I258)","v":1.000000000000002},{"$f":"IF(ISERROR(H258*(C$3)^G258*(1-C$3)^(A$3-G258))=TRUE,\"\",H258*(C$3)^G258*(1-C$3)^(A$3-G258))","v":""},{"$f":"SUM(K259:K$502)","v":0},1.000000000000002]
[{"$nulls":6},257,{"$f":"IF(ISERROR(COMBIN(A$3,A$3-ROW()+2)),\"\",COMBIN(A$3,A$3-ROW()+2))","v":""},{"$f":"IF(ISERROR(H259*B$3^G259*(1-B$3)^(A$3-G259))=TRUE,\"\",H259*B$3^G259*(1-B$3)^(A$3-G259))","v":""},{"$f":"SUM(I$2:I259)","v":1.000000000000002},"",{"$f":"SUM(K260:K$502)","v":0},{"$f":"L259+J259","v":1.000000000000002}]
[{"$nulls":6},258,"","",{"$f":"SUM(I$2:I260)","v":1.000000000000002},"",{"$f":"SUM(K261:K$502)","v":0},1.000000000000002]
[{"$nulls":6},259,"","",{"$f":"SUM(I$2:I261)","v":1.000000000000002},"",{"$f":"SUM(K262:K$502)","v":0},1.000000000000002]
[{"$nulls":6},260,"","",{"$f":"SUM(I$2:I262)","v":1.000000000000002},"",{"$f":"SUM(K263:K$502)","v":0},1.000000000000002]
[{"$nulls":6},261,"","",{"$f":"SUM(I$2:I263)","v":1.000000000000002},"",{"$f":"SUM(K264:K$502)","v":0},1.000000000000002]
[{"$nulls":6},262,"","",{"$f":"SUM(I$2:I264)","v":1.000000000000002},"",{"$f":"SUM(K265:K$502)","v":0},1.000000000000002]
[{"$nulls":6},263,"","",{"$f":"SUM(I$2:I265)","v":1.000000000000002},"",{"$f":"SUM(K266:K$502)","v":0},1.000000000000002]
[{"$nulls":6},264,"","",{"$f":"SUM(I$2:I266)","v":1.000000000000002},"",{"$f":"SUM(K267:K$502)","v":0},1.000000000000002]
[{"$nulls":6},265,"","",{"$f":"SUM(I$2:I267)","v":1.000000000000002},"",{"$f":"SUM(K268:K$502)","v":0},1.000000000000002]
[{"$nulls":6},266,"","",{"$f":"SUM(I$2:I268)","v":1.000000000000002},"",{"$f":"SUM(K269:K$502)","v":0},1.000000000000002]
[{"$nulls":6},267,"","",{"$f":"SUM(I$2:I269)","v":1.000000000000002},"",{"$f":"SUM(K270:K$502)","v":0},1.000000000000002]
[{"$nulls":6},268,"","",{"$f":"SUM(I$2:I270)","v":1.000000000000002},"",{"$f":"SUM(K271:K$502)","v":0},1.000000000000002]
[{"$nulls":6},269,"","",{"$f":"SUM(I$2:I271)","v":1.000000000000002},"",{"$f":"SUM(K272:K$502)","v":0},1.000000000000002]
[{"$nulls":6},270,"","",{"$f":"SUM(I$2:I272)","v":1.000000000000002},"",{"$f":"SUM(K273:K$502)","v":0},1.000000000000002]
[{"$nulls":6},271,"","",{"$f":"SUM(I$2:I273)","v":1.000000000000002},"",{"$f":"SUM(K274:K$502)","v":0},1.000000000000002]
[{"$nulls":6},272,"","",{"$f":"SUM(I$2:I274)","v":1.000000000000002},"",{"$f":"SUM(K275:K$502)","v":0},1.000000000000002]
[{"$nulls":6},273,"","",{"$f":"SUM(I$2:I275)","v":1.000000000000002},"",{"$f":"SUM(K276:K$502)","v":0},1.000000000000002]
[{"$nulls":6},274,"","",{"$f":"SUM(I$2:I276)","v":1.000000000000002},"",{"$f":"SUM(K277:K$502)","v":0},1.000000000000002]
[{"$nulls":6},275,"","",{"$f":"SUM(I$2:I277)","v":1.000000000000002},"",{"$f":"SUM(K278:K$502)","v":0},1.000000000000002]
[{"$nulls":6},276,"","",{"$f":"SUM(I$2:I278)","v":1.000000000000002},"",{"$f":"SUM(K279:K$502)","v":0},1.000000000000002]
[{"$nulls":6},277,"","",{"$f":"SUM(I$2:I279)","v":1.000000000000002},"",{"$f":"SUM(K280:K$502)","v":0},1.000000000000002]
[{"$nulls":6},278,"","",{"$f":"SUM(I$2:I280)","v":1.000000000000002},"",{"$f":"SUM(K281:K$502)","v":0},1.000000000000002]
[{"$nulls":6},279,"","",{"$f":"SUM(I$2:I281)","v":1.000000000000002},"",{"$f":"SUM(K282:K$502)","v":0},1.000000000000002]
[{"$nulls":6},280,"","",{"$f":"SUM(I$2:I282)","v":1.000000000000002},"",{"$f":"SUM(K283:K$502)","v":0},1.000000000000002]
[{"$nulls":6},281,"","",{"$f":"SUM(I$2:I283)","v":1.000000000000002},"",{"$f":"SUM(K284:K$502)","v":0},1.000000000000002]
[{"$nulls":6},282,"","",{"$f":"SUM(I$2:I284)","v":1.000000000000002},"",{"$f":"SUM(K285:K$502)","v":0},1.000000000000002]
[{"$nulls":6},283,"","",{"$f":"SUM(I$2:I285)","v":1.000000000000002},"",{"$f":"SUM(K286:K$502)","v":0},1.000000000000002]
[{"$nulls":6},284,"","",{"$f":"SUM(I$2:I286)","v":1.000000000000002},"",{"$f":"SUM(K287:K$502)","v":0},1.000000000000002]
[{"$nulls":6},285,"","",{"$f":"SUM(I$2:I287)","v":1.000000000000002},"",{"$f":"SUM(K288:K$502)","v":0},1.000000000000002]
[{"$nulls":6},286,"","",{"$f":"SUM(I$2:I288)","v":1.000000000000002},"",{"$f":"SUM(K289:K$502)","v":0},1.000000000000002]
[{"$nulls":6},287,"","",{"$f":"SUM(I$2:I289)","v":1.000000000000002},"",{"$f":"SUM(K290:K$502)","v":0},1.000000000000002]
[{"$nulls":6},288,"","",{"$f":"SUM(I$2:I290)","v":1.000000000000002},"",{"$f":"SUM(K291:K$502)","v":0},1.000000000000002]
[{"$nulls":6},289,"","",{"$f":"SUM(I$2:I291)","v":1.000000000000002},"",{"$f":"SUM(K292:K$502)","v":0},1.000000000000002]
[{"$nulls":6},290,"","",{"$f":"SUM(I$2:I292)","v":1.000000000000002},"",{"$f":"SUM(K293:K$502)","v":0},1.000000000000002]
[{"$nulls":6},291,"","",{"$f":"SUM(I$2:I293)","v":1.000000000000002},"",{"$f":"SUM(K294:K$502)","v":0},1.000000000000002]
[{"$nulls":6},292,"","",{"$f":"SUM(I$2:I294)","v":1.000000000000002},"",{"$f":"SUM(K295:K$502)","v":0},1.000000000000002]
[{"$nulls":6},293,"","",{"$f":"SUM(I$2:I295)","v":1.000000000000002},"",{"$f":"SUM(K296:K$502)","v":0},1.000000000000002]
[{"$nulls":6},294,"","",{"$f":"SUM(I$2:I296)","v":1.000000000000002},"",{"$f":"SUM(K297:K$502)","v":0},1.000000000000002]
[{"$nulls":6},295,"","",{"$f":"SUM(I$2:I297)","v":1.000000000000002},"",{"$f":"SUM(K298:K$502)","v":0},1.000000000000002]
[{"$nulls":6},296,"","",{"$f":"SUM(I$2:I298)","v":1.000000000000002},"",{"$f":"SUM(K299:K$502)","v":0},1.000000000000002]
[{"$nulls":6},297,"","",{"$f":"SUM(I$2:I299)","v":1.000000000000002},"",{"$f":"SUM(K300:K$502)","v":0},1.000000000000002]
[{"$nulls":6},298,"","",{"$f":"SUM(I$2:I300)","v":1.000000000000002},"",{"$f":"SUM(K301:K$502)","v":0},1.000000000000002]
[{"$nulls":6},299,"","",{"$f":"SUM(I$2:I301)","v":1.000000000000002},"",{"$f":"SUM(K302:K$502)","v":0},1.000000000000002]
[{"$nulls":6},300,"","",{"$f":"SUM(I$2:I302)","v":1.000000000000002},"",{"$f":"SUM(K303:K$502)","v":0},1.000000000000002]
[{"$nulls":6},301,"","",{"$f":"SUM(I$2:I303)","v":1.000000000000002},"",{"$f":"SUM(K304:K$502)","v":0},1.000000000000002]
[{"$nulls":6},302,"","",{"$f":"SUM(I$2:I304)","v":1.000000000000002},"",{"$f":"SUM(K305:K$502)","v":0},1.000000000000002]
[{"$nulls":6},303,"","",{"$f":"SUM(I$2:I305)","v":1.000000000000002},"",{"$f":"SUM(K306:K$502)","v":0},1.000000000000002]
[{"$nulls":6},304,"","",{"$f":"SUM(I$2:I306)","v":1.000000000000002},"",{"$f":"SUM(K307:K$502)","v":0},1.000000000000002]
[{"$nulls":6},305,"","",{"$f":"SUM(I$2:I307)","v":1.000000000000002},"",{"$f":"SUM(K308:K$502)","v":0},1.000000000000002]
[{"$nulls":6},306,"","",{"$f":"SUM(I$2:I308)","v":1.000000000000002},"",{"$f":"SUM(K309:K$502)","v":0},1.000000000000002]
[{"$nulls":6},307,"","",{"$f":"SUM(I$2:I309)","v":1.000000000000002},"",{"$f":"SUM(K310:K$502)","v":0},1.000000000000002]
[{"$nulls":6},308,"","",{"$f":"SUM(I$2:I310)","v":1.000000000000002},"",{"$f":"SUM(K311:K$502)","v":0},1.000000000000002]
[{"$nulls":6},309,"","",{"$f":"SUM(I$2:I311)","v":1.000000000000002},"",{"$f":"SUM(K312:K$502)","v":0},1.000000000000002]
[{"$nulls":6},310,"","",{"$f":"SUM(I$2:I312)","v":1.000000000000002},"",{"$f":"SUM(K313:K$502)","v":0},1.000000000000002]
[{"$nulls":6},311,"","",{"$f":"SUM(I$2:I313)","v":1.000000000000002},"",{"$f":"SUM(K314:K$502)","v":0},1.000000000000002]
[{"$nulls":6},312,"","",{"$f":"SUM(I$2:I314)","v":1.000000000000002},"",{"$f":"SUM(K315:K$502)","v":0},1.000000000000002]
[{"$nulls":6},313,"","",{"$f":"SUM(I$2:I315)","v":1.000000000000002},"",{"$f":"SUM(K316:K$502)","v":0},1.000000000000002]
[{"$nulls":6},314,"","",{"$f":"SUM(I$2:I316)","v":1.000000000000002},"",{"$f":"SUM(K317:K$502)","v":0},1.000000000000002]
[{"$nulls":6},315,"","",{"$f":"SUM(I$2:I317)","v":1.000000000000002},"",{"$f":"SUM(K318:K$502)","v":0},1.000000000000002]
[{"$nulls":6},316,"","",{"$f":"SUM(I$2:I318)","v":1.000000000000002},"",{"$f":"SUM(K319:K$502)","v":0},1.000000000000002]
[{"$nulls":6},317,"","",{"$f":"SUM(I$2:I319)","v":1.000000000000002},"",{"$f":"SUM(K320:K$502)","v":0},1.000000000000002]
[{"$nulls":6},318,"","",{"$f":"SUM(I$2:I320)","v":1.000000000000002},"",{"$f":"SUM(K321:K$502)","v":0},1.000000000000002]
[{"$nulls":6},319,"","",{"$f":"SUM(I$2:I321)","v":1.000000000000002},"",{"$f":"SUM(K322:K$502)","v":0},1.000000000000002]
[{"$nulls":6},320,"","",{"$f":"SUM(I$2:I322)","v":1.000000000000002},{"$f":"IF(ISERROR(H322*(C$3)^G322*(1-C$3)^(A$3-G322))=TRUE,\"\",H322*(C$3)^G322*(1-C$3)^(A$3-G322))","v":""},{"$f":"SUM(K323:K$502)","v":0},1.000000000000002]
[{"$nulls":6},321,{"$f":"IF(ISERROR(COMBIN(A$3,A$3-ROW()+2)),\"\",COMBIN(A$3,A$3-ROW()+2))","v":""},{"$f":"IF(ISERROR(H323*B$3^G323*(1-B$3)^(A$3-G323))=TRUE,\"\",H323*B$3^G323*(1-B$3)^(A$3-G323))","v":""},{"$f":"SUM(I$2:I323)","v":1.000000000000002},"",{"$f":"SUM(K324:K$502)","v":0},{"$f":"L323+J323","v":1.000000000000002}]
[{"$nulls":6},322,"","",{"$f":"SUM(I$2:I324)","v":1.000000000000002},"",{"$f":"SUM(K325:K$502)","v":0},1.000000000000002]
[{"$nulls":6},323,"","",{"$f":"SUM(I$2:I325)","v":1.000000000000002},"",{"$f":"SUM(K326:K$502)","v":0},1.000000000000002]
[{"$nulls":6},324,"","",{"$f":"SUM(I$2:I326)","v":1.000000000000002},"",{"$f":"SUM(K327:K$502)","v":0},1.000000000000002]
[{"$nulls":6},325,"","",{"$f":"SUM(I$2:I327)","v":1.000000000000002},"",{"$f":"SUM(K328:K$502)","v":0},1.000000000000002]
[{"$nulls":6},326,"","",{"$f":"SUM(I$2:I328)","v":1.000000000000002},"",{"$f":"SUM(K329:K$502)","v":0},1.000000000000002]
[{"$nulls":6},327,"","",{"$f":"SUM(I$2:I329)","v":1.000000000000002},"",{"$f":"SUM(K330:K$502)","v":0},1.000000000000002]
[{"$nulls":6},328,"","",{"$f":"SUM(I$2:I330)","v":1.000000000000002},"",{"$f":"SUM(K331:K$502)","v":0},1.000000000000002]
[{"$nulls":6},329,"","",{"$f":"SUM(I$2:I331)","v":1.000000000000002},"",{"$f":"SUM(K332:K$502)","v":0},1.000000000000002]
[{"$nulls":6},330,"","",{"$f":"SUM(I$2:I332)","v":1.000000000000002},"",{"$f":"SUM(K333:K$502)","v":0},1.000000000000002]
[{"$nulls":6},331,"","",{"$f":"SUM(I$2:I333)","v":1.000000000000002},"",{"$f":"SUM(K334:K$502)","v":0},1.000000000000002]
[{"$nulls":6},332,"","",{"$f":"SUM(I$2:I334)","v":1.000000000000002},"",{"$f":"SUM(K335:K$502)","v":0},1.000000000000002]
[{"$nulls":6},333,"","",{"$f":"SUM(I$2:I335)","v":1.000000000000002},"",{"$f":"SUM(K336:K$502)","v":0},1.000000000000002]
[{"$nulls":6},334,"","",{"$f":"SUM(I$2:I336)","v":1.000000000000002},"",{"$f":"SUM(K337:K$502)","v":0},1.000000000000002]
[{"$nulls":6},335,"","",{"$f":"SUM(I$2:I337)","v":1.000000000000002},"",{"$f":"SUM(K338:K$502)","v":0},1.000000000000002]
[{"$nulls":6},336,"","",{"$f":"SUM(I$2:I338)","v":1.000000000000002},"",{"$f":"SUM(K339:K$502)","v":0},1.000000000000002]
[{"$nulls":6},337,"","",{"$f":"SUM(I$2:I339)","v":1.000000000000002},"",{"$f":"SUM(K340:K$502)","v":0},1.000000000000002]
[{"$nulls":6},338,"","",{"$f":"SUM(I$2:I340)","v":1.000000000000002},"",{"$f":"SUM(K341:K$502)","v":0},1.000000000000002]
[{"$nulls":6},339,"","",{"$f":"SUM(I$2:I341)","v":1.000000000000002},"",{"$f":"SUM(K342:K$502)","v":0},1.000000000000002]
[{"$nulls":6},340,"","",{"$f":"SUM(I$2:I342)","v":1.000000000000002},"",{"$f":"SUM(K343:K$502)","v":0},1.000000000000002]
[{"$nulls":6},341,"","",{"$f":"SUM(I$2:I343)","v":1.000000000000002},"",{"$f":"SUM(K344:K$502)","v":0},1.000000000000002]
[{"$nulls":6},342,"","",{"$f":"SUM(I$2:I344)","v":1.000000000000002},"",{"$f":"SUM(K345:K$502)","v":0},1.000000000000002]
[{"$nulls":6},343,"","",{"$f":"SUM(I$2:I345)","v":1.000000000000002},"",{"$f":"SUM(K346:K$502)","v":0},1.000000000000002]
[{"$nulls":6},344,"","",{"$f":"SUM(I$2:I346)","v":1.000000000000002},"",{"$f":"SUM(K347:K$502)","v":0},1.000000000000002]
[{"$nulls":6},345,"","",{"$f":"SUM(I$2:I347)","v":1.000000000000002},"",{"$f":"SUM(K348:K$502)","v":0},1.000000000000002]
[{"$nulls":6},346,"","",{"$f":"SUM(I$2:I348)","v":1.000000000000002},"",{"$f":"SUM(K349:K$502)","v":0},1.000000000000002]
[{"$nulls":6},347,"","",{"$f":"SUM(I$2:I349)","v":1.000000000000002},"",{"$f":"SUM(K350:K$502)","v":0},1.000000000000002]
[{"$nulls":6},348,"","",{"$f":"SUM(I$2:I350)","v":1.000000000000002},"",{"$f":"SUM(K351:K$502)","v":0},1.000000000000002]
[{"$nulls":6},349,"","",{"$f":"SUM(I$2:I351)","v":1.000000000000002},"",{"$f":"SUM(K352:K$502)","v":0},1.000000000000002]
[{"$nulls":6},350,"","",{"$f":"SUM(I$2:I352)","v":1.000000000000002},"",{"$f":"SUM(K353:K$502)","v":0},1.000000000000002]
[{"$nulls":6},351,"","",{"$f":"SUM(I$2:I353)","v":1.000000000000002},"",{"$f":"SUM(K354:K$502)","v":0},1.000000000000002]
[{"$nulls":6},352,"","",{"$f":"SUM(I$2:I354)","v":1.000000000000002},"",{"$f":"SUM(K355:K$502)","v":0},1.000000000000002]
[{"$nulls":6},353,"","",{"$f":"SUM(I$2:I355)","v":1.000000000000002},"",{"$f":"SUM(K356:K$502)","v":0},1.000000000000002]
[{"$nulls":6},354,"","",{"$f":"SUM(I$2:I356)","v":1.000000000000002},"",{"$f":"SUM(K357:K$502)","v":0},1.000000000000002]
[{"$nulls":6},355,"","",{"$f":"SUM(I$2:I357)","v":1.000000000000002},"",{"$f":"SUM(K358:K$502)","v":0},1.000000000000002]
[{"$nulls":6},356,"","",{"$f":"SUM(I$2:I358)","v":1.000000000000002},"",{"$f":"SUM(K359:K$502)","v":0},1.000000000000002]
[{"$nulls":6},357,"","",{"$f":"SUM(I$2:I359)","v":1.000000000000002},"",{"$f":"SUM(K360:K$502)","v":0},1.000000000000002]
[{"$nulls":6},358,"","",{"$f":"SUM(I$2:I360)","v":1.000000000000002},"",{"$f":"SUM(K361:K$502)","v":0},1.000000000000002]
[{"$nulls":6},359,"","",{"$f":"SUM(I$2:I361)","v":1.000000000000002},"",{"$f":"SUM(K362:K$502)","v":0},1.000000000000002]
[{"$nulls":6},360,"","",{"$f":"SUM(I$2:I362)","v":1.000000000000002},"",{"$f":"SUM(K363:K$502)","v":0},1.000000000000002]
[{"$nulls":6},361,"","",{"$f":"SUM(I$2:I363)","v":1.000000000000002},"",{"$f":"SUM(K364:K$502)","v":0},1.000000000000002]
[{"$nulls":6},362,"","",{"$f":"SUM(I$2:I364)","v":1.000000000000002},"",{"$f":"SUM(K365:K$502)","v":0},1.000000000000002]
[{"$nulls":6},363,"","",{"$f":"SUM(I$2:I365)","v":1.000000000000002},"",{"$f":"SUM(K366:K$502)","v":0},1.000000000000002]
[{"$nulls":6},364,"","",{"$f":"SUM(I$2:I366)","v":1.000000000000002},"",{"$f":"SUM(K367:K$502)","v":0},1.000000000000002]
[{"$nulls":6},365,"","",{"$f":"SUM(I$2:I367)","v":1.000000000000002},"",{"$f":"SUM(K368:K$502)","v":0},1.000000000000002]
[{"$nulls":6},366,"","",{"$f":"SUM(I$2:I368)","v":1.000000000000002},"",{"$f":"SUM(K369:K$502)","v":0},1.000000000000002]
[{"$nulls":6},367,"","",{"$f":"SUM(I$2:I369)","v":1.000000000000002},"",{"$f":"SUM(K370:K$502)","v":0},1.000000000000002]
[{"$nulls":6},368,"","",{"$f":"SUM(I$2:I370)","v":1.000000000000002},"",{"$f":"SUM(K371:K$502)","v":0},1.000000000000002]
[{"$nulls":6},369,"","",{"$f":"SUM(I$2:I371)","v":1.000000000000002},"",{"$f":"SUM(K372:K$502)","v":0},1.000000000000002]
[{"$nulls":6},370,"","",{"$f":"SUM(I$2:I372)","v":1.000000000000002},"",{"$f":"SUM(K373:K$502)","v":0},1.000000000000002]
[{"$nulls":6},371,"","",{"$f":"SUM(I$2:I373)","v":1.000000000000002},"",{"$f":"SUM(K374:K$502)","v":0},1.000000000000002]
[{"$nulls":6},372,"","",{"$f":"SUM(I$2:I374)","v":1.000000000000002},"",{"$f":"SUM(K375:K$502)","v":0},1.000000000000002]
[{"$nulls":6},373,"","",{"$f":"SUM(I$2:I375)","v":1.000000000000002},"",{"$f":"SUM(K376:K$502)","v":0},1.000000000000002]
[{"$nulls":6},374,"","",{"$f":"SUM(I$2:I376)","v":1.000000000000002},"",{"$f":"SUM(K377:K$502)","v":0},1.000000000000002]
[{"$nulls":6},375,"","",{"$f":"SUM(I$2:I377)","v":1.000000000000002},"",{"$f":"SUM(K378:K$502)","v":0},1.000000000000002]
[{"$nulls":6},376,"","",{"$f":"SUM(I$2:I378)","v":1.000000000000002},"",{"$f":"SUM(K379:K$502)","v":0},1.000000000000002]
[{"$nulls":6},377,"","",{"$f":"SUM(I$2:I379)","v":1.000000000000002},"",{"$f":"SUM(K380:K$502)","v":0},1.000000000000002]
[{"$nulls":6},378,"","",{"$f":"SUM(I$2:I380)","v":1.000000000000002},"",{"$f":"SUM(K381:K$502)","v":0},1.000000000000002]
[{"$nulls":6},379,"","",{"$f":"SUM(I$2:I381)","v":1.000000000000002},"",{"$f":"SUM(K382:K$502)","v":0},1.000000000000002]
[{"$nulls":6},380,"","",{"$f":"SUM(I$2:I382)","v":1.000000000000002},"",{"$f":"SUM(K383:K$502)","v":0},1.000000000000002]
[{"$nulls":6},381,"","",{"$f":"SUM(I$2:I383)","v":1.000000000000002},"",{"$f":"SUM(K384:K$502)","v":0},1.000000000000002]
[{"$nulls":6},382,"","",{"$f":"SUM(I$2:I384)","v":1.000000000000002},"",{"$f":"SUM(K385:K$502)","v":0},1.000000000000002]
[{"$nulls":6},383,"","",{"$f":"SUM(I$2:I385)","v":1.000000000000002},"",{"$f":"SUM(K386:K$502)","v":0},1.000000000000002]
[{"$nulls":6},384,"","",{"$f":"SUM(I$2:I386)","v":1.000000000000002},{"$f":"IF(ISERROR(H386*(C$3)^G386*(1-C$3)^(A$3-G386))=TRUE,\"\",H386*(C$3)^G386*(1-C$3)^(A$3-G386))","v":""},{"$f":"SUM(K387:K$502)","v":0},1.000000000000002]
[{"$nulls":6},385,{"$f":"IF(ISERROR(COMBIN(A$3,A$3-ROW()+2)),\"\",COMBIN(A$3,A$3-ROW()+2))","v":""},{"$f":"IF(ISERROR(H387*B$3^G387*(1-B$3)^(A$3-G387))=TRUE,\"\",H387*B$3^G387*(1-B$3)^(A$3-G387))","v":""},{"$f":"SUM(I$2:I387)","v":1.000000000000002},"",{"$f":"SUM(K388:K$502)","v":0},{"$f":"L387+J387","v":1.000000000000002}]
[{"$nulls":6},386,"","",{"$f":"SUM(I$2:I388)","v":1.000000000000002},"",{"$f":"SUM(K389:K$502)","v":0},1.000000000000002]
[{"$nulls":6},387,"","",{"$f":"SUM(I$2:I389)","v":1.000000000000002},"",{"$f":"SUM(K390:K$502)","v":0},1.000000000000002]
[{"$nulls":6},388,"","",{"$f":"SUM(I$2:I390)","v":1.000000000000002},"",{"$f":"SUM(K391:K$502)","v":0},1.000000000000002]
[{"$nulls":6},389,"","",{"$f":"SUM(I$2:I391)","v":1.000000000000002},"",{"$f":"SUM(K392:K$502)","v":0},1.000000000000002]
[{"$nulls":6},390,"","",{"$f":"SUM(I$2:I392)","v":1.000000000000002},"",{"$f":"SUM(K393:K$502)","v":0},1.000000000000002]
[{"$nulls":6},391,"","",{"$f":"SUM(I$2:I393)","v":1.000000000000002},"",{"$f":"SUM(K394:K$502)","v":0},1.000000000000002]
[{"$nulls":6},392,"","",{"$f":"SUM(I$2:I394)","v":1.000000000000002},"",{"$f":"SUM(K395:K$502)","v":0},1.000000000000002]
[{"$nulls":6},393,"","",{"$f":"SUM(I$2:I395)","v":1.000000000000002},"",{"$f":"SUM(K396:K$502)","v":0},1.000000000000002]
[{"$nulls":6},394,"","",{"$f":"SUM(I$2:I396)","v":1.000000000000002},"",{"$f":"SUM(K397:K$502)","v":0},1.000000000000002]
[{"$nulls":6},395,"","",{"$f":"SUM(I$2:I397)","v":1.000000000000002},"",{"$f":"SUM(K398:K$502)","v":0},1.000000000000002]
[{"$nulls":6},396,"","",{"$f":"SUM(I$2:I398)","v":1.000000000000002},"",{"$f":"SUM(K399:K$502)","v":0},1.000000000000002]
[{"$nulls":6},397,"","",{"$f":"SUM(I$2:I399)","v":1.000000000000002},"",{"$f":"SUM(K400:K$502)","v":0},1.000000000000002]
[{"$nulls":6},398,"","",{"$f":"SUM(I$2:I400)","v":1.000000000000002},"",{"$f":"SUM(K401:K$502)","v":0},1.000000000000002]
[{"$nulls":6},399,"","",{"$f":"SUM(I$2:I401)","v":1.000000000000002},"",{"$f":"SUM(K402:K$502)","v":0},1.000000000000002]
[{"$nulls":6},400,"","",{"$f":"SUM(I$2:I402)","v":1.000000000000002},"",{"$f":"SUM(K403:K$502)","v":0},1.000000000000002]
[{"$nulls":6},401,"","",{"$f":"SUM(I$2:I403)","v":1.000000000000002},"",{"$f":"SUM(K404:K$502)","v":0},1.000000000000002]
[{"$nulls":6},402,"","",{"$f":"SUM(I$2:I404)","v":1.000000000000002},"",{"$f":"SUM(K405:K$502)","v":0},1.000000000000002]
[{"$nulls":6},403,"","",{"$f":"SUM(I$2:I405)","v":1.000000000000002},"",{"$f":"SUM(K406:K$502)","v":0},1.000000000000002]
[{"$nulls":6},404,"","",{"$f":"SUM(I$2:I406)","v":1.000000000000002},"",{"$f":"SUM(K407:K$502)","v":0},1.000000000000002]
[{"$nulls":6},405,"","",{"$f":"SUM(I$2:I407)","v":1.000000000000002},"",{"$f":"SUM(K408:K$502)","v":0},1.000000000000002]
[{"$nulls":6},406,"","",{"$f":"SUM(I$2:I408)","v":1.000000000000002},"",{"$f":"SUM(K409:K$502)","v":0},1.000000000000002]
[{"$nulls":6},407,"","",{"$f":"SUM(I$2:I409)","v":1.000000000000002},"",{"$f":"SUM(K410:K$502)","v":0},1.000000000000002]
[{"$nulls":6},408,"","",{"$f":"SUM(I$2:I410)","v":1.000000000000002},"",{"$f":"SUM(K411:K$502)","v":0},1.000000000000002]
[{"$nulls":6},409,"","",{"$f":"SUM(I$2:I411)","v":1.000000000000002},"",{"$f":"SUM(K412:K$502)","v":0},1.000000000000002]
[{"$nulls":6},410,"","",{"$f":"SUM(I$2:I412)","v":1.000000000000002},"",{"$f":"SUM(K413:K$502)","v":0},1.000000000000002]
[{"$nulls":6},411,"","",{"$f":"SUM(I$2:I413)","v":1.000000000000002},"",{"$f":"SUM(K414:K$502)","v":0},1.000000000000002]
[{"$nulls":6},412,"","",{"$f":"SUM(I$2:I414)","v":1.000000000000002},"",{"$f":"SUM(K415:K$502)","v":0},1.000000000000002]
[{"$nulls":6},413,"","",{"$f":"SUM(I$2:I415)","v":1.000000000000002},"",{"$f":"SUM(K416:K$502)","v":0},1.000000000000002]
[{"$nulls":6},414,"","",{"$f":"SUM(I$2:I416)","v":1.000000000000002},"",{"$f":"SUM(K417:K$502)","v":0},1.000000000000002]
[{"$nulls":6},415,"","",{"$f":"SUM(I$2:I417)","v":1.000000000000002},"",{"$f":"SUM(K418:K$502)","v":0},1.000000000000002]
[{"$nulls":6},416,"","",{"$f":"SUM(I$2:I418)","v":1.000000000000002},"",{"$f":"SUM(K419:K$502)","v":0},1.000000000000002]
[{"$nulls":6},417,"","",{"$f":"SUM(I$2:I419)","v":1.000000000000002},"",{"$f":"SUM(K420:K$502)","v":0},1.000000000000002]
[{"$nulls":6},418,"","",{"$f":"SUM(I$2:I420)","v":1.000000000000002},"",{"$f":"SUM(K421:K$502)","v":0},1.000000000000002]
[{"$nulls":6},419,"","",{"$f":"SUM(I$2:I421)","v":1.000000000000002},"",{"$f":"SUM(K422:K$502)","v":0},1.000000000000002]
[{"$nulls":6},420,"","",{"$f":"SUM(I$2:I422)","v":1.000000000000002},"",{"$f":"SUM(K423:K$502)","v":0},1.000000000000002]
[{"$nulls":6},421,"","",{"$f":"SUM(I$2:I423)","v":1.000000000000002},"",{"$f":"SUM(K424:K$502)","v":0},1.000000000000002]
[{"$nulls":6},422,"","",{"$f":"SUM(I$2:I424)","v":1.000000000000002},"",{"$f":"SUM(K425:K$502)","v":0},1.000000000000002]
[{"$nulls":6},423,"","",{"$f":"SUM(I$2:I425)","v":1.000000000000002},"",{"$f":"SUM(K426:K$502)","v":0},1.000000000000002]
[{"$nulls":6},424,"","",{"$f":"SUM(I$2:I426)","v":1.000000000000002},"",{"$f":"SUM(K427:K$502)","v":0},1.000000000000002]
[{"$nulls":6},425,"","",{"$f":"SUM(I$2:I427)","v":1.000000000000002},"",{"$f":"SUM(K428:K$502)","v":0},1.000000000000002]
[{"$nulls":6},426,"","",{"$f":"SUM(I$2:I428)","v":1.000000000000002},"",{"$f":"SUM(K429:K$502)","v":0},1.000000000000002]
[{"$nulls":6},427,"","",{"$f":"SUM(I$2:I429)","v":1.000000000000002},"",{"$f":"SUM(K430:K$502)","v":0},1.000000000000002]
[{"$nulls":6},428,"","",{"$f":"SUM(I$2:I430)","v":1.000000000000002},"",{"$f":"SUM(K431:K$502)","v":0},1.000000000000002]
[{"$nulls":6},429,"","",{"$f":"SUM(I$2:I431)","v":1.000000000000002},"",{"$f":"SUM(K432:K$502)","v":0},1.000000000000002]
[{"$nulls":6},430,"","",{"$f":"SUM(I$2:I432)","v":1.000000000000002},"",{"$f":"SUM(K433:K$502)","v":0},1.000000000000002]
[{"$nulls":6},431,"","",{"$f":"SUM(I$2:I433)","v":1.000000000000002},"",{"$f":"SUM(K434:K$502)","v":0},1.000000000000002]
[{"$nulls":6},432,"","",{"$f":"SUM(I$2:I434)","v":1.000000000000002},"",{"$f":"SUM(K435:K$502)","v":0},1.000000000000002]
[{"$nulls":6},433,"","",{"$f":"SUM(I$2:I435)","v":1.000000000000002},"",{"$f":"SUM(K436:K$502)","v":0},1.000000000000002]
[{"$nulls":6},434,"","",{"$f":"SUM(I$2:I436)","v":1.000000000000002},"",{"$f":"SUM(K437:K$502)","v":0},1.000000000000002]
[{"$nulls":6},435,"","",{"$f":"SUM(I$2:I437)","v":1.000000000000002},"",{"$f":"SUM(K438:K$502)","v":0},1.000000000000002]
[{"$nulls":6},436,"","",{"$f":"SUM(I$2:I438)","v":1.000000000000002},"",{"$f":"SUM(K439:K$502)","v":0},1.000000000000002]
[{"$nulls":6},437,"","",{"$f":"SUM(I$2:I439)","v":1.000000000000002},"",{"$f":"SUM(K440:K$502)","v":0},1.000000000000002]
[{"$nulls":6},438,"","",{"$f":"SUM(I$2:I440)","v":1.000000000000002},"",{"$f":"SUM(K441:K$502)","v":0},1.000000000000002]
[{"$nulls":6},439,"","",{"$f":"SUM(I$2:I441)","v":1.000000000000002},"",{"$f":"SUM(K442:K$502)","v":0},1.000000000000002]
[{"$nulls":6},440,"","",{"$f":"SUM(I$2:I442)","v":1.000000000000002},"",{"$f":"SUM(K443:K$502)","v":0},1.000000000000002]
[{"$nulls":6},441,"","",{"$f":"SUM(I$2:I443)","v":1.000000000000002},"",{"$f":"SUM(K444:K$502)","v":0},1.000000000000002]
[{"$nulls":6},442,"","",{"$f":"SUM(I$2:I444)","v":1.000000000000002},"",{"$f":"SUM(K445:K$502)","v":0},1.000000000000002]
[{"$nulls":6},443,"","",{"$f":"SUM(I$2:I445)","v":1.000000000000002},"",{"$f":"SUM(K446:K$502)","v":0},1.000000000000002]
[{"$nulls":6},444,"","",{"$f":"SUM(I$2:I446)","v":1.000000000000002},"",{"$f":"SUM(K447:K$502)","v":0},1.000000000000002]
[{"$nulls":6},445,"","",{"$f":"SUM(I$2:I447)","v":1.000000000000002},"",{"$f":"SUM(K448:K$502)","v":0},1.000000000000002]
[{"$nulls":6},446,"","",{"$f":"SUM(I$2:I448)","v":1.000000000000002},"",{"$f":"SUM(K449:K$502)","v":0},1.000000000000002]
[{"$nulls":6},447,"","",{"$f":"SUM(I$2:I449)","v":1.000000000000002},"",{"$f":"SUM(K450:K$502)","v":0},1.000000000000002]
[{"$nulls":6},448,"","",{"$f":"SUM(I$2:I450)","v":1.000000000000002},{"$f":"IF(ISERROR(H450*(C$3)^G450*(1-C$3)^(A$3-G450))=TRUE,\"\",H450*(C$3)^G450*(1-C$3)^(A$3-G450))","v":""},{"$f":"SUM(K451:K$502)","v":0},1.000000000000002]
[{"$nulls":6},449,{"$f":"IF(ISERROR(COMBIN(A$3,A$3-ROW()+2)),\"\",COMBIN(A$3,A$3-ROW()+2))","v":""},{"$f":"IF(ISERROR(H451*B$3^G451*(1-B$3)^(A$3-G451))=TRUE,\"\",H451*B$3^G451*(1-B$3)^(A$3-G451))","v":""},{"$f":"SUM(I$2:I451)","v":1.000000000000002},"",{"$f":"SUM(K452:K$502)","v":0},{"$f":"L451+J451","v":1.000000000000002}]
[{"$nulls":6},450,"","",{"$f":"SUM(I$2:I452)","v":1.000000000000002},"",{"$f":"SUM(K453:K$502)","v":0},1.000000000000002]
[{"$nulls":6},451,"","",{"$f":"SUM(I$2:I453)","v":1.000000000000002},"",{"$f":"SUM(K454:K$502)","v":0},1.000000000000002]
[{"$nulls":6},452,"","",{"$f":"SUM(I$2:I454)","v":1.000000000000002},"",{"$f":"SUM(K455:K$502)","v":0},1.000000000000002]
[{"$nulls":6},453,"","",{"$f":"SUM(I$2:I455)","v":1.000000000000002},"",{"$f":"SUM(K456:K$502)","v":0},1.000000000000002]
[{"$nulls":6},454,"","",{"$f":"SUM(I$2:I456)","v":1.000000000000002},"",{"$f":"SUM(K457:K$502)","v":0},1.000000000000002]
[{"$nulls":6},455,"","",{"$f":"SUM(I$2:I457)","v":1.000000000000002},"",{"$f":"SUM(K458:K$502)","v":0},1.000000000000002]
[{"$nulls":6},456,"","",{"$f":"SUM(I$2:I458)","v":1.000000000000002},"",{"$f":"SUM(K459:K$502)","v":0},1.000000000000002]
[{"$nulls":6},457,"","",{"$f":"SUM(I$2:I459)","v":1.000000000000002},"",{"$f":"SUM(K460:K$502)","v":0},1.000000000000002]
[{"$nulls":6},458,"","",{"$f":"SUM(I$2:I460)","v":1.000000000000002},"",{"$f":"SUM(K461:K$502)","v":0},1.000000000000002]
[{"$nulls":6},459,"","",{"$f":"SUM(I$2:I461)","v":1.000000000000002},"",{"$f":"SUM(K462:K$502)","v":0},1.000000000000002]
[{"$nulls":6},460,"","",{"$f":"SUM(I$2:I462)","v":1.000000000000002},"",{"$f":"SUM(K463:K$502)","v":0},1.000000000000002]
[{"$nulls":6},461,"","",{"$f":"SUM(I$2:I463)","v":1.000000000000002},"",{"$f":"SUM(K464:K$502)","v":0},1.000000000000002]
[{"$nulls":6},462,"","",{"$f":"SUM(I$2:I464)","v":1.000000000000002},"",{"$f":"SUM(K465:K$502)","v":0},1.000000000000002]
[{"$nulls":6},463,"","",{"$f":"SUM(I$2:I465)","v":1.000000000000002},"",{"$f":"SUM(K466:K$502)","v":0},1.000000000000002]
[{"$nulls":6},464,"","",{"$f":"SUM(I$2:I466)","v":1.000000000000002},"",{"$f":"SUM(K467:K$502)","v":0},1.000000000000002]
[{"$nulls":6},465,"","",{"$f":"SUM(I$2:I467)","v":1.000000000000002},"",{"$f":"SUM(K468:K$502)","v":0},1.000000000000002]
[{"$nulls":6},466,"","",{"$f":"SUM(I$2:I468)","v":1.000000000000002},"",{"$f":"SUM(K469:K$502)","v":0},1.000000000000002]
[{"$nulls":6},467,"","",{"$f":"SUM(I$2:I469)","v":1.000000000000002},"",{"$f":"SUM(K470:K$502)","v":0},1.000000000000002]
[{"$nulls":6},468,"","",{"$f":"SUM(I$2:I470)","v":1.000000000000002},"",{"$f":"SUM(K471:K$502)","v":0},1.000000000000002]
[{"$nulls":6},469,"","",{"$f":"SUM(I$2:I471)","v":1.000000000000002},"",{"$f":"SUM(K472:K$502)","v":0},1.000000000000002]
[{"$nulls":6},470,"","",{"$f":"SUM(I$2:I472)","v":1.000000000000002},"",{"$f":"SUM(K473:K$502)","v":0},1.000000000000002]
[{"$nulls":6},471,"","",{"$f":"SUM(I$2:I473)","v":1.000000000000002},"",{"$f":"SUM(K474:K$502)","v":0},1.000000000000002]
[{"$nulls":6},472,"","",{"$f":"SUM(I$2:I474)","v":1.000000000000002},"",{"$f":"SUM(K475:K$502)","v":0},1.000000000000002]
[{"$nulls":6},473,"","",{"$f":"SUM(I$2:I475)","v":1.000000000000002},"",{"$f":"SUM(K476:K$502)","v":0},1.000000000000002]
[{"$nulls":6},474,"","",{"$f":"SUM(I$2:I476)","v":1.000000000000002},"",{"$f":"SUM(K477:K$502)","v":0},1.000000000000002]
[{"$nulls":6},475,"","",{"$f":"SUM(I$2:I477)","v":1.000000000000002},"",{"$f":"SUM(K478:K$502)","v":0},1.000000000000002]
[{"$nulls":6},476,"","",{"$f":"SUM(I$2:I478)","v":1.000000000000002},"",{"$f":"SUM(K479:K$502)","v":0},1.000000000000002]
[{"$nulls":6},477,"","",{"$f":"SUM(I$2:I479)","v":1.000000000000002},"",{"$f":"SUM(K480:K$502)","v":0},1.000000000000002]
[{"$nulls":6},478,"","",{"$f":"SUM(I$2:I480)","v":1.000000000000002},"",{"$f":"SUM(K481:K$502)","v":0},1.000000000000002]
[{"$nulls":6},479,"","",{"$f":"SUM(I$2:I481)","v":1.000000000000002},"",{"$f":"SUM(K482:K$502)","v":0},1.000000000000002]
[{"$nulls":6},480,"","",{"$f":"SUM(I$2:I482)","v":1.000000000000002},"",{"$f":"SUM(K483:K$502)","v":0},1.000000000000002]
[{"$nulls":6},481,"","",{"$f":"SUM(I$2:I483)","v":1.000000000000002},"",{"$f":"SUM(K484:K$502)","v":0},1.000000000000002]
[{"$nulls":6},482,"","",{"$f":"SUM(I$2:I484)","v":1.000000000000002},"",{"$f":"SUM(K485:K$502)","v":0},1.000000000000002]
[{"$nulls":6},483,"","",{"$f":"SUM(I$2:I485)","v":1.000000000000002},"",{"$f":"SUM(K486:K$502)","v":0},1.000000000000002]
[{"$nulls":6},484,"","",{"$f":"SUM(I$2:I486)","v":1.000000000000002},"",{"$f":"SUM(K487:K$502)","v":0},1.000000000000002]
[{"$nulls":6},485,"","",{"$f":"SUM(I$2:I487)","v":1.000000000000002},"",{"$f":"SUM(K488:K$502)","v":0},1.000000000000002]
[{"$nulls":6},486,"","",{"$f":"SUM(I$2:I488)","v":1.000000000000002},"",{"$f":"SUM(K489:K$502)","v":0},1.000000000000002]
[{"$nulls":6},487,"","",{"$f":"SUM(I$2:I489)","v":1.000000000000002},"",{"$f":"SUM(K490:K$502)","v":0},1.000000000000002]
[{"$nulls":6},488,"","",{"$f":"SUM(I$2:I490)","v":1.000000000000002},"",{"$f":"SUM(K491:K$502)","v":0},1.000000000000002]
[{"$nulls":6},489,"","",{"$f":"SUM(I$2:I491)","v":1.000000000000002},"",{"$f":"SUM(K492:K$502)","v":0},1.000000000000002]
[{"$nulls":6},490,"","",{"$f":"SUM(I$2:I492)","v":1.000000000000002},"",{"$f":"SUM(K493:K$502)","v":0},1.000000000000002]
[{"$nulls":6},491,"","",{"$f":"SUM(I$2:I493)","v":1.000000000000002},"",{"$f":"SUM(K494:K$502)","v":0},1.000000000000002]
[{"$nulls":6},492,"","",{"$f":"SUM(I$2:I494)","v":1.000000000000002},"",{"$f":"SUM(K495:K$502)","v":0},1.000000000000002]
[{"$nulls":6},493,"","",{"$f":"SUM(I$2:I495)","v":1.000000000000002},"",{"$f":"SUM(K496:K$502)","v":0},1.000000000000002]
[{"$nulls":6},494,"","",{"$f":"SUM(I$2:I496)","v":1.000000000000002},"",{"$f":"SUM(K497:K$502)","v":0},1.000000000000002]
[{"$nulls":6},495,"","",{"$f":"SUM(I$2:I497)","v":1.000000000000002},"",{"$f":"SUM(K498:K$502)","v":0},1.000000000000002]
[{"$nulls":6},496,"","",{"$f":"SUM(I$2:I498)","v":1.000000000000002},"",{"$f":"SUM(K499:K$502)","v":0},1.000000000000002]
[{"$nulls":6},497,"","",{"$f":"SUM(I$2:I499)","v":1.000000000000002},"",{"$f":"SUM(K500:K$502)","v":0},1.000000000000002]
[{"$nulls":6},498,"","",{"$f":"SUM(I$2:I500)","v":1.000000000000002},"",{"$f":"SUM(K501:K$502)","v":0},1.000000000000002]
[{"$nulls":6},499,"","",{"$f":"SUM(I$2:I501)","v":1.000000000000002},"",{"$f":"SUM(K502:K$502)","v":0},1.000000000000002]
[{"$nulls":6},500,"","",{"$f":"SUM(I$2:I502)","v":1.000000000000002},"",{"$f":"SUM(K$502:K503)","v":0},1.000000000000002]

{"sheet":"SummarySheet","index":1,"n_rows":5,"n_cols":4,"rows_kept":5}
["Test the hypothesis that true putting percentage is",{"$f":"Sheet1!B3","v":{"v":0.95,"d":"95%"}}]
["Test Procedure: Attempt",{"$f":"Sheet1!A3","v":50},"putts"]
["Reject the hypothesis if you make",{"$f":"Sheet1!D3","v":45},"or fewer putts"]
["The probability of erroneously rejecting the hypothesis using this testing procedure is",{"$f":"Sheet1!F3","v":{"v":0.103616810144144,"d":"10.4%"}}]
["The probability of erroneously accepting the hypothesis using this testing procedure is",{"$f":"Sheet1!E3","v":{"v":0.11210520805497706,"d":"11.2%"}},"if your true putting percentage is",{"$f":"Sheet1!C3","v":{"v":0.85,"d":"85.0%"}}]